{"text_format":"2","workbook":"xlsx","n_sheets":12,"sheets":["运维统计","2月","3月","4月","5月","6月","7月","8月","9月","10月","11月","12月"],"not_rendered":{"charts":0,"images":0,"macros":0,"external_links":0,"defined_names":15,"comments":0,"pivot_tables":0},"unopened":[],"bounds":{"document_bytes":16777216,"sheet_cells":100000,"run_cost":"one","rows_first":2000,"rows_last":500,"rows_between":2000,"halvings":0,"cell_chars":16384,"cell_head_chars":4096},"cells_cut":0,"cells_raw":0,"read":"whole","date_system":"1900"}

{"sheet":"运维统计","index":0,"n_rows":14,"n_cols":113,"rows_kept":14,"cut":false,"hidden":false,"merged":[]}
[0,1,2,3,4,5,6,7,8,9,10,11,12,13,14,15,16,17,18,19,20,21,22,23,24,25,26,27,28,29,30,31,32,33,34,35,36,37,38,39,40,41,42,43,44,45,46,47,48,49,50,51,52,53,54,55,56,57,58,59,60,61,62,63,64,65,66,67,68,69,70,71,72,73,74,75,76,77,78,79,80,81,82,83,84,85,86,87,88,89,90,91,92,93,94,95,96,97,98,99,100,101,102,103,104,105,106,107,108,109,110,111,112]
[null,"更换信号灯（组）","信号灯型号（备注）","更换步道灯（组）","更换信号灯杆（根）","更换步道灯杆（根）","更换灯板（400*400块）","更换灯板（300块）","更换电源线3*4（m)","更换控制线缆5*1.5（m)","更换蓄电池（块）","更换灯围（个）","更换灯罩（个）","更换保险（个/组）","更换变压器（24v15w）（个）","更换变压器（24v11w）（个）","更换变压器（15v15w）（个）","更换太阳能模块（个）","更换天线（根）","更换过充过放（个）","更换信号机（台）","更换太阳能信号灯从机（台）","更换锁具（套）","安装手孔盖（个）","调整行车灯（套）","基本路口信号优化（处）","信号实时优化（处）","主干道绿波优化（处）","关闭信号机机箱门（个）","更换太阳能信号机主机（台）","更换信号机机箱（套）","调整标志牌（套）","拆除灯具（组）","更换太阳能晒板（块）","拆除标志牌（套）","关闭灯头（个）","更换漏电（个）","安装标志牌（套）","确认灯杆被撞（次）","安（拆）倒计时（块）","安装电表箱（个）","拆除探头线（处）","调整步道灯（处）","修剪树枝（处）","擦拭灯具（组）","更换太阳能信号机主板（块）","安装灯条（组）","安装太阳能晒板（块）","安装护栏（组）","调整灯线电源线接地线（次）","更换井盖（个）","更换相位板（块）","更换被撞灯杆（根）","放发电机应急保障(ex2500cx)（台）","发电机台班","放置临时信号灯应急保障（台）","临时信号灯台班","临时停电应急保障（次）","临时停电台班","维修太阳能信号接收器（套）","合闸","恢复信号灯检查井（次）","拆除灯杆（根）","基础施工（次）","加固机箱（台）","修复灯部件（个）","机箱部件更换修复（个）","清除小广告（个）","喷涂（次）","安装更换检查孔（个）","井盖调整修复（次）","系统校时(次）","两米接地签字（根）","扁铁（一根4米）","螺丝（套）","关闭电表箱窗户（次）","维修手孔井（套）","更换220转24电源（块）","灯杆漆面反光膜翻新（根）","安装黄闪灯（套）","更换黄闪灯（套）","热熔标线画线（次）","更换转换器（24v）（个）","抱箍（套）","调整太阳能板（次）","关闭喇叭（次）","更换空开（个）","更换线缆（2*6）m","更换太阳能接触器（个）","更换临时信号机（台）","小电瓶（个）","调整灯杆（根）","拆除黄闪（个）","拆除黄闪灯杆（根）","机箱被撞（次）","其他","拆除线缆（米）","热熔标线（实线）平米","电缆直埋保护管PE管（米）","更换变压器（12w）（个）","手动控制板恢复（个）","拆除机箱（个）","拆除信号机（个）","新立灯杆（个）","拆除标志杆（根）","安装标志杆（根）","更换非机动车灯板（个）","更换灯眉（个)","热熔标线网格线（平米）","更换左转箭头灯（个）","更换机箱门（个）","高端联网智能交通信号机（台）","高端联网智能交通信号机箱（台）"]
["2月",{"$f":"'2月'!E67","v":8},{"$f":"'2月'!F67","v":0},{"$f":"'2月'!G67","v":2},{"$f":"'2月'!H67","v":0},{"$f":"'2月'!I67","v":0},{"$f":"'2月'!J67","v":13},{"$f":"'2月'!K67","v":6},{"$f":"'2月'!L67","v":419},{"$f":"'2月'!M67","v":1129},{"$f":"'2月'!N67","v":24},{"$f":"'2月'!O67","v":2},{"$f":"'2月'!P67","v":0},{"$f":"'2月'!Q67","v":0},{"$f":"'2月'!R67","v":0},{"$f":"'2月'!S67","v":0},{"$f":"'2月'!T67","v":0},{"$f":"'2月'!U67","v":0},{"$f":"'2月'!V67","v":7},{"$f":"'2月'!W67","v":6},{"$f":"'2月'!X67","v":12},{"$f":"'2月'!Y67","v":2},{"$f":"'2月'!Z67","v":1},{"$f":"'2月'!AA67","v":0},{"$f":"'2月'!AB67","v":1},{"$f":"'2月'!AC67","v":1},{"$f":"'2月'!AD67","v":0},{"$f":"'2月'!AE67","v":0},{"$f":"'2月'!AF67","v":1},{"$f":"'2月'!AG67","v":0},{"$f":"'2月'!AH67","v":0},{"$f":"'2月'!AI67","v":3},{"$f":"'2月'!AJ67","v":0},{"$f":"'2月'!AK67","v":0},{"$f":"'2月'!AL67","v":3},{"$f":"'2月'!AM67","v":0},{"$f":"'2月'!AN67","v":0},{"$f":"'2月'!AO67","v":3},{"$f":"'2月'!AP67","v":1},{"$f":"'2月'!AQ67","v":0},{"$f":"'2月'!AR67","v":0},{"$f":"'2月'!AS67","v":0},{"$f":"'2月'!AT67","v":0},{"$f":"'2月'!AU67","v":0},{"$f":"'2月'!AV67","v":3},{"$f":"'2月'!AW67","v":0},{"$f":"'2月'!AX67","v":0},{"$f":"'2月'!AY67","v":0},{"$f":"'2月'!AZ67","v":0},{"$f":"'2月'!BA67","v":0},{"$f":"'2月'!BB67","v":0},{"$f":"'2月'!BC67","v":0},{"$f":"'2月'!BD67","v":0},{"$f":"'2月'!BE67","v":0},{"$f":"'2月'!BF67","v":1},{"$f":"'2月'!BG67","v":1},{"$f":"'2月'!BH67","v":1},{"$f":"'2月'!BI67","v":1},{"$f":"'2月'!BJ67","v":1},{"$f":"'2月'!BK67","v":0},{"$f":"'2月'!BL67","v":0},{"$f":"'2月'!BM67","v":0},{"$f":"'2月'!BN67","v":0},{"$f":"'2月'!BO67","v":0},{"$f":"'2月'!BP67","v":1},{"$f":"'2月'!BQ67","v":0},{"$f":"'2月'!BR67","v":0},{"$f":"'2月'!BS67","v":0},{"$f":"'2月'!BT67","v":0},{"$f":"'2月'!BU67","v":0},{"$f":"'2月'!BV67","v":0},{"$f":"'2月'!BW67","v":0},{"$f":"'2月'!BX67","v":0},{"$f":"'2月'!BY67","v":0},{"$f":"'2月'!BZ67","v":0},{"$f":"'2月'!CA67","v":0},{"$f":"'2月'!CB67","v":0},{"$f":"'2月'!CC67","v":0},{"$f":"'2月'!CD67","v":0},{"$f":"'2月'!CE67","v":1},{"$f":"'2月'!CF67","v":0},{"$f":"'2月'!CG67","v":0},{"$f":"'2月'!CH67","v":0},{"$f":"'2月'!CI67","v":0},{"$f":"'2月'!CJ67","v":0},{"$f":"'2月'!CK67","v":0},{"$f":"'2月'!CL67","v":3},{"$f":"'2月'!CM67","v":0},{"$f":"'2月'!CN67","v":0},{"$f":"'2月'!CO67","v":0},{"$f":"'2月'!CP67","v":0},{"$f":"'2月'!CQ67","v":0},{"$f":"'2月'!CR67","v":1},{"$f":"'2月'!CS67","v":0},{"$f":"'2月'!CT67","v":0},{"$f":"'2月'!CU67","v":0},{"$f":"'2月'!CV67","v":0},{"$f":"'2月'!CW67","v":0},{"$f":"'2月'!CX67","v":419},{"$f":"'2月'!CY67","v":0},{"$f":"'2月'!CZ67","v":0},{"$f":"'2月'!DA67","v":0},{"$f":"'2月'!DB67","v":0},{"$f":"'2月'!DC67","v":0},{"$f":"'2月'!DD67","v":0},{"$f":"'2月'!DE67","v":0},{"$f":"'2月'!DF67","v":0},{"$f":"'2月'!DG67","v":0},{"$f":"'2月'!DH67","v":0},{"$f":"'2月'!DI67","v":0},{"$f":"'2月'!DJ67","v":0},{"$f":"'2月'!DK67","v":0},{"$f":"'2月'!DL67","v":0}]
["3月",{"$f":"'3月'!E191","v":16},{"$f":"'3月'!F191","v":0},{"$f":"'3月'!G191","v":4},{"$f":"'3月'!H191","v":1},{"$f":"'3月'!I191","v":4},{"$f":"'3月'!J191","v":20},{"$f":"'3月'!K191","v":7},{"$f":"'3月'!L191","v":1598},{"$f":"'3月'!M191","v":3608},{"$f":"'3月'!N191","v":22},{"$f":"'3月'!O191","v":1},{"$f":"'3月'!P191","v":8},{"$f":"'3月'!Q191","v":6},{"$f":"'3月'!R191","v":0},{"$f":"'3月'!S191","v":0},{"$f":"'3月'!T191","v":0},{"$f":"'3月'!U191","v":0},{"$f":"'3月'!V191","v":5},{"$f":"'3月'!W191","v":7},{"$f":"'3月'!X191","v":13},{"$f":"'3月'!Y191","v":3},{"$f":"'3月'!Z191","v":1},{"$f":"'3月'!AA191","v":2},{"$f":"'3月'!AB191","v":14},{"$f":"'3月'!AC191","v":14},{"$f":"'3月'!AD191","v":0},{"$f":"'3月'!AE191","v":0},{"$f":"'3月'!AF191","v":2},{"$f":"'3月'!AG191","v":2},{"$f":"'3月'!AH191","v":0},{"$f":"'3月'!AI191","v":27},{"$f":"'3月'!AJ191","v":11},{"$f":"'3月'!AK191","v":1},{"$f":"'3月'!AL191","v":0},{"$f":"'3月'!AM191","v":1},{"$f":"'3月'!AN191","v":0},{"$f":"'3月'!AO191","v":12},{"$f":"'3月'!AP191","v":2},{"$f":"'3月'!AQ191","v":1},{"$f":"'3月'!AR191","v":0},{"$f":"'3月'!AS191","v":0},{"$f":"'3月'!AT191","v":4},{"$f":"'3月'!AU191","v":0},{"$f":"'3月'!AV191","v":0},{"$f":"'3月'!AW191","v":0},{"$f":"'3月'!AX191","v":0},{"$f":"'3月'!AY191","v":0},{"$f":"'3月'!AZ191","v":0},{"$f":"'3月'!BA191","v":1},{"$f":"'3月'!BB191","v":0},{"$f":"'3月'!BC191","v":0},{"$f":"'3月'!BD191","v":0},{"$f":"'3月'!BE191","v":2},{"$f":"'3月'!BF191","v":16},{"$f":"'3月'!BG191","v":6},{"$f":"'3月'!BH191","v":20},{"$f":"'3月'!BI191","v":20},{"$f":"'3月'!BJ191","v":20},{"$f":"'3月'!BK191","v":0},{"$f":"'3月'!BL191","v":12},{"$f":"'3月'!BM191","v":0},{"$f":"'3月'!BN191","v":6},{"$f":"'3月'!BO191","v":0},{"$f":"'3月'!BP191","v":0},{"$f":"'3月'!BQ191","v":0},{"$f":"'3月'!BR191","v":0},{"$f":"'3月'!BS191","v":0},{"$f":"'3月'!BT191","v":0},{"$f":"'3月'!BU191","v":0},{"$f":"'3月'!BV191","v":0},{"$f":"'3月'!BW191","v":0},{"$f":"'3月'!BX191","v":0},{"$f":"'3月'!BY191","v":0},{"$f":"'3月'!BZ191","v":0},{"$f":"'3月'!CA191","v":0},{"$f":"'3月'!CB191","v":0},{"$f":"'3月'!CC191","v":0},{"$f":"'3月'!CD191","v":0},{"$f":"'3月'!CE191","v":7},{"$f":"'3月'!CF191","v":1},{"$f":"'3月'!CG191","v":0},{"$f":"'3月'!CH191","v":0},{"$f":"'3月'!CI191","v":0},{"$f":"'3月'!CJ191","v":0},{"$f":"'3月'!CK191","v":2},{"$f":"'3月'!CL191","v":1},{"$f":"'3月'!CM191","v":0},{"$f":"'3月'!CN191","v":0},{"$f":"'3月'!CO191","v":0},{"$f":"'3月'!CP191","v":0},{"$f":"'3月'!CQ191","v":0},{"$f":"'3月'!CR191","v":7},{"$f":"'3月'!CS191","v":0},{"$f":"'3月'!CT191","v":0},{"$f":"'3月'!CU191","v":0},{"$f":"'3月'!CV191","v":521},{"$f":"'3月'!CW191","v":0},{"$f":"'3月'!CX191","v":1598},{"$f":"'3月'!CY191","v":0},{"$f":"'3月'!CZ191","v":0},{"$f":"'3月'!DA191","v":0},{"$f":"'3月'!DB191","v":0},{"$f":"'3月'!DC191","v":0},{"$f":"'3月'!DD191","v":0},{"$f":"'3月'!DE191","v":0},{"$f":"'3月'!DF191","v":0},{"$f":"'3月'!DG191","v":0},{"$f":"'3月'!DH191","v":0},{"$f":"'3月'!DI191","v":0},{"$f":"'3月'!DJ191","v":0},{"$f":"'3月'!DK191","v":0},{"$f":"'3月'!DL191","v":0}]
["4月",{"$f":"'4月'!E602","v":59},{"$f":"'4月'!F602","v":0},{"$f":"'4月'!G602","v":4},{"$f":"'4月'!H602","v":7},{"$f":"'4月'!I602","v":0},{"$f":"'4月'!J602","v":92},{"$f":"'4月'!K602","v":25},{"$f":"'4月'!L602","v":2330},{"$f":"'4月'!M602","v":3842},{"$f":"'4月'!N602","v":16},{"$f":"'4月'!O602","v":1},{"$f":"'4月'!P602","v":28},{"$f":"'4月'!Q602","v":2},{"$f":"'4月'!R602","v":0},{"$f":"'4月'!S602","v":0},{"$f":"'4月'!T602","v":0},{"$f":"'4月'!U602","v":0},{"$f":"'4月'!V602","v":0},{"$f":"'4月'!W602","v":1},{"$f":"'4月'!X602","v":7},{"$f":"'4月'!Y602","v":1},{"$f":"'4月'!Z602","v":1},{"$f":"'4月'!AA602","v":0},{"$f":"'4月'!AB602","v":8},{"$f":"'4月'!AC602","v":21},{"$f":"'4月'!AD602","v":0},{"$f":"'4月'!AE602","v":0},{"$f":"'4月'!AF602","v":1},{"$f":"'4月'!AG602","v":0},{"$f":"'4月'!AH602","v":1},{"$f":"'4月'!AI602","v":5},{"$f":"'4月'!AJ602","v":0},{"$f":"'4月'!AK602","v":2},{"$f":"'4月'!AL602","v":1},{"$f":"'4月'!AM602","v":0},{"$f":"'4月'!AN602","v":0},{"$f":"'4月'!AO602","v":17},{"$f":"'4月'!AP602","v":3},{"$f":"'4月'!AQ602","v":0},{"$f":"'4月'!AR602","v":0},{"$f":"'4月'!AS602","v":0},{"$f":"'4月'!AT602","v":1},{"$f":"'4月'!AU602","v":0},{"$f":"'4月'!AV602","v":1},{"$f":"'4月'!AW602","v":0},{"$f":"'4月'!AX602","v":2},{"$f":"'4月'!AY602","v":0},{"$f":"'4月'!AZ602","v":0},{"$f":"'4月'!BA602","v":7},{"$f":"'4月'!BB602","v":0},{"$f":"'4月'!BC602","v":99},{"$f":"'4月'!BD602","v":2},{"$f":"'4月'!BE602","v":0},{"$f":"'4月'!BF602","v":45},{"$f":"'4月'!BG602","v":10},{"$f":"'4月'!BH602","v":44},{"$f":"'4月'!BI602","v":47},{"$f":"'4月'!BJ602","v":47},{"$f":"'4月'!BK602","v":0},{"$f":"'4月'!BL602","v":31},{"$f":"'4月'!BM602","v":1},{"$f":"'4月'!BN602","v":1},{"$f":"'4月'!BO602","v":0},{"$f":"'4月'!BP602","v":5},{"$f":"'4月'!BQ602","v":0},{"$f":"'4月'!BR602","v":1},{"$f":"'4月'!BS602","v":0},{"$f":"'4月'!BT602","v":1281},{"$f":"'4月'!BU602","v":0},{"$f":"'4月'!BV602","v":0},{"$f":"'4月'!BW602","v":9},{"$f":"'4月'!BX602","v":0},{"$f":"'4月'!BY602","v":0},{"$f":"'4月'!BZ602","v":0},{"$f":"'4月'!CA602","v":0},{"$f":"'4月'!CB602","v":0},{"$f":"'4月'!CC602","v":0},{"$f":"'4月'!CD602","v":0},{"$f":"'4月'!CE602","v":2},{"$f":"'4月'!CF602","v":2},{"$f":"'4月'!CG602","v":0},{"$f":"'4月'!CH602","v":0},{"$f":"'4月'!CI602","v":0},{"$f":"'4月'!CJ602","v":0},{"$f":"'4月'!CK602","v":2},{"$f":"'4月'!CL602","v":0},{"$f":"'4月'!CM602","v":0},{"$f":"'4月'!CN602","v":0},{"$f":"'4月'!CO602","v":0},{"$f":"'4月'!CP602","v":0},{"$f":"'4月'!CQ602","v":0},{"$f":"'4月'!CR602","v":2},{"$f":"'4月'!CS602","v":0},{"$f":"'4月'!CT602","v":2},{"$f":"'4月'!CU602","v":1},{"$f":"'4月'!CV602","v":0},{"$f":"'4月'!CW602","v":0},{"$f":"'4月'!CX602","v":2330},{"$f":"'4月'!CY602","v":0},{"$f":"'4月'!CZ602","v":0},{"$f":"'4月'!DA602","v":0},{"$f":"'4月'!DB602","v":0},{"$f":"'4月'!DC602","v":0},{"$f":"'4月'!DD602","v":0},{"$f":"'4月'!DE602","v":0},{"$f":"'4月'!DF602","v":0},{"$f":"'4月'!DG602","v":0},{"$f":"'4月'!DH602","v":0},{"$f":"'4月'!DI602","v":0},{"$f":"'4月'!DJ602","v":0},{"$f":"'4月'!DK602","v":0},{"$f":"'4月'!DL602","v":0}]
["5月",{"$f":"'5月'!E468","v":7},{"$f":"'5月'!F468","v":0},{"$f":"'5月'!G468","v":3},{"$f":"'5月'!H468","v":0},{"$f":"'5月'!I468","v":0},{"$f":"'5月'!J468","v":84},{"$f":"'5月'!K468","v":30},{"$f":"'5月'!L468","v":604},{"$f":"'5月'!M468","v":3147},{"$f":"'5月'!N468","v":9},{"$f":"'5月'!O468","v":5},{"$f":"'5月'!P468","v":21},{"$f":"'5月'!Q468","v":0},{"$f":"'5月'!R468","v":0},{"$f":"'5月'!S468","v":0},{"$f":"'5月'!T468","v":0},{"$f":"'5月'!U468","v":0},{"$f":"'5月'!V468","v":3},{"$f":"'5月'!W468","v":2},{"$f":"'5月'!X468","v":2},{"$f":"'5月'!Y468","v":5},{"$f":"'5月'!Z468","v":3},{"$f":"'5月'!AA468","v":0},{"$f":"'5月'!AB468","v":14},{"$f":"'5月'!AC468","v":19},{"$f":"'5月'!AD468","v":1},{"$f":"'5月'!AE468","v":0},{"$f":"'5月'!AF468","v":8},{"$f":"'5月'!AG468","v":2},{"$f":"'5月'!AH468","v":2},{"$f":"'5月'!AI468","v":11},{"$f":"'5月'!AJ468","v":10},{"$f":"'5月'!AK468","v":1},{"$f":"'5月'!AL468","v":10},{"$f":"'5月'!AM468","v":1},{"$f":"'5月'!AN468","v":0},{"$f":"'5月'!AO468","v":2},{"$f":"'5月'!AP468","v":1},{"$f":"'5月'!AQ468","v":1},{"$f":"'5月'!AR468","v":0},{"$f":"'5月'!AS468","v":0},{"$f":"'5月'!AT468","v":1},{"$f":"'5月'!AU468","v":0},{"$f":"'5月'!AV468","v":0},{"$f":"'5月'!AW468","v":0},{"$f":"'5月'!AX468","v":0},{"$f":"'5月'!AY468","v":0},{"$f":"'5月'!AZ468","v":0},{"$f":"'5月'!BA468","v":5},{"$f":"'5月'!BB468","v":0},{"$f":"'5月'!BC468","v":0},{"$f":"'5月'!BD468","v":0},{"$f":"'5月'!BE468","v":0},{"$f":"'5月'!BF468","v":38},{"$f":"'5月'!BG468","v":18},{"$f":"'5月'!BH468","v":41},{"$f":"'5月'!BI468","v":43},{"$f":"'5月'!BJ468","v":43},{"$f":"'5月'!BK468","v":0},{"$f":"'5月'!BL468","v":17},{"$f":"'5月'!BM468","v":0},{"$f":"'5月'!BN468","v":5},{"$f":"'5月'!BO468","v":0},{"$f":"'5月'!BP468","v":1},{"$f":"'5月'!BQ468","v":0},{"$f":"'5月'!BR468","v":0},{"$f":"'5月'!BS468","v":2},{"$f":"'5月'!BT468","v":980},{"$f":"'5月'!BU468","v":2},{"$f":"'5月'!BV468","v":1},{"$f":"'5月'!BW468","v":9},{"$f":"'5月'!BX468","v":0},{"$f":"'5月'!BY468","v":0},{"$f":"'5月'!BZ468","v":0},{"$f":"'5月'!CA468","v":0},{"$f":"'5月'!CB468","v":0},{"$f":"'5月'!CC468","v":0},{"$f":"'5月'!CD468","v":0},{"$f":"'5月'!CE468","v":0},{"$f":"'5月'!CF468","v":0},{"$f":"'5月'!CG468","v":0},{"$f":"'5月'!CH468","v":0},{"$f":"'5月'!CI468","v":0},{"$f":"'5月'!CJ468","v":0},{"$f":"'5月'!CK468","v":0},{"$f":"'5月'!CL468","v":0},{"$f":"'5月'!CM468","v":0},{"$f":"'5月'!CN468","v":0},{"$f":"'5月'!CO468","v":0},{"$f":"'5月'!CP468","v":0},{"$f":"'5月'!CQ468","v":1},{"$f":"'5月'!CR468","v":9},{"$f":"'5月'!CS468","v":9},{"$f":"'5月'!CT468","v":3},{"$f":"'5月'!CU468","v":3},{"$f":"'5月'!CV468","v":0},{"$f":"'5月'!CW468","v":0},{"$f":"'5月'!CX468","v":504},{"$f":"'5月'!CY468","v":0},{"$f":"'5月'!CZ468","v":0},{"$f":"'5月'!DA468","v":0},{"$f":"'5月'!DB468","v":0},{"$f":"'5月'!DC468","v":0},{"$f":"'5月'!DD468","v":0},{"$f":"'5月'!DE468","v":0},{"$f":"'5月'!DF468","v":0},{"$f":"'5月'!DG468","v":0},{"$f":"'5月'!DH468","v":0},{"$f":"'5月'!DI468","v":0},{"$f":"'5月'!DJ468","v":0},{"$f":"'5月'!DK468","v":0},{"$f":"'5月'!DL468","v":0}]
["6月",{"$f":"'6月'!E157","v":8},{"$f":"'6月'!F157","v":0},{"$f":"'6月'!G157","v":5},{"$f":"'6月'!H157","v":0},{"$f":"'6月'!I157","v":1},{"$f":"'6月'!J157","v":14},{"$f":"'6月'!K157","v":7},{"$f":"'6月'!L157","v":662},{"$f":"'6月'!M157","v":828},{"$f":"'6月'!N157","v":6},{"$f":"'6月'!O157","v":0},{"$f":"'6月'!P157","v":0},{"$f":"'6月'!Q157","v":8},{"$f":"'6月'!R157","v":0},{"$f":"'6月'!S157","v":0},{"$f":"'6月'!T157","v":0},{"$f":"'6月'!U157","v":0},{"$f":"'6月'!V157","v":0},{"$f":"'6月'!W157","v":0},{"$f":"'6月'!X157","v":4},{"$f":"'6月'!Y157","v":3},{"$f":"'6月'!Z157","v":0},{"$f":"'6月'!AA157","v":0},{"$f":"'6月'!AB157","v":0},{"$f":"'6月'!AC157","v":18},{"$f":"'6月'!AD157","v":0},{"$f":"'6月'!AE157","v":0},{"$f":"'6月'!AF157","v":7},{"$f":"'6月'!AG157","v":2},{"$f":"'6月'!AH157","v":0},{"$f":"'6月'!AI157","v":1},{"$f":"'6月'!AJ157","v":0},{"$f":"'6月'!AK157","v":0},{"$f":"'6月'!AL157","v":7},{"$f":"'6月'!AM157","v":0},{"$f":"'6月'!AN157","v":4},{"$f":"'6月'!AO157","v":23},{"$f":"'6月'!AP157","v":0},{"$f":"'6月'!AQ157","v":1},{"$f":"'6月'!AR157","v":0},{"$f":"'6月'!AS157","v":0},{"$f":"'6月'!AT157","v":0},{"$f":"'6月'!AU157","v":1},{"$f":"'6月'!AV157","v":0},{"$f":"'6月'!AW157","v":0},{"$f":"'6月'!AX157","v":0},{"$f":"'6月'!AY157","v":0},{"$f":"'6月'!AZ157","v":0},{"$f":"'6月'!BA157","v":0},{"$f":"'6月'!BB157","v":4},{"$f":"'6月'!BC157","v":0},{"$f":"'6月'!BD157","v":1},{"$f":"'6月'!BE157","v":2},{"$f":"'6月'!BF157","v":26},{"$f":"'6月'!BG157","v":9},{"$f":"'6月'!BH157","v":27},{"$f":"'6月'!BI157","v":29},{"$f":"'6月'!BJ157","v":29},{"$f":"'6月'!BK157","v":0},{"$f":"'6月'!BL157","v":17},{"$f":"'6月'!BM157","v":0},{"$f":"'6月'!BN157","v":0},{"$f":"'6月'!BO157","v":0},{"$f":"'6月'!BP157","v":0},{"$f":"'6月'!BQ157","v":4},{"$f":"'6月'!BR157","v":16},{"$f":"'6月'!BS157","v":0},{"$f":"'6月'!BT157","v":0},{"$f":"'6月'!BU157","v":0},{"$f":"'6月'!BV157","v":4},{"$f":"'6月'!BW157","v":6},{"$f":"'6月'!BX157","v":0},{"$f":"'6月'!BY157","v":0},{"$f":"'6月'!BZ157","v":0},{"$f":"'6月'!CA157","v":0},{"$f":"'6月'!CB157","v":4},{"$f":"'6月'!CC157","v":0},{"$f":"'6月'!CD157","v":0},{"$f":"'6月'!CE157","v":0},{"$f":"'6月'!CF157","v":0},{"$f":"'6月'!CG157","v":0},{"$f":"'6月'!CH157","v":0},{"$f":"'6月'!CI157","v":0},{"$f":"'6月'!CJ157","v":0},{"$f":"'6月'!CK157","v":0},{"$f":"'6月'!CL157","v":0},{"$f":"'6月'!CM157","v":0},{"$f":"'6月'!CN157","v":0},{"$f":"'6月'!CO157","v":0},{"$f":"'6月'!CP157","v":0},{"$f":"'6月'!CQ157","v":0},{"$f":"'6月'!CR157","v":0},{"$f":"'6月'!CS157","v":0},{"$f":"'6月'!CT157","v":1},{"$f":"'6月'!CU157","v":6},{"$f":"'6月'!CV157","v":0},{"$f":"'6月'!CW157","v":0},{"$f":"'6月'!CX157","v":662},{"$f":"'6月'!CY157","v":0},{"$f":"'6月'!CZ157","v":0},{"$f":"'6月'!DA157","v":0},{"$f":"'6月'!DB157","v":0},{"$f":"'6月'!DC157","v":0},{"$f":"'6月'!DD157","v":0},{"$f":"'6月'!DE157","v":0},{"$f":"'6月'!DF157","v":0},{"$f":"'6月'!DG157","v":0},{"$f":"'6月'!DH157","v":0},{"$f":"'6月'!DI157","v":0},{"$f":"'6月'!DJ157","v":0},{"$f":"'6月'!DK157","v":0},{"$f":"'6月'!DL157","v":0}]
["7月",{"$f":"'7月'!E292","v":7},{"$f":"'7月'!F292","v":0},{"$f":"'7月'!G292","v":4},{"$f":"'7月'!H292","v":1},{"$f":"'7月'!I292","v":0},{"$f":"'7月'!J292","v":41},{"$f":"'7月'!K292","v":10},{"$f":"'7月'!L292","v":1662},{"$f":"'7月'!M292","v":4084},{"$f":"'7月'!N292","v":11},{"$f":"'7月'!O292","v":6},{"$f":"'7月'!P292","v":0},{"$f":"'7月'!Q292","v":27},{"$f":"'7月'!R292","v":0},{"$f":"'7月'!S292","v":0},{"$f":"'7月'!T292","v":10},{"$f":"'7月'!U292","v":1},{"$f":"'7月'!V292","v":5},{"$f":"'7月'!W292","v":3},{"$f":"'7月'!X292","v":11},{"$f":"'7月'!Y292","v":0},{"$f":"'7月'!Z292","v":0},{"$f":"'7月'!AA292","v":0},{"$f":"'7月'!AB292","v":8},{"$f":"'7月'!AC292","v":17},{"$f":"'7月'!AD292","v":3},{"$f":"'7月'!AE292","v":6},{"$f":"'7月'!AF292","v":2},{"$f":"'7月'!AG292","v":0},{"$f":"'7月'!AH292","v":0},{"$f":"'7月'!AI292","v":12},{"$f":"'7月'!AJ292","v":0},{"$f":"'7月'!AK292","v":0},{"$f":"'7月'!AL292","v":1},{"$f":"'7月'!AM292","v":0},{"$f":"'7月'!AN292","v":2},{"$f":"'7月'!AO292","v":0},{"$f":"'7月'!AP292","v":0},{"$f":"'7月'!AQ292","v":7},{"$f":"'7月'!AR292","v":0},{"$f":"'7月'!AS292","v":0},{"$f":"'7月'!AT292","v":0},{"$f":"'7月'!AU292","v":1},{"$f":"'7月'!AV292","v":1},{"$f":"'7月'!AW292","v":0},{"$f":"'7月'!AX292","v":0},{"$f":"'7月'!AY292","v":0},{"$f":"'7月'!AZ292","v":0},{"$f":"'7月'!BA292","v":15},{"$f":"'7月'!BB292","v":7},{"$f":"'7月'!BC292","v":0},{"$f":"'7月'!BD292","v":1},{"$f":"'7月'!BE292","v":6},{"$f":"'7月'!BF292","v":55},{"$f":"'7月'!BG292","v":5},{"$f":"'7月'!BH292","v":56},{"$f":"'7月'!BI292","v":56},{"$f":"'7月'!BJ292","v":56},{"$f":"'7月'!BK292","v":0},{"$f":"'7月'!BL292","v":52},{"$f":"'7月'!BM292","v":0},{"$f":"'7月'!BN292","v":0},{"$f":"'7月'!BO292","v":4},{"$f":"'7月'!BP292","v":1},{"$f":"'7月'!BQ292","v":6},{"$f":"'7月'!BR292","v":5},{"$f":"'7月'!BS292","v":1},{"$f":"'7月'!BT292","v":6},{"$f":"'7月'!BU292","v":0},{"$f":"'7月'!BV292","v":8},{"$f":"'7月'!BW292","v":1},{"$f":"'7月'!BX292","v":0},{"$f":"'7月'!BY292","v":0},{"$f":"'7月'!BZ292","v":0},{"$f":"'7月'!CA292","v":0},{"$f":"'7月'!CB292","v":8},{"$f":"'7月'!CC292","v":0},{"$f":"'7月'!CD292","v":0},{"$f":"'7月'!CE292","v":0},{"$f":"'7月'!CF292","v":0},{"$f":"'7月'!CG292","v":0},{"$f":"'7月'!CH292","v":0},{"$f":"'7月'!CI292","v":0},{"$f":"'7月'!CJ292","v":0},{"$f":"'7月'!CK292","v":0},{"$f":"'7月'!CL292","v":7},{"$f":"'7月'!CM292","v":0},{"$f":"'7月'!CN292","v":0},{"$f":"'7月'!CO292","v":0},{"$f":"'7月'!CP292","v":1},{"$f":"'7月'!CQ292","v":1},{"$f":"'7月'!CR292","v":1},{"$f":"'7月'!CS292","v":0},{"$f":"'7月'!CT292","v":1},{"$f":"'7月'!CU292","v":2},{"$f":"'7月'!CV292","v":0},{"$f":"'7月'!CW292","v":0},{"$f":"'7月'!CX292","v":1662},{"$f":"'7月'!CY292","v":0},{"$f":"'7月'!CZ292","v":0},{"$f":"'7月'!DA292","v":0},{"$f":"'7月'!DB292","v":0},{"$f":"'7月'!DC292","v":0},{"$f":"'7月'!DD292","v":0},{"$f":"'7月'!DE292","v":0},{"$f":"'7月'!DF292","v":0},{"$f":"'7月'!DG292","v":0},{"$f":"'7月'!DH292","v":0},{"$f":"'7月'!DI292","v":0},{"$f":"'7月'!DJ292","v":0},{"$f":"'7月'!DK292","v":0},{"$f":"'7月'!DL292","v":0}]
["8月",{"$f":"'8月'!E349","v":15},{"$f":"'8月'!F349","v":0},{"$f":"'8月'!G349","v":3},{"$f":"'8月'!H349","v":0},{"$f":"'8月'!I349","v":0},{"$f":"'8月'!J349","v":41},{"$f":"'8月'!K349","v":9},{"$f":"'8月'!L349","v":1191},{"$f":"'8月'!M349","v":4395},{"$f":"'8月'!N349","v":14},{"$f":"'8月'!O349","v":7},{"$f":"'8月'!P349","v":1},{"$f":"'8月'!Q349","v":14},{"$f":"'8月'!R349","v":6},{"$f":"'8月'!S349","v":8},{"$f":"'8月'!T349","v":2},{"$f":"'8月'!U349","v":0},{"$f":"'8月'!V349","v":12},{"$f":"'8月'!W349","v":0},{"$f":"'8月'!X349","v":12},{"$f":"'8月'!Y349","v":1},{"$f":"'8月'!Z349","v":1},{"$f":"'8月'!AA349","v":0},{"$f":"'8月'!AB349","v":5},{"$f":"'8月'!AC349","v":11},{"$f":"'8月'!AD349","v":6},{"$f":"'8月'!AE349","v":0},{"$f":"'8月'!AF349","v":9},{"$f":"'8月'!AG349","v":1},{"$f":"'8月'!AH349","v":4},{"$f":"'8月'!AI349","v":2},{"$f":"'8月'!AJ349","v":1},{"$f":"'8月'!AK349","v":1},{"$f":"'8月'!AL349","v":13},{"$f":"'8月'!AM349","v":2},{"$f":"'8月'!AN349","v":1},{"$f":"'8月'!AO349","v":10},{"$f":"'8月'!AP349","v":2},{"$f":"'8月'!AQ349","v":0},{"$f":"'8月'!AR349","v":0},{"$f":"'8月'!AS349","v":0},{"$f":"'8月'!AT349","v":2},{"$f":"'8月'!AU349","v":2},{"$f":"'8月'!AV349","v":0},{"$f":"'8月'!AW349","v":0},{"$f":"'8月'!AX349","v":0},{"$f":"'8月'!AY349","v":0},{"$f":"'8月'!AZ349","v":17},{"$f":"'8月'!BA349","v":3},{"$f":"'8月'!BB349","v":4},{"$f":"'8月'!BC349","v":0},{"$f":"'8月'!BD349","v":0},{"$f":"'8月'!BE349","v":3},{"$f":"'8月'!BF349","v":58},{"$f":"'8月'!BG349","v":10},{"$f":"'8月'!BH349","v":58},{"$f":"'8月'!BI349","v":58},{"$f":"'8月'!BJ349","v":58},{"$f":"'8月'!BK349","v":0},{"$f":"'8月'!BL349","v":32},{"$f":"'8月'!BM349","v":0},{"$f":"'8月'!BN349","v":0},{"$f":"'8月'!BO349","v":1},{"$f":"'8月'!BP349","v":0},{"$f":"'8月'!BQ349","v":2},{"$f":"'8月'!BR349","v":1},{"$f":"'8月'!BS349","v":0},{"$f":"'8月'!BT349","v":102},{"$f":"'8月'!BU349","v":2},{"$f":"'8月'!BV349","v":4},{"$f":"'8月'!BW349","v":2},{"$f":"'8月'!BX349","v":6},{"$f":"'8月'!BY349","v":1},{"$f":"'8月'!BZ349","v":10},{"$f":"'8月'!CA349","v":1},{"$f":"'8月'!CB349","v":4},{"$f":"'8月'!CC349","v":2},{"$f":"'8月'!CD349","v":4},{"$f":"'8月'!CE349","v":6},{"$f":"'8月'!CF349","v":5},{"$f":"'8月'!CG349","v":0},{"$f":"'8月'!CH349","v":0},{"$f":"'8月'!CI349","v":0},{"$f":"'8月'!CJ349","v":0},{"$f":"'8月'!CK349","v":0},{"$f":"'8月'!CL349","v":0},{"$f":"'8月'!CM349","v":0},{"$f":"'8月'!CN349","v":0},{"$f":"'8月'!CO349","v":0},{"$f":"'8月'!CP349","v":0},{"$f":"'8月'!CQ349","v":0},{"$f":"'8月'!CR349","v":8},{"$f":"'8月'!CS349","v":0},{"$f":"'8月'!CT349","v":0},{"$f":"'8月'!CU349","v":1},{"$f":"'8月'!CV349","v":0},{"$f":"'8月'!CW349","v":0},{"$f":"'8月'!CX349","v":1191},{"$f":"'8月'!CY349","v":0},{"$f":"'8月'!CZ349","v":0},{"$f":"'8月'!DA349","v":0},{"$f":"'8月'!DB349","v":0},{"$f":"'8月'!DC349","v":0},{"$f":"'8月'!DD349","v":0},{"$f":"'8月'!DE349","v":0},{"$f":"'8月'!DF349","v":13},{"$f":"'8月'!DG349","v":0},{"$f":"'8月'!DH349","v":0},{"$f":"'8月'!DI349","v":0},{"$f":"'8月'!DJ349","v":0},{"$f":"'8月'!DK349","v":0},{"$f":"'8月'!DL349","v":0}]
["9月",{"$f":"'9月'!E260","v":2},{"$f":"'9月'!F260","v":0},{"$f":"'9月'!G260","v":8},{"$f":"'9月'!H260","v":1},{"$f":"'9月'!I260","v":9},{"$f":"'9月'!J260","v":31},{"$f":"'9月'!K260","v":10},{"$f":"'9月'!L260","v":1390},{"$f":"'9月'!M260","v":2419},{"$f":"'9月'!N260","v":12},{"$f":"'9月'!O260","v":1},{"$f":"'9月'!P260","v":1},{"$f":"'9月'!Q260","v":12},{"$f":"'9月'!R260","v":3},{"$f":"'9月'!S260","v":0},{"$f":"'9月'!T260","v":1},{"$f":"'9月'!U260","v":0},{"$f":"'9月'!V260","v":6},{"$f":"'9月'!W260","v":0},{"$f":"'9月'!X260","v":4},{"$f":"'9月'!Y260","v":5},{"$f":"'9月'!Z260","v":0},{"$f":"'9月'!AA260","v":0},{"$f":"'9月'!AB260","v":8},{"$f":"'9月'!AC260","v":27},{"$f":"'9月'!AD260","v":21},{"$f":"'9月'!AE260","v":7},{"$f":"'9月'!AF260","v":1},{"$f":"'9月'!AG260","v":2},{"$f":"'9月'!AH260","v":2},{"$f":"'9月'!AI260","v":0},{"$f":"'9月'!AJ260","v":0},{"$f":"'9月'!AK260","v":2},{"$f":"'9月'!AL260","v":7},{"$f":"'9月'!AM260","v":2},{"$f":"'9月'!AN260","v":0},{"$f":"'9月'!AO260","v":17},{"$f":"'9月'!AP260","v":2},{"$f":"'9月'!AQ260","v":0},{"$f":"'9月'!AR260","v":0},{"$f":"'9月'!AS260","v":0},{"$f":"'9月'!AT260","v":2},{"$f":"'9月'!AU260","v":0},{"$f":"'9月'!AV260","v":0},{"$f":"'9月'!AW260","v":0},{"$f":"'9月'!AX260","v":0},{"$f":"'9月'!AY260","v":0},{"$f":"'9月'!AZ260","v":0},{"$f":"'9月'!BA260","v":1},{"$f":"'9月'!BB260","v":3},{"$f":"'9月'!BC260","v":0},{"$f":"'9月'!BD260","v":1},{"$f":"'9月'!BE260","v":0},{"$f":"'9月'!BF260","v":55},{"$f":"'9月'!BG260","v":12},{"$f":"'9月'!BH260","v":55},{"$f":"'9月'!BI260","v":55},{"$f":"'9月'!BJ260","v":55},{"$f":"'9月'!BK260","v":0},{"$f":"'9月'!BL260","v":15},{"$f":"'9月'!BM260","v":0},{"$f":"'9月'!BN260","v":0},{"$f":"'9月'!BO260","v":1},{"$f":"'9月'!BP260","v":1},{"$f":"'9月'!BQ260","v":4},{"$f":"'9月'!BR260","v":0},{"$f":"'9月'!BS260","v":0},{"$f":"'9月'!BT260","v":31},{"$f":"'9月'!BU260","v":0},{"$f":"'9月'!BV260","v":3},{"$f":"'9月'!BW260","v":7},{"$f":"'9月'!BX260","v":0},{"$f":"'9月'!BY260","v":0},{"$f":"'9月'!BZ260","v":0},{"$f":"'9月'!CA260","v":0},{"$f":"'9月'!CB260","v":3},{"$f":"'9月'!CC260","v":0},{"$f":"'9月'!CD260","v":0},{"$f":"'9月'!CE260","v":6},{"$f":"'9月'!CF260","v":5},{"$f":"'9月'!CG260","v":22},{"$f":"'9月'!CH260","v":6},{"$f":"'9月'!CI260","v":4},{"$f":"'9月'!CJ260","v":1},{"$f":"'9月'!CK260","v":1},{"$f":"'9月'!CL260","v":2},{"$f":"'9月'!CM260","v":127},{"$f":"'9月'!CN260","v":1},{"$f":"'9月'!CO260","v":1},{"$f":"'9月'!CP260","v":5},{"$f":"'9月'!CQ260","v":0},{"$f":"'9月'!CR260","v":5},{"$f":"'9月'!CS260","v":0},{"$f":"'9月'!CT260","v":2},{"$f":"'9月'!CU260","v":3},{"$f":"'9月'!CV260","v":0},{"$f":"'9月'!CW260","v":1715},{"$f":"'9月'!CX260","v":1390},{"$f":"'9月'!CY260","v":0},{"$f":"'9月'!CZ260","v":0},{"$f":"'9月'!DA260","v":0},{"$f":"'9月'!DB260","v":0},{"$f":"'9月'!DC260","v":0},{"$f":"'9月'!DD260","v":0},{"$f":"'9月'!DE260","v":1},{"$f":"'9月'!DF260","v":11},{"$f":"'9月'!DG260","v":0},{"$f":"'9月'!DH260","v":0},{"$f":"'9月'!DI260","v":0},{"$f":"'9月'!DJ260","v":0},{"$f":"'9月'!DK260","v":0},{"$f":"'9月'!DL260","v":0}]
["10月",{"$f":"'10月'!E271","v":16},{"$f":"'10月'!F271","v":0},{"$f":"'10月'!G271","v":10},{"$f":"'10月'!H271","v":0},{"$f":"'10月'!I271","v":0},{"$f":"'10月'!J271","v":76},{"$f":"'10月'!K271","v":16},{"$f":"'10月'!L271","v":744},{"$f":"'10月'!M271","v":3321},{"$f":"'10月'!N271","v":23},{"$f":"'10月'!O271","v":1},{"$f":"'10月'!P271","v":0},{"$f":"'10月'!Q271","v":4},{"$f":"'10月'!R271","v":4},{"$f":"'10月'!S271","v":0},{"$f":"'10月'!T271","v":0},{"$f":"'10月'!U271","v":0},{"$f":"'10月'!V271","v":5},{"$f":"'10月'!W271","v":2},{"$f":"'10月'!X271","v":7},{"$f":"'10月'!Y271","v":2},{"$f":"'10月'!Z271","v":2},{"$f":"'10月'!AA271","v":0},{"$f":"'10月'!AB271","v":6},{"$f":"'10月'!AC271","v":15},{"$f":"'10月'!AD271","v":11},{"$f":"'10月'!AE271","v":0},{"$f":"'10月'!AF271","v":5},{"$f":"'10月'!AG271","v":1},{"$f":"'10月'!AH271","v":2},{"$f":"'10月'!AI271","v":8},{"$f":"'10月'!AJ271","v":8},{"$f":"'10月'!AK271","v":0},{"$f":"'10月'!AL271","v":14},{"$f":"'10月'!AM271","v":1},{"$f":"'10月'!AN271","v":0},{"$f":"'10月'!AO271","v":14},{"$f":"'10月'!AP271","v":1},{"$f":"'10月'!AQ271","v":1},{"$f":"'10月'!AR271","v":0},{"$f":"'10月'!AS271","v":0},{"$f":"'10月'!AT271","v":0},{"$f":"'10月'!AU271","v":1},{"$f":"'10月'!AV271","v":0},{"$f":"'10月'!AW271","v":0},{"$f":"'10月'!AX271","v":0},{"$f":"'10月'!AY271","v":0},{"$f":"'10月'!AZ271","v":0},{"$f":"'10月'!BA271","v":3},{"$f":"'10月'!BB271","v":5},{"$f":"'10月'!BC271","v":0},{"$f":"'10月'!BD271","v":0},{"$f":"'10月'!BE271","v":0},{"$f":"'10月'!BF271","v":2},{"$f":"'10月'!BG271","v":6},{"$f":"'10月'!BH271","v":11},{"$f":"'10月'!BI271","v":2},{"$f":"'10月'!BJ271","v":6},{"$f":"'10月'!BK271","v":0},{"$f":"'10月'!BL271","v":14},{"$f":"'10月'!BM271","v":0},{"$f":"'10月'!BN271","v":4},{"$f":"'10月'!BO271","v":0},{"$f":"'10月'!BP271","v":0},{"$f":"'10月'!BQ271","v":1},{"$f":"'10月'!BR271","v":0},{"$f":"'10月'!BS271","v":0},{"$f":"'10月'!BT271","v":1},{"$f":"'10月'!BU271","v":2},{"$f":"'10月'!BV271","v":2},{"$f":"'10月'!BW271","v":0},{"$f":"'10月'!BX271","v":0},{"$f":"'10月'!BY271","v":0},{"$f":"'10月'!BZ271","v":1},{"$f":"'10月'!CA271","v":0},{"$f":"'10月'!CB271","v":4},{"$f":"'10月'!CC271","v":0},{"$f":"'10月'!CD271","v":0},{"$f":"'10月'!CE271","v":4},{"$f":"'10月'!CF271","v":4},{"$f":"'10月'!CG271","v":1},{"$f":"'10月'!CH271","v":1},{"$f":"'10月'!CI271","v":0},{"$f":"'10月'!CJ271","v":0},{"$f":"'10月'!CK271","v":0},{"$f":"'10月'!CL271","v":1},{"$f":"'10月'!CM271","v":0},{"$f":"'10月'!CN271","v":2},{"$f":"'10月'!CO271","v":0},{"$f":"'10月'!CP271","v":4},{"$f":"'10月'!CQ271","v":4},{"$f":"'10月'!CR271","v":4},{"$f":"'10月'!CS271","v":0},{"$f":"'10月'!CT271","v":1},{"$f":"'10月'!CU271","v":0},{"$f":"'10月'!CV271","v":270},{"$f":"'10月'!CW271","v":1537},{"$f":"'10月'!CX271","v":759},{"$f":"'10月'!CY271","v":3},{"$f":"'10月'!CZ271","v":3},{"$f":"'10月'!DA271","v":1},{"$f":"'10月'!DB271","v":1},{"$f":"'10月'!DC271","v":2},{"$f":"'10月'!DD271","v":10},{"$f":"'10月'!DE271","v":0},{"$f":"'10月'!DF271","v":24},{"$f":"'10月'!DG271","v":3},{"$f":"'10月'!DH271","v":0},{"$f":"'10月'!DI271","v":0},{"$f":"'10月'!DJ271","v":0},{"$f":"'10月'!DK271","v":1},{"$f":"'10月'!DL271","v":1}]
["11月",{"$f":"'11月'!E238","v":7},{"$f":"'11月'!F238","v":0},{"$f":"'11月'!G238","v":3},{"$f":"'11月'!H238","v":5},{"$f":"'11月'!I238","v":1},{"$f":"'11月'!J238","v":42},{"$f":"'11月'!K238","v":11},{"$f":"'11月'!L238","v":1696},{"$f":"'11月'!M238","v":2816},{"$f":"'11月'!N238","v":33},{"$f":"'11月'!O238","v":6},{"$f":"'11月'!P238","v":3},{"$f":"'11月'!Q238","v":7},{"$f":"'11月'!R238","v":6},{"$f":"'11月'!S238","v":1},{"$f":"'11月'!T238","v":1},{"$f":"'11月'!U238","v":0},{"$f":"'11月'!V238","v":2},{"$f":"'11月'!W238","v":4},{"$f":"'11月'!X238","v":6},{"$f":"'11月'!Y238","v":7},{"$f":"'11月'!Z238","v":1},{"$f":"'11月'!AA238","v":0},{"$f":"'11月'!AB238","v":11},{"$f":"'11月'!AC238","v":20},{"$f":"'11月'!AD238","v":9},{"$f":"'11月'!AE238","v":4},{"$f":"'11月'!AF238","v":3},{"$f":"'11月'!AG238","v":1},{"$f":"'11月'!AH238","v":4},{"$f":"'11月'!AI238","v":7},{"$f":"'11月'!AJ238","v":20},{"$f":"'11月'!AK238","v":0},{"$f":"'11月'!AL238","v":1},{"$f":"'11月'!AM238","v":1},{"$f":"'11月'!AN238","v":0},{"$f":"'11月'!AO238","v":38},{"$f":"'11月'!AP238","v":2},{"$f":"'11月'!AQ238","v":5},{"$f":"'11月'!AR238","v":0},{"$f":"'11月'!AS238","v":0},{"$f":"'11月'!AT238","v":1},{"$f":"'11月'!AU238","v":0},{"$f":"'11月'!AV238","v":0},{"$f":"'11月'!AW238","v":0},{"$f":"'11月'!AX238","v":0},{"$f":"'11月'!AY238","v":0},{"$f":"'11月'!AZ238","v":0},{"$f":"'11月'!BA238","v":2},{"$f":"'11月'!BB238","v":3},{"$f":"'11月'!BC238","v":0},{"$f":"'11月'!BD238","v":0},{"$f":"'11月'!BE238","v":1},{"$f":"'11月'!BF238","v":26},{"$f":"'11月'!BG238","v":8},{"$f":"'11月'!BH238","v":34},{"$f":"'11月'!BI238","v":37},{"$f":"'11月'!BJ238","v":37},{"$f":"'11月'!BK238","v":0},{"$f":"'11月'!BL238","v":19},{"$f":"'11月'!BM238","v":0},{"$f":"'11月'!BN238","v":12},{"$f":"'11月'!BO238","v":3},{"$f":"'11月'!BP238","v":0},{"$f":"'11月'!BQ238","v":3},{"$f":"'11月'!BR238","v":3},{"$f":"'11月'!BS238","v":0},{"$f":"'11月'!BT238","v":41},{"$f":"'11月'!BU238","v":0},{"$f":"'11月'!BV238","v":3},{"$f":"'11月'!BW238","v":2},{"$f":"'11月'!BX238","v":2},{"$f":"'11月'!BY238","v":0},{"$f":"'11月'!BZ238","v":0},{"$f":"'11月'!CA238","v":0},{"$f":"'11月'!CB238","v":7},{"$f":"'11月'!CC238","v":0},{"$f":"'11月'!CD238","v":0},{"$f":"'11月'!CE238","v":0},{"$f":"'11月'!CF238","v":0},{"$f":"'11月'!CG238","v":0},{"$f":"'11月'!CH238","v":0},{"$f":"'11月'!CI238","v":0},{"$f":"'11月'!CJ238","v":0},{"$f":"'11月'!CK238","v":0},{"$f":"'11月'!CL238","v":1},{"$f":"'11月'!CM238","v":0},{"$f":"'11月'!CN238","v":0},{"$f":"'11月'!CO238","v":0},{"$f":"'11月'!CP238","v":1},{"$f":"'11月'!CQ238","v":0},{"$f":"'11月'!CR238","v":0},{"$f":"'11月'!CS238","v":0},{"$f":"'11月'!CT238","v":0},{"$f":"'11月'!CU238","v":3},{"$f":"'11月'!CV238","v":670},{"$f":"'11月'!CW238","v":0},{"$f":"'11月'!CX238","v":495},{"$f":"'11月'!CY238","v":3},{"$f":"'11月'!CZ238","v":0},{"$f":"'11月'!DA238","v":1},{"$f":"'11月'!DB238","v":1},{"$f":"'11月'!DC238","v":0},{"$f":"'11月'!DD238","v":0},{"$f":"'11月'!DE238","v":0},{"$f":"'11月'!DF238","v":9},{"$f":"'11月'!DG238","v":13},{"$f":"'11月'!DH238","v":0},{"$f":"'11月'!DI238","v":0},{"$f":"'11月'!DJ238","v":0},{"$f":"'11月'!DK238","v":0},{"$f":"'11月'!DL238","v":0}]
["12月",{"$f":"'12月'!E330","v":18},{"$f":"'12月'!F330","v":0},{"$f":"'12月'!G330","v":19},{"$f":"'12月'!H330","v":1},{"$f":"'12月'!I330","v":6},{"$f":"'12月'!J330","v":41},{"$f":"'12月'!K330","v":4},{"$f":"'12月'!L330","v":158},{"$f":"'12月'!M330","v":3276},{"$f":"'12月'!N330","v":29},{"$f":"'12月'!O330","v":0},{"$f":"'12月'!P330","v":0},{"$f":"'12月'!Q330","v":2},{"$f":"'12月'!R330","v":13},{"$f":"'12月'!S330","v":0},{"$f":"'12月'!T330","v":1},{"$f":"'12月'!U330","v":0},{"$f":"'12月'!V330","v":3},{"$f":"'12月'!W330","v":2},{"$f":"'12月'!X330","v":1},{"$f":"'12月'!Y330","v":1},{"$f":"'12月'!Z330","v":4},{"$f":"'12月'!AA330","v":0},{"$f":"'12月'!AB330","v":12},{"$f":"'12月'!AC330","v":8},{"$f":"'12月'!AD330","v":5},{"$f":"'12月'!AE330","v":3},{"$f":"'12月'!AF330","v":4},{"$f":"'12月'!AG330","v":0},{"$f":"'12月'!AH330","v":0},{"$f":"'12月'!AI330","v":41},{"$f":"'12月'!AJ330","v":5},{"$f":"'12月'!AK330","v":0},{"$f":"'12月'!AL330","v":80},{"$f":"'12月'!AM330","v":1},{"$f":"'12月'!AN330","v":0},{"$f":"'12月'!AO330","v":33},{"$f":"'12月'!AP330","v":0},{"$f":"'12月'!AQ330","v":1},{"$f":"'12月'!AR330","v":0},{"$f":"'12月'!AS330","v":0},{"$f":"'12月'!AT330","v":0},{"$f":"'12月'!AU330","v":0},{"$f":"'12月'!AV330","v":5},{"$f":"'12月'!AW330","v":0},{"$f":"'12月'!AX330","v":0},{"$f":"'12月'!AY330","v":0},{"$f":"'12月'!AZ330","v":0},{"$f":"'12月'!BA330","v":6},{"$f":"'12月'!BB330","v":10},{"$f":"'12月'!BC330","v":0},{"$f":"'12月'!BD330","v":0},{"$f":"'12月'!BE330","v":3},{"$f":"'12月'!BF330","v":13},{"$f":"'12月'!BG330","v":5},{"$f":"'12月'!BH330","v":14},{"$f":"'12月'!BI330","v":23},{"$f":"'12月'!BJ330","v":23},{"$f":"'12月'!BK330","v":0},{"$f":"'12月'!BL330","v":7},{"$f":"'12月'!BM330","v":0},{"$f":"'12月'!BN330","v":0},{"$f":"'12月'!BO330","v":0},{"$f":"'12月'!BP330","v":1},{"$f":"'12月'!BQ330","v":4},{"$f":"'12月'!BR330","v":4},{"$f":"'12月'!BS330","v":1},{"$f":"'12月'!BT330","v":2},{"$f":"'12月'!BU330","v":0},{"$f":"'12月'!BV330","v":2},{"$f":"'12月'!BW330","v":2},{"$f":"'12月'!BX330","v":0},{"$f":"'12月'!BY330","v":0},{"$f":"'12月'!BZ330","v":0},{"$f":"'12月'!CA330","v":0},{"$f":"'12月'!CB330","v":3},{"$f":"'12月'!CC330","v":0},{"$f":"'12月'!CD330","v":0},{"$f":"'12月'!CE330","v":27},{"$f":"'12月'!CF330","v":27},{"$f":"'12月'!CG330","v":0},{"$f":"'12月'!CH330","v":0},{"$f":"'12月'!CI330","v":0},{"$f":"'12月'!CJ330","v":0},{"$f":"'12月'!CK330","v":0},{"$f":"'12月'!CL330","v":0},{"$f":"'12月'!CM330","v":0},{"$f":"'12月'!CN330","v":0},{"$f":"'12月'!CO330","v":0},{"$f":"'12月'!CP330","v":3},{"$f":"'12月'!CQ330","v":0},{"$f":"'12月'!CR330","v":87},{"$f":"'12月'!CS330","v":0},{"$f":"'12月'!CT330","v":1},{"$f":"'12月'!CU330","v":4},{"$f":"'12月'!CV330","v":0},{"$f":"'12月'!CW330","v":457},{"$f":"'12月'!CX330","v":0},{"$f":"'12月'!CY330","v":1},{"$f":"'12月'!CZ330","v":0},{"$f":"'12月'!DA330","v":0},{"$f":"'12月'!DB330","v":0},{"$f":"'12月'!DC330","v":1},{"$f":"'12月'!DD330","v":14},{"$f":"'12月'!DE330","v":0},{"$f":"'12月'!DF330","v":8},{"$f":"'12月'!DG330","v":3},{"$f":"'12月'!DH330","v":216},{"$f":"'12月'!DI330","v":5},{"$f":"'12月'!DJ330","v":4},{"$f":"'12月'!DK330","v":1},{"$f":"'12月'!DL330","v":1}]
["总计",{"$f":"SUM(B3:B13)","v":163},{"$f":"SUM(C3:C13)","v":0},{"$f":"SUM(D3:D13)","v":65},16,{"$f":"SUM(F3:F13)","v":21},495,135,12454,32865,199,30,62,82,32,9,15,1,48,27,79,30,14,2,87,171,56,20,43,11,15,117,55,7,137,9,7,{"$f":"SUM(AL3:AL13)","v":169},14,17,0,0,11,5,10,0,2,0,17,43,36,99,5,17,335,90,361,371,375,0,216,1,28,9,10,24,30,4,2444,6,27,{"$f":"SUM(BT3:BT13)","v":38},8,1,11,1,33,2,4,53,44,23,7,4,1,5,15,127,3,1,14,6,124,9,11,23,1461,3709,11010,7,3,2,2,3,24,1,65,19,216,5,4,2,2]

{"sheet":"2月","index":1,"n_rows":67,"n_cols":102,"rows_kept":67,"cut":false,"hidden":false,"merged":[[0,0,0,60],[66,0,66,3]]}
["交通设施日常维护-设备设施维修纪录明细"]
[{"$nulls":4},1,2,3,4,5,6,7,8,9,10,11,12,13,14,15,16,17,18,19,20,21,22,23,24,25,26,27,28,29,30,31,32,33,34,35,36,37,38,39,40,41,42,43,44,45,46,47,48,49,50,51,52,53,54,55,56,57,58,59,60,61,62,63,64,65,66,67,68,69,70,71,72,73,74,75,76,77,78,79,80,81,82,83,84,85,86,87,88,89,90,91,92,93,94,95,96,97,98]
["序号","日期","维修位置","维修内容","更换信号灯（组）","信号灯型号（备注）","更换步道灯（组）","更换信号灯杆（根）","更换步道灯杆（根）","更换灯板（400*400块）","更换灯板（300块）","更换电源线3*4（m)","更换控制线缆5*1.5（m)","更换蓄电池（块）","更换灯围（个）","更换灯罩（个）","更换保险（个/组）","更换变压器（24v15w）（个）","更换变压器（24v11w）（个）","更换变压器（15v15w）（个）","更换太阳能模块（个）","更换天线（根）","更换过充过放（个）","更换信号机（台）","更换太阳能信号灯从机（台）","更换锁具（套）","安装手孔盖（个）","调整行车灯（套）","基本路口信号优化（处）","信号实时优化（处）","主干道绿波优化（处）","关闭信号机机箱门（个）","更换太阳能信号机主机（台）","更换信号机机箱（套）","调整标志牌（套）","拆除灯具（组）","更换太阳能晒板（块）","拆除标志牌（套）","关闭灯头（个）","更换漏电（个）","安装标志牌（套）","确认灯杆被撞（次）","安（拆）倒计时（块）","安装电表箱（个）","拆除探头线（处）","调整步道灯（处）","修剪树枝（处）","擦拭灯具（组）","更换太阳能信号机主板（块）","安装灯条（组）","安装太阳能晒板（块）","安装护栏（组）","调整灯线电源线接地线（次）","更换井盖（个）","更换相位板（块）","更换被撞灯杆（根）","放发电机应急保障(ex2500cx)（台）","发电机台班","放置临时信号灯应急保障（台）","临时信号灯台班","临时停电应急保障（次）","临时停电台班","维修太阳能信号接收器（套）","合闸","恢复信号灯检查井（次）","拆除灯杆（根）","基础施工（次）","加固机箱（台）","修复灯部件（个）","机箱部件更换修复（个）","清除小广告（个）","喷涂（次）","安装更换检查孔（个）","井盖调整修复（次）","系统校时(次）","两米接地签字（根）","扁铁（一根4米）","螺丝（套）","关闭电表箱窗户（次）","维修手孔井（套）","更换220转24电源（块）","灯杆漆面反光膜翻新（根）","安装黄闪灯（套）","更换黄闪灯（套）","热熔标线画线（次）","更换转换器（24v）（个）","抱箍（套）","调整太阳能板（次）","关闭喇叭（次）","更换空开（个）","更换线缆（2*6）m","更换太阳能接触器（个）","更换临时信号机（台）","小电瓶（个）","调整灯杆（根）","拆除黄闪（个）","拆除黄闪灯杆（根）","机箱被撞（次）","其他","拆除线缆（米）","热熔标线（实线）平米","电缆直埋保护管PE管（米）"]
[1,"2021-02-01","昌金路与中干渠","更换400灯板",{"$nulls":5},1]
[2,"2021-02-03","通顺路顺祥街","更换400灯板",{"$nulls":5},1]
[3,"2021-02-04","通顺路与龙苑路","更换空开",{"$nulls":85},1]
[4,"2021-02-04","京沈路与相各庄","更换400灯板",{"$nulls":5},2]
[5,"2021-02-05","京沈路与牛山油库","更换灯围",{"$nulls":10},1]
[6,"2021-02-05","顺平路行宫","更换灯围",{"$nulls":10},1]
[7,"2021-02-06","顺白路军营街","更换电瓶",{"$nulls":9},2,{"$nulls":8},1]
[8,"2021-02-07","赵陈路与木燕路","更换信号机1台",{"$nulls":7},30,{"$nulls":11},1,{"$nulls":77},30]
[9,"2021-02-07","金汉绿港三区","更换信号机1台",{"$nulls":19},1]
[10,"2021-02-07","顺沙路与张西路","标志牌调整",{"$nulls":30},1]
[11,"2021-02-07","昌金路与北府村","更换电瓶、更换灯板",{"$nulls":5},1,null,null,null,2,{"$nulls":8},1]
[12,"2021-02-08","西府市场","更换信号机1台",{"$nulls":19},1]
[13,"2021-02-08","通顺路与龙苑路","更换电瓶、更换天线、更换过充过放",{"$nulls":9},4,{"$nulls":7},1,1]
[14,"2021-02-09","顺沙路西杜兰","更换信号机1台",{"$nulls":19},1]
[15,"2021-02-10","石园南大街与顺和路","更换人行灯板1块",{"$nulls":6},1]
[16,"2021-02-10","昌金路与白良路","更换灯板",{"$nulls":5},1]
[17,"2021-02-10","通顺路与顺丰大街","更换电瓶、更换天线",{"$nulls":9},2,{"$nulls":7},1]
[18,"2021-02-14","裕龙花园三区","更换5*1.5控制线",{"$nulls":8},150]
[19,"2021-02-14","顺平南线与龙尹路","更换信号机1台",{"$nulls":19},1]
[20,"2021-02-15","昌金路和火寺路","更换信号机1台",{"$nulls":7},123,{"$nulls":11},1,{"$nulls":77},123]
[21,"2021-02-15","龙尹路与顺平南辅线","更换空开",{"$nulls":85},1]
[22,"2021-02-15","通顺路与拥军路","更换灯板",{"$nulls":5},1]
[23,"2021-02-15","白马路与桥头村","更换5*1.5控制线",{"$nulls":8},210]
[24,"2021-02-17","京密路富各庄公交车站","擦拭灯具",{"$nulls":43},1]
[25,"2021-02-17","京密路富各庄","擦拭灯具",{"$nulls":43},1]
[26,"2021-02-17","京密路富各庄","擦拭灯具",{"$nulls":43},1]
[27,"2021-02-17","京密路富各庄公交车站","更换灯板",{"$nulls":5},1]
[28,"2021-02-17","裕龙二街与裕龙一区","标志牌拆除安装",{"$nulls":33},1,null,null,1]
[29,"2021-02-18","通顺路与府前街","更换信号灯2组，更换5*1.5控制线",2,{"$nulls":7},210]
[30,"2021-02-18","裕龙小区","标志牌拆除安装",{"$nulls":33},1,null,null,1]
[31,"2021-02-18","平沿路与龙塘路","更换信号机1台",{"$nulls":19},1]
[32,"2021-02-18","顺平路与龙尹路","更换电瓶、更换天线、更换过充过放、更换太阳能从机1台",{"$nulls":9},4,{"$nulls":7},2,1,null,1]
[33,"2021-02-19","拥军路与顺平辅线","更换门锁、关闭机箱门",{"$nulls":21},1,{"$nulls":5},1]
[34,"2021-02-19","天北路与怀昌路","更换信号灯2组",2]
[36,"2021-02-20","高白路与规划一路（于庄）","更换信号机1台、更换灯板",{"$nulls":5},1,1,{"$nulls":12},1]
[37,"2021-02-20","顺和路与石园南大街","更换5*1.5控制线",{"$nulls":8},360]
[38,"2021-02-20","机场东路军营街","灯歪扶正",{"$nulls":23},1]
[39,"2021-02-21","高白路与规划一路（于庄）","更换电瓶",{"$nulls":9},2,{"$nulls":8},1]
[40,"2021-02-21","顺和路与石园南大街","更换信号机1台",{"$nulls":19},1]
[41,"2021-02-21","府前街与通顺路","更换灯板",{"$nulls":5},1,1]
[42,"2021-02-22","区医院十字路口","更换人行灯板2块",{"$nulls":6},2]
[43,"2021-02-22","白马路与龙尹路","更换电瓶",{"$nulls":9},2]
[44,"2021-02-22","左堤辅线与减河北路","更换信号机1台",{"$nulls":19},1]
[45,"2021-02-22","木燕路北京城市学院顺义校区","标志牌调整",{"$nulls":30},1]
[46,"2021-02-22","龙塘路与市场西路路口","标志牌调整",{"$nulls":30},1]
[47,"2021-02-23","机场东路与龙塘路","更换线",{"$nulls":7},236,{"$nulls":55},1,{"$nulls":33},236]
[48,"2021-02-24","裕华路与火沙辅线","更换5*1.5控制线",{"$nulls":8},160]
[49,"2021-02-24","后沙峪江山赋路口","更换信号灯2组",2]
[50,"2021-02-24","安富街与裕华路","更换信号灯2组",2]
[51,"2021-02-24","顺平路与顺泰路","更步道灯组",null,null,1,{"$nulls":5},39]
[52,"2021-02-25","顺平路(张镇路口)","更换信号机1台、更换空开",{"$nulls":19},1,{"$nulls":65},1]
[53,"2021-02-25","火寺路与顺平路","更换灯板",{"$nulls":5},1]
[54,"2021-02-25","昌金路与龙尹路","更换电瓶、更换天线、更换太阳能从机1台",{"$nulls":9},2,{"$nulls":7},1,null,null,1]
[55,"2021-02-25","顺平路九王庄","更换信号机1台",{"$nulls":19},1]
[56,"2021-02-25","顺平南线与中干渠","更换电瓶、更换天线、更换灯板",{"$nulls":5},1,1,null,null,2,{"$nulls":7},1]
[57,"2021-02-26","澜西园城关小学","标志牌拆除安装",{"$nulls":33},1,null,null,1]
[58,"2021-02-26","顺平路张镇","更换400灯板",{"$nulls":5},1,null,30,{"$nulls":89},30]
[59,"2021-02-26","顺平路与龙尹路","更换电瓶、更换天线、更换过充过放",{"$nulls":9},2,{"$nulls":7},1,1]
[60,"2021-02-26","安宁大街吉祥花园小区","更步道灯组",null,null,1,{"$nulls":75},1]
[61,"2021-02-26","顺于路宏城花园","拆除黄闪灯",{"$nulls":91},1]
[62,"2021-02-26","左堤路松鹤酒店","灯杆被撞，摆放临时灯",{"$nulls":37},1,{"$nulls":15},1,1,1,1,1]
[63,"2021-02-27","火沙路与古城中心街","调整配时",{"$nulls":24},1]
[]
["合计",null,null,null,{"$f":"SUM(E4:E66)","v":8},0,2,0,0,13,6,419,1129,24,2,0,0,0,0,0,0,7,6,12,2,1,0,1,1,0,0,{"$f":"SUM(AF4:AF66)","v":1},0,0,3,0,0,3,0,0,3,1,0,0,0,0,0,3,0,0,0,0,0,0,0,0,0,1,1,1,1,1,0,0,0,0,0,1,0,0,0,0,0,0,{"$f":"SUM(BW4:BW66)","v":0},0,0,0,0,0,0,0,1,0,0,0,0,0,0,3,0,0,0,0,0,1,0,0,0,0,0,419]

{"sheet":"3月","index":2,"n_rows":191,"n_cols":102,"rows_kept":191,"cut":false,"hidden":false,"merged":[[0,0,0,63],[190,0,190,3]]}
["交通设施日常维护-设备设施维修纪录明细"]
[{"$nulls":4},1,2,3,4,5,6,7,8,9,10,11,12,13,14,15,16,17,18,19,20,21,22,23,24,25,26,27,28,29,30,31,32,33,34,35,36,37,38,39,40,41,42,43,44,45,46,47,48,49,50,51,52,53,54,55,56,57,58,59,60,61,62,63,64,65,66,67,68,69,70,71,72,73,74,75,76,77,78,79,80,81,82,83,84,85,86,87,88,89,90,91,92,93,94,95,96,97,98]
["序号","日期","维修位置","维修内容","更换信号灯（组）","信号灯型号（备注）","更换步道灯（组）","更换信号灯杆（根）","更换步道灯杆（根）","更换灯板400*400（块）","更换灯板（300块）","更换电源线3*4（m)","更换控制线缆5*1.5（m)","更换蓄电池（块）","更换灯沿（个）","更换灯罩（个）","更换保险（个）","更换变压器（24v15w）（个）","更换变压器（24v11w）（个）","更换变压器（15v15w）（个）","更换太阳能模块（个）","更换天线（根）","更换过充过放（个）","更换信号机（台）","更换太阳能信号灯分机（台）","更换锁具（套）","安装手孔盖（个）","调整行车灯（套）","基本路口信号优化（处）","信号实时优化（处）","主干道绿波优化（处）","关闭信号机机箱门（个）","更换太阳能信号机主机（台）","更换信号机机箱（套）","调整标志牌（套）","拆除灯具（组）","更换太阳能晒板（块）","拆除标志牌（套）","关闭灯头（个）","更换漏电（个）","安装标志牌（套）","确认灯杆被撞（次）","安（拆）倒计时（块）","安装电表箱（个）","拆除探头线（处）","调整步道灯（处）","修剪树枝（处）","擦拭灯具（组）","更换太阳能信号机主板（块）","安装灯条（组）","安装太阳能晒板（块）","安装护栏（组）","调整灯线电源线（次）","更换井盖（个）","更换相位板（块）","更换被撞灯杆（根）","放发电机应急保障(ex2500cx)（台）","发电机台班","放置临时信号灯应急保障（台）","临时信号灯台班","临时停电应急保障（次）","临时停电台班","维修太阳能信号接收器（套）","合闸","恢复信号灯检查井（次）","拆除灯杆（根）","基础施工（次）","加固机箱（台）","修复灯部件（个）","机箱部件更换修复（个）","清除小广告（个）","喷涂（次）","安装更换检查孔（个）","井盖调整修复（次）","系统校时(次）","两米接地签字（根）","扁铁（一根4米）","螺丝（套）","关闭电表箱窗户（次）","维修手孔井（套）","更换220转24电源（块）","灯杆漆面反光膜翻新（根）","安装黄闪灯（套）","更换黄闪灯（套）","热熔标线画线（次）","更换转换器（24v）（个）","抱箍（套）","调整太阳能板（次）","关闭喇叭（次）","更换空开（个）","更换线缆（2*6）m","更换太阳能接触器（个）","更换临时信号机（台）","小电瓶（个）","调整灯杆（根）","拆除黄闪（个）","拆除黄闪灯杆（根）","机箱被撞（次）","其他","拆除线缆（米）","热熔标线（实线）平米","电缆直埋保护管PE管（米）"]
[1,"2021-03-01","新顺南大街与法医街路口，人行步道灯故障恢复","更换步道灯一组，5*1.5线120米",null,null,1,{"$nulls":5},120]
[2,"2021-03-01","复兴东街与左堤辅线","调整配时",{"$nulls":24},1]
[3,"2021-03-01","左堤路与顺平南线","更换线",{"$nulls":8},188]
[4,"2021-03-01","京密路与安宁大街","更换信号机",{"$nulls":19},1]
[5,"2021-03-01","顺平南线与左堤路","更换空开",{"$nulls":85},1]
[6,"2021-03-02","顺西南路","货车牌子歪斜恢复",{"$nulls":30},1]
[7,"2021-03-02","天北路与馨园三街","更换信号机",{"$nulls":19},1]
[8,"2021-03-02","昌金路与龙凤路","更换电池、更换天线、更换过充过放",{"$nulls":9},2,{"$nulls":7},1,1]
[9,"2021-03-02","京平高速西大坨桥","调整配时",{"$nulls":24},1]
[10,"2021-03-03","顺平路焦各庄村","禁行指示牌歪斜恢复"]
[11,"2021-03-03","左堤辅路与顺平辅路","更换左转箭头1块",{"$nulls":6},1]
[12,"2021-03-05","顺平南线木北路","更换灯板",{"$nulls":5},1]
[13,"2021-03-05","樱花园路口","更换信号机",{"$nulls":19},1]
[14,"2021-03-05","赵全营人民政府门口","更换灯板",{"$nulls":5},1,1]
[15,"2021-03-05","平沿路石园东苑路口","更换控制线",{"$nulls":8},80]
[16,"2021-03-05","机场北街与中轴路","更换电瓶、更换天线、更换分机",{"$nulls":9},2,{"$nulls":7},1,null,null,1]
[17,"2021-03-05","通顺路与拥军路","步道灯罩脱落恢复",{"$nulls":11},1]
[18,"2021-03-06","复兴东街与左堤支线","更换300灯板",null,null,2]
[19,"2021-03-06","陈马路华联（木林店）","更换电源线",{"$nulls":7},225,{"$nulls":89},225]
[20,"2021-03-06","天北路与顺平路","更换控制线",null,null,1,{"$nulls":5},273]
[21,"2021-03-07","京沈路与顺沙路","更换信号机",{"$nulls":19},1]
[22,"2021-03-07","火沙路与裕庆路","更换灯眉",{"$nulls":11},1]
[23,"2021-03-07","天北路馨园三街","更换灯板",{"$nulls":5},1]
[24,"2021-03-09","顺福路仁和花园北门","调整配时",{"$nulls":24},1]
[25,"2021-03-09","龙塘路李桥镇政府","更换控制线",{"$nulls":8},324]
[26,"2021-03-09","新顺南大街与法医街路口","更换信号机",{"$nulls":19},1]
[27,"2021-03-09","牛山一中路口","机箱门关闭，更换门锁",{"$nulls":21},1,{"$nulls":5},1]
[28,"2021-03-09","减河北路与左堤路","更换电源线",{"$nulls":7},155,{"$nulls":89},155]
[29,"2021-03-09","李木路与龙塘路","更换控制线、更换保险",{"$nulls":8},75,null,null,null,3]
[30,"2021-03-10","上埝村口","红绿灯歪斜恢复",{"$nulls":23},1]
[31,"2021-03-10","左堤路距白马路路口2公里路东","货车禁行牌校正",{"$nulls":30},1]
[32,"2021-03-10","天北路机场北线","更换信号机",{"$nulls":19},1]
[33,"2021-03-10","龙塘路李桥镇政府","更换控制线",{"$nulls":8},212]
[34,"2021-03-10","左堤路与减河北路","更换信号机",{"$nulls":19},1]
[35,"2021-03-11","李堡路与通顺路","更换控制线、更换灯板",{"$nulls":5},1,null,null,173]
[36,"2021-03-11","顺白路与外环路","更换控制线",{"$nulls":8},336]
[37,"2021-03-11","坤安路与顺兴街","更换灯板",{"$nulls":6},2]
[38,"2021-03-11","顺沙路与利民大街","禁停标志牌",{"$nulls":78},1]
[39,"2021-03-11","国家开放大学门口","更换黄闪灯一个",{"$nulls":91},1]
[40,"2021-03-12","龙塘路与木燕路","更换信号机、更换保险、更换电源线",{"$nulls":7},88,{"$nulls":4},3,{"$nulls":6},1,{"$nulls":77},88]
[41,"2021-03-12","木北路与顺平南线","合闸",{"$nulls":53},1,null,1,1,1,null,1]
[42,"2021-03-12","木燕辅线与龙塘路","红绿灯歪斜恢复",{"$nulls":23},1]
[43,"2021-03-12","昌金路与高下路","放置临时信号灯",{"$nulls":53},1,1,1,1,1]
[44,"2021-03-12","平沿路与顺福路","更换信号机",{"$nulls":8},125,{"$nulls":10},1]
[45,"2021-03-12","顺平路与机场东路","更换控制线",{"$nulls":8},177]
[46,"2021-03-12","昌金路与龙凤路","更换电瓶、过充过放、更换太阳能主机",{"$nulls":9},2,{"$nulls":8},1,{"$nulls":9},1]
[47,"2021-03-12","裕丰路与安华街","更换电瓶、过充过放、更换太阳能从机",{"$nulls":9},2,{"$nulls":8},1,null,1]
[48,"2021-03-12","京密路与天纬二街","合闸",{"$nulls":53},1,null,1,1,1,null,1]
[49,"2021-03-12","木燕路与迎宾路","更换电瓶、过充过放、更换太阳能主机",{"$nulls":9},2,{"$nulls":8},1,{"$nulls":9},1]
[50,"2021-03-13","昌金路火寺路","红绿灯歪斜恢复",{"$nulls":23},1]
[51,"2021-03-13","通顺路仓上街","更换控制线",{"$nulls":8},62]
[52,"2021-03-13","龙塘路通顺路","调整配时",{"$nulls":24},1]
[53,"2021-03-13","白马路顺密路","更换灯2组",2]
[54,"2021-03-13","顺平南线顺泰路","更换电瓶、过充过放",{"$nulls":9},2,{"$nulls":8},1]
[55,"2021-03-13","昌金路与高下路","更换信号机",{"$nulls":19},1]
[56,"2021-03-13","白马路与赵湘路","更换天线、更换太阳能分机",{"$nulls":17},1,null,null,1]
[57,"2021-03-13","后沙峪镇政府","更换控制线",{"$nulls":8},166]
[58,"2021-03-13","顺平路与龙尹辅线","更换灯板",{"$nulls":5},1,1]
[59,"2021-03-14","陈马路与木北路","更换信号机",{"$nulls":19},1]
[60,"2021-03-14","白马路与赵湘路","更换控制线",{"$nulls":8},33,{"$nulls":8},1]
[61,"2021-03-14","昌金路与顺密路","更换灯板",{"$nulls":5},1]
[62,"2021-03-14","林河大街与顺康路","更换信号机",{"$nulls":19},1]
[63,"2021-03-14","金汉幼儿园","合闸",{"$nulls":55},1,1,1,null,1]
[64,"2021-03-14","陈马路与木北路","更换灯板",{"$nulls":5},1]
[65,"2021-03-15","京平高速西大坨桥","信号灯关闭",{"$nulls":34},1]
[66,"2021-03-15","顺密路北小营镇","检修口恢复",{"$nulls":22},1]
[67,"2021-03-15","天北路中航信路口","更换控制线",{"$nulls":8},115]
[68,"2021-03-15","通顺路仓上街路口","机箱门关闭",{"$nulls":27},1]
[69,"2021-03-15","顺平路与顺泰路","合闸",{"$nulls":53},1,null,1,1,1,null,1]
[70,"2021-03-16","外环路与順西南路","更换灯板",{"$nulls":5},1]
[71,"2021-03-16","火寺路与昌金路","更换信号机",{"$nulls":19},1]
[72,"2021-03-16","顺于路与火寺路","调整配时",{"$nulls":24},1]
[73,"2021-03-16","通顺路顺丰大街","更换电瓶",{"$nulls":9},2]
[74,"2021-03-16","京沈路与顺沙路","调整配时",{"$nulls":24},1]
[75,"2021-03-16","西大坨桥下","拆除4套红绿灯结构",{"$nulls":31},8,{"$nulls":29},4,{"$nulls":33},521]
[76,"2021-03-16","顺平南线与平沿路","更换线路",{"$nulls":7},122,165,{"$nulls":88},122]
[77,"2021-03-17","京沈路与顺沙路路口","调整配时",{"$nulls":24},1]
[78,"2021-03-17","顺于路与火寺路","调整配时",{"$nulls":24},1]
[79,"2021-03-17","金航路航港六街路口","放置临时信号灯",{"$nulls":53},1,1,1,1,1]
[80,"2021-03-17","顺于路与高白路路口","临时信号机电池更换",{"$nulls":9},2]
[81,"2021-03-17","京沈路与顺沙路","调整配时",{"$nulls":24},1]
[82,"2021-03-17","火寺路顺于路路口","调整配时",{"$nulls":24},1]
[83,"2021-03-17","火寺路顺于路路口配时更改","调整配时",{"$nulls":24},1]
[84,"2021-03-17","昌金路与火寺路路口","禁停标识牌恢复",{"$nulls":30},1]
[85,"2021-03-17","昌金路与火寺路路口","更换灯具一组",1]
[86,"2021-03-17","天北路安富街路口","红绿灯结构被撞拆除",{"$nulls":31},2,{"$nulls":5},1,{"$nulls":23},1]
[87,"2021-03-18","顺于路火寺路","配时更改",{"$nulls":24},1]
[88,"2021-03-18","顺沙路裕安路","放置临时信号灯",{"$nulls":53},1,1,1,1,1]
[89,"2021-03-18","金汉幼儿园","更换电源线",{"$nulls":7},122,{"$nulls":89},122]
[90,"2021-03-18","顺沙路万万树","合闸",{"$nulls":55},1,1,1,null,1]
[91,"2021-03-18","天柱路","放置发电机",{"$nulls":52},1,1,null,1,1,1]
[92,"2021-03-18","顺平路张镇政府","更换电源线",{"$nulls":7},75,{"$nulls":89},75]
[93,"2021-03-19","顺平南线河南村口","标志牌调整",{"$nulls":30},1]
[94,"2021-03-19","顺平南线平沿路","标志牌调整",{"$nulls":30},1]
[95,"2021-03-19","顺平南线与左堤路","合闸",{"$nulls":53},1,null,1,1,1,null,1]
[96,"2021-03-20","左堤路与顺平南线","合闸",{"$nulls":53},1,null,1,1,1,null,1]
[97,"2021-03-20","顺平南线与龙尹路","更换灯眉",{"$nulls":11},1]
[98,"2021-03-20","昌金路与看守所","更换电源线",{"$nulls":7},225,{"$nulls":89},225]
[99,"2021-03-20","顺平南线与龙尹路","电力施工临时措施",{"$nulls":52},1,1,null,1,1,1]
[100,"2021-03-20","双峪路与裕安路","更换控制线",{"$nulls":8},127]
[101,"2021-03-20","顺密路与后礼务路","更换灯2组",2]
[102,"2021-03-20","昌金路与龙凤路","更换太阳板1个，电池2个，适配器",{"$nulls":9},2,{"$nulls":8},1,{"$nulls":13},1]
[103,"2021-03-20","李天路半壁店","帽檐恢复",{"$nulls":10},1]
[104,"2021-03-20","天北路安富街路口","制作施工，安装红绿灯结构（直径165mm，高5.8m，臂长1.5mT型杆,灯2组）",2,null,null,1]
[105,"2021-03-21","顺平路与顺和路","合闸",{"$nulls":53},1,null,1,1,1,null,1]
[106,"2021-03-21","顺平南线与龙尹路","更换灯板",{"$nulls":5},1]
[107,"2021-03-21","顺平路妇幼门口","合闸",{"$nulls":55},1,1,1,null,1]
[108,"2021-03-21","南环路平沿路","更换灯眉",{"$nulls":11},1]
[109,"2021-03-21","李天路向阳屯","帽檐恢复",{"$nulls":11},1]
[110,"2021-03-21","李天路与半壁店","帽檐恢复",{"$nulls":11},1]
[111,"2021-03-21","顺平南线与燕京啤酒厂","安装灯眉",{"$nulls":11},1]
[112,"2021-03-21","龙塘路与左堤路","更换电瓶",{"$nulls":9},2]
[113,"2021-03-21","龙塘路与李魏路","合闸",{"$nulls":53},1,null,1,1,1,null,1]
[114,"2021-03-22","平沿路与港鑫西区东南角","合闸",{"$nulls":53},1,null,1,1,1,null,1]
[115,"2021-03-22","马庄检查站路口","改成横装方式",{"$nulls":23},1]
[116,"2021-03-22","木燕路东盯路","更换灯组",1]
[117,"2021-03-22","木燕路与顺平南线","红绿灯歪斜恢复",{"$nulls":23},1]
[118,"2021-03-22","李桥派出所路口","更换控制线",{"$nulls":8},70]
[119,"2021-03-22","顺沙路与右堤路","调整配时",{"$nulls":24},1]
[120,"2021-03-22","建新东街与新顺南大街","灯杆检修口恢复",{"$nulls":22},1]
[121,"2021-03-22","木林幼儿园","拆除倒计时",{"$nulls":38},1]
[122,"2021-03-22","站前北街与顺恒大街","调整配时",{"$nulls":24},1]
[123,"2021-03-23","坤安路与顺恒大街路口","加高人行灯杆4根（加高1米并调人行灯）",{"$nulls":4},4,{"$nulls":36},4]
[124,"2021-03-25","顺沙路与火寺路","更换东向西灯盘2套，调整南北向红绿灯角度",2,{"$nulls":22},6]
[125,"2021-03-25","顺沙路与火寺路","加装禁停标志牌11套",{"$nulls":36},11]
[126,"2021-03-26","顺平南线与木北路","拆除被撞红绿灯杆",{"$nulls":31},1,{"$nulls":5},1,{"$nulls":23},1]
[127,"2021-03-27","河北路与左堤路","更换人行灯灯板2块，换线80米",{"$nulls":6},2,null,180,{"$nulls":39},1]
[128,"2021-03-27","顺平南线与木北路","恢复临时红绿灯",{"$nulls":54},1,1,1,1]
[129,"2021-03-28","龙塘路与木燕路","临时电力施工临时处置",{"$nulls":53},1,1,1,1,1]
[130,"2021-03-28","龙塘路郭家务","更换电源线",{"$nulls":7},338,{"$nulls":89},338]
[131,"2021-03-28","顺平路与顺畅大道","调整配时"]
[132,"2021-03-28","顺和路与林河南大街","更换控制线",{"$nulls":8},162]
[133,"2021-03-28","裕安路与安平北街","更换灯2组",2,{"$nulls":4},1]
[134,"2021-03-28","减河北路与左堤路","更换控制线",{"$nulls":8},261]
[135,"2021-03-28","顺于路顺航路交叉口","更换灯板",{"$nulls":5},1]
[136,"2021-03-28","西环路石门市场6号门","更换灯板",{"$nulls":5},1]
[137,"2021-03-28","顺于路与外环","更换灯板",{"$nulls":5},1]
[138,"2021-03-28","顺平南线与木北路","恢复临时红绿灯",{"$nulls":53},1,1,1,1,1]
[139,"2021-03-29","顺平南线河南村南口","更换电源线",{"$nulls":7},248,{"$nulls":89},248]
[140,"2021-03-29","白马路与木燕路信号灯","更换灯2组",2]
[141,"2021-03-29","通顺路现代汽车厂门口","合闸",{"$nulls":53},1,null,1,1,1,null,1]
[142,"2021-03-29","顺平路裕安大街","更换灯板",{"$nulls":5},1]
[143,"2021-03-29","站前南街与建新西街","步道灯提示音关闭",{"$nulls":84},1]
[144,"2021-03-29","顺密路木林幼儿园","红绿灯朝向调整",{"$nulls":23},1]
[145,"2021-03-30","顺密路木林幼儿园","更换灯板",{"$nulls":5},1]
[146,"2021-03-30","昌金路与火寺路","更换控制线",{"$nulls":8},184]
[147,"2021-03-30","京沈路相各庄路口","更换灯2组",2]
[148,"2021-03-30","通顺路与复兴四街民生银行","更换电瓶",{"$nulls":9},2,{"$nulls":7},1,1]
[149,"2021-03-30","木燕路与杨镇一中门口","红绿灯歪斜恢复",{"$nulls":23},1]
[150,"2021-03-30","石园大街石园小学","更换黄闪灯一个",{"$nulls":78},1,1,{"$nulls":11},1]
[151,"2021-03-30","顺白路与外环路路口","更换灯板",{"$nulls":5},2]
[152,"2021-03-31","通顺路与滨河北路交叉路口","南向东方向指示牌调整",{"$nulls":30},1]
[153,"2021-03-31","滨河北路路西，北向南","标志牌调整",{"$nulls":30},1]
[154,"2021-03-31","滨河北路路东，南向北","标志牌调整",{"$nulls":30},1]
[155,"2021-03-31","滨河北路路东，南向北","标志牌调整",{"$nulls":30},1]
[156,"2021-03-31","火沙路与裕庆路","标志牌调整",{"$nulls":30},1]
[157,"2021-03-31","石园南大街","黄闪灯修复",{"$nulls":78},1,{"$nulls":12},1]
[158,"2021-03-31","石园南大街","黄闪灯修复",{"$nulls":78},1,{"$nulls":12},1]
[159,"2021-03-31","石园南大街","黄闪灯修复",{"$nulls":78},1,{"$nulls":12},1]
[160,"2021-03-31","石园南大街","黄闪灯修复",{"$nulls":78},1,{"$nulls":12},1]
[161,"2021-03-31","站前街火车站路口","人行步道灯喇叭",{"$nulls":84},1]
[162,"2021-03-31","昌金路与火寺路","修复灯眉",{"$nulls":11},1]
[163,"2021-03-31","木北路与龙塘路","红绿灯歪斜恢复",{"$nulls":30},1]
[164,"2021-03-31","顺沙路与火寺路","灯组被撞歪调整",{"$nulls":30},1]
[165,"2021-03-31","顺平南线护耳山","黄闪灯修复",{"$nulls":78},1,{"$nulls":12},1]
[166,"2021-03-31","通顺路顺丰大街","更换灯板",{"$nulls":5},1]
[167,"2021-03-31","龙塘路李桥派出所路口","更换灯板",{"$nulls":5},1]
[168,"2021-03-23","顺兴街与坤安路","标志牌调整",{"$nulls":30},1]
[169,"2021-03-23","顺沙路高丽营东公交站","标志牌调整",{"$nulls":30},1]
[170,"2021-03-23","321省道玻璃大全","标志牌调整",{"$nulls":30},1]
[171,"2021-03-23","顺沙路九千桥","标志牌调整",{"$nulls":30},1]
[172,"2021-03-23","顺沙路高丽营市场","标志牌调整",{"$nulls":30},1]
[173,"2021-03-23","顺沙路志强宾馆","标志牌调整",{"$nulls":30},1]
[174,"2021-03-23","建军街西马各庄村村委会","标志牌调整",{"$nulls":30},1]
[175,"2021-03-23","高白路高丽营小学公交站","标志牌调整",{"$nulls":30},1]
[176,"2021-03-23","火寺路","标志牌调整",{"$nulls":30},1]
[177,"2021-03-23","顺沙路高丽营市场","标志牌调整",{"$nulls":30},1]
[178,"2021-03-25","前渠河","黄灯调整位置",{"$nulls":23},1,{"$nulls":6},1]
[179,"2021-03-25","西王路公交站","标志牌调整",{"$nulls":30},1]
[180,"2021-03-27","裕华路","标志牌调整",{"$nulls":30},1]
[181,"2021-03-27","火寺路","标志牌调整",{"$nulls":30},1]
[182,"2021-03-27","榆阳路丽高王府附近","标志牌调整",{"$nulls":30},1]
[183,"2021-03-27","榆阳路丽高王府","禁停标识安装",{"$nulls":36},1]
[184,"2021-03-27","西环路信号","灯板更换",{"$nulls":5},1]
[]
[]
[]
["合计",null,null,null,{"$f":"SUM(E4:E190)","v":16},{"$f":"SUM(F4:F190)","v":0},4,1,4,20,7,1598,3608,22,1,8,6,0,0,0,0,5,7,13,3,1,2,14,14,0,{"$f":"SUM(AE4:AE190)","v":0},2,2,0,27,11,1,0,1,0,12,2,1,0,0,4,0,0,0,{"$f":"SUM(AX4:AX190)","v":0},0,0,1,0,0,0,2,16,6,20,20,{"$f":"SUM(BJ4:BJ190)","v":20},0,12,0,6,0,0,0,0,0,0,0,0,0,0,0,0,0,0,0,0,7,1,{"$f":"SUM(CG4:CG190)","v":0},0,0,0,2,1,0,0,0,0,0,7,0,0,0,521,0,1598]

{"sheet":"4月","index":3,"n_rows":602,"n_cols":102,"rows_kept":602,"cut":false,"hidden":false,"merged":[[0,0,0,63],[601,0,601,3]]}
["交通设施日常维护-设备设施维修纪录明细"]
[{"$nulls":4},1,2,3,4,5,6,7,8,9,10,11,12,13,14,15,16,17,18,19,20,21,22,23,24,25,26,27,28,29,30,31,32,33,34,35,36,37,38,39,40,41,42,43,44,45,46,47,48,49,50,51,52,53,54,55,56,57,58,59,60,61,62,63,64,65,66,67,68,69,70,71,72,73,74,75,76,77,78,79,80,81,82,83,84,85,86,87,88,89,90,91,92,93,94,95,96,97,98]
["序号","日期","维修位置","维修内容","更换信号灯（组）","信号灯型号（备注）","更换步道灯（组）","更换信号灯杆（根）","更换步道灯杆（根）","更换灯板400*400（块）","更换灯板（300块）","更换电源线3*4（m)","更换控制线缆5*1.5（m)","更换蓄电池（块）","更换灯沿（个）","更换灯罩（个）","更换保险（个）","更换变压器（24v15w）（个）","更换变压器（24v11w）（个）","更换变压器（15v15w）（个）","更换太阳能模块（个）","更换天线（根）","更换过充过放（个）","更换信号机（台）","更换太阳能信号灯分机（台）","更换锁具（套）","安装手孔盖（个）","调整行车灯（套）","基本路口信号优化（处）","信号实时优化（处）","主干道绿波优化（处）","关闭信号机机箱门（个）","更换太阳能信号机主机（台）","更换信号机机箱（套）","调整标志牌（套）","拆除灯具（组）","更换太阳能晒板（块）","拆除标志牌（套）","关闭灯头（个）","更换漏电（个）","安装标志牌（套）","确认灯杆被撞（次）","安（拆）倒计时（块）","安装电表箱（个）","拆除探头线（处）","调整步道灯（处）","修剪树枝（处）","擦拭灯具（组）","更换太阳能信号机主板（块）","安装灯条（组）","安装太阳能晒板（块）","安装护栏（组）","调整灯线电源线（次）","更换井盖（个）","更换相位板（块）","更换被撞灯杆（根）","放发电机应急保障(ex2500cx)（台）","发电机台班","放置临时信号灯应急保障（台）","临时信号灯台班","临时停电应急保障（次）","临时停电台班","维修太阳能信号接收器（套）","合闸","恢复信号灯检查井（次）","拆除灯杆（根）","基础施工（次）","加固机箱（台）","修复灯部件（个）","机箱部件更换修复（个）","清除小广告（个）","喷涂（次）","安装更换检查孔（个）","井盖调整修复（次）","系统校时(次）","两米接地签字（根）","扁铁（一根4米）","螺丝（套）","关闭电表箱窗户（次）","维修手孔井（套）","更换220转24电源（块）","灯杆漆面反光膜翻新（根）","安装黄闪灯（套）","更换黄闪灯（套）","热熔标线画线（次）","更换转换器（24v）（个）","抱箍（套）","调整太阳能板（次）","关闭喇叭（次）","更换空开（个）","更换线缆（2*6）m","更换太阳能接触器（个）","更换临时信号机（台）","小电瓶（个）","调整灯杆（根）","拆除黄闪（个）","拆除黄闪灯杆（根）","机箱被撞（次）","其他","拆除线缆（米）","热熔标线（实线）平米","电缆直埋保护管PE管（米）"]
[1,"2021-04-01","怀昌路天北路","被撞步道灯恢复",null,null,1,{"$nulls":34},1]
[2,"2021-04-01","铁回路铁匠营","放临时信号灯",{"$nulls":53},1,1,1,1,1]
[3,"2021-04-01","天北路罗马湖周边","更换16套灯组",16,{"$nulls":6},528,336,{"$nulls":88},528]
[4,"2021-04-01","林荫路与花园四街","更换灯板",{"$nulls":6},1]
[5,"2021-04-01","天北路与顺沙路","更换灯板",{"$nulls":6},1]
[6,"2021-04-01","天北路水木兰亭门口","更换灯板",{"$nulls":5},1]
[7,"2021-04-01","胜利地区","更换监控相机7套",{"$nulls":50},7]
[8,"2021-04-01","通顺路与顺丰路","更换太阳板",{"$nulls":32},1]
[9,"2021-04-01","隆华西测","关闭喇叭",{"$nulls":84},1]
[10,"2021-04-01","顺义火车站","关闭喇叭",{"$nulls":84},1]
[11,"2021-04-01","天北路与安富街","临时信号灯撤离，供电恢复",{"$nulls":53},1,null,1,1,1]
[12,"2021-04-01","天北路与顺沙路","配时调整",{"$nulls":24},1]
[13,"2021-04-02","赵陈路与仇家店路口","更换灯板",{"$nulls":6},1]
[14,"2021-04-02","顺密路与白马路","更换灯板",{"$nulls":6},1]
[15,"2021-04-02","金航西路与机场北街","更换灯板",{"$nulls":6},1]
[16,"2021-04-02","火沙辅线与双裕街","合闸",{"$nulls":53},1,null,1,1,1,null,1]
[17,"2021-04-02","天北路与天柱路","合闸",{"$nulls":53},1,null,1,1,1,null,1]
[18,"2021-04-02","顺平南线河南村南口","合闸",{"$nulls":53},1,null,null,1,1,null,1]
[19,"2021-04-02","顺于路与前景路","换线112",{"$nulls":7},112,{"$nulls":89},112]
[20,"2021-04-02","天柱路与天北路","换行车灯1组+更换信号线225米",1,{"$nulls":7},225,{"$nulls":39},1]
[21,"2021-04-02","木北路顺平南线","恢复被撞新结构",{"$nulls":45},1,null,null,1,null,null,1]
[22,"2021-04-02","火沙路裕庆路","帽檐更换",{"$nulls":10},1]
[23,"2021-04-02","外环路六环交叉","排查线路",{"$nulls":48},1]
[24,"2021-04-02","白马路与恒星路","配时调整",{"$nulls":24},1]
[25,"2021-04-02","白马路与良白路","配时调整",{"$nulls":24},1]
[26,"2021-04-02","白马路与良白路交叉口","配时调整",{"$nulls":24},1]
[27,"2021-04-02","龙凤路与昌金路","信号灯检查井恢复",{"$nulls":60},1]
[28,"2021-04-02","顺平南线与龙尹路","信号机箱加固",{"$nulls":63},1]
[29,"2021-04-03","龙塘路李木路口","安装灯板",{"$nulls":5},1]
[31,"2021-04-03","白马路水上公园门口","放临时信号灯",{"$nulls":53},1,1,1,1,1]
[32,"2021-04-03","顺于路前景路","更换电瓶",{"$nulls":9},2]
[33,"2021-04-03","胜利地区","更换监控相机13套",{"$nulls":50},13]
[34,"2021-04-03","平沿路与李堡路","更换太阳能信号机",{"$nulls":20},1]
[35,"2021-04-03","六环路顺义外环出口","合闸",{"$nulls":53},1,null,1,1,1,null,1]
[36,"2021-04-03","顺密路北小营镇政府","恢复供电",{"$nulls":53},1,null,1,1,1]
[37,"2021-04-03","顺密路北小营镇政府","施工断电",{"$nulls":53},1,null,1,1,1]
[38,"2021-04-04","裕安路与顺平路","灯板更换",{"$nulls":5},1]
[39,"2021-04-04","仁和河南村口","更换电源线225米",{"$nulls":7},225,{"$nulls":40},1,{"$nulls":48},225]
[40,"2021-04-04","京沈路与天北路","更换灯板",{"$nulls":6},1]
[41,"2021-04-04","顺沙路与南郊路","更换灯板",{"$nulls":5},1]
[42,"2021-04-04","顺平路与顺和路","更换红绿灯2组",2]
[43,"2021-04-04","胜利地区","更换监控相机19套",{"$nulls":50},19]
[44,"2021-04-04","天竺丽苑街","更换信号线360米",{"$nulls":8},360,{"$nulls":39},1]
[45,"2021-04-04","白马路与顺密路","合闸",{"$nulls":53},1,null,1,1,1,null,1]
[46,"2021-04-04","顺白路与外环路","合闸",{"$nulls":53},1,null,1,1,1,null,1]
[47,"2021-04-04","林荫路国家会计学院路口","合闸",{"$nulls":53},1,null,null,1,1,null,1]
[48,"2021-04-04","顺平南线河南村口","临时信号机",{"$nulls":53},1,1,1,1,1]
[49,"2021-04-05","京沈路天北路","灯板更换",{"$nulls":5},1]
[50,"2021-04-05","七大路薛家庄村村口","灯被撞歪扶正",{"$nulls":23},1]
[51,"2021-04-05","昌金路北府路口","灯被撞歪扶正",{"$nulls":23},1]
[52,"2021-04-05","右堤路仁港路","更换灯板",{"$nulls":6},1]
[53,"2021-04-05","龙塘路与李木路信号灯不亮","更换电瓶2",{"$nulls":9},2]
[54,"2021-04-05","昌金路与龙凤路西","更换电瓶2",{"$nulls":9},2]
[55,"2021-04-05","胜利地区","更换监控相机13套",{"$nulls":50},13]
[56,"2021-04-05","林荫路会计学院西侧路口","换控制线115米",{"$nulls":8},115]
[57,"2021-04-05","林荫路与天柱东路","换控制线336米",{"$nulls":8},336]
[58,"2021-04-05","顺平南线河南村口","换线221",{"$nulls":8},221]
[59,"2021-04-05","西环路与石马路","配时调整",{"$nulls":24},1]
[60,"2021-04-05","京平高速与薛家庄(七大路)出入口","配时调整",{"$nulls":24},1]
[61,"2021-04-06","裕华路与火沙路","放置临时信号灯",{"$nulls":53},1,1,1,1,1]
[62,"2021-04-06","昌金路与龙凤路","更换保险",{"$nulls":12},1]
[63,"2021-04-06","白马路与乾安路","更换灯板300",{"$nulls":6},1]
[64,"2021-04-06","白马路与顺密路","更换灯组",1,{"$nulls":6},30,180,{"$nulls":88},30]
[65,"2021-04-06","干渠路与顺平南线","更换电瓶",{"$nulls":9},1]
[66,"2021-04-06","顺平路与顺和路","更换红绿灯6组",6,{"$nulls":6},126,336,{"$nulls":88},126]
[67,"2021-04-06","顺平路与顺康路","更换红绿灯8组",8,{"$nulls":6},283,193,{"$nulls":88},283]
[68,"2021-04-06","仁和工业区顺美二期小区南门","合闸",{"$nulls":53},1,null,1,1,1,null,1]
[69,"2021-04-07","木邵路与中干渠路","灯歪斜扶正",{"$nulls":23},1]
[70,"2021-04-07","龙湾屯粮库","更换灯板",{"$nulls":5},1]
[71,"2021-04-07","顺平辅线与拥军路","更换灯板",{"$nulls":6},1]
[72,"2021-04-07","新顺南大街老教委十字路口","更换灯板300",{"$nulls":6},1]
[73,"2021-04-07","顺平路与顺泰路","更换红绿灯8组",8,{"$nulls":6},283,174,{"$nulls":88},283]
[74,"2021-04-07","顺平路与顺密路","更换红绿灯9组",9,{"$nulls":6},378,311,{"$nulls":88},378]
[75,"2021-04-07","天北路与安富街","合闸",{"$nulls":53},1,null,1,1,1,null,1]
[76,"2021-04-07","顺和路与裕龙二街","临时信号机",{"$nulls":53},1,1,1,1,1]
[77,"2021-04-08","顺平路","标志牌歪斜扶正",{"$nulls":30},1]
[78,"2021-04-08","北务西路","标志牌歪斜扶正",{"$nulls":30},1]
[79,"2021-04-08","新顺南大街与仓上街","灯板更换",{"$nulls":5},1]
[80,"2021-04-08","通顺路","灯板更换",{"$nulls":6},1]
[81,"2021-04-08","顺平路与顺泰路","合闸",{"$nulls":53},1,null,1,1,1,null,1]
[82,"2021-04-08","南陈路与顺于路","机箱门已关闭",{"$nulls":27},1]
[83,"2021-04-08","顺康路港馨家园西区","系统时间校正",{"$nulls":70},1]
[84,"2021-04-08","顺康路与石园南大街","系统时间校正",{"$nulls":70},1]
[85,"2021-04-08","北务西路","新装禁停标志杆牌",{"$nulls":36},2]
[86,"2021-04-08","木林客运站","信号机柜基础恢复",{"$nulls":63},1]
[87,"2021-04-09","隆华奥特莱斯","标志牌调整",{"$nulls":30},1]
[88,"2021-04-09","顺沙路万万树","更换保险",{"$nulls":12},1]
[89,"2021-04-09","龙塘路与北务西路","更换标志牌杆一套",{"$nulls":33},1,null,null,1]
[90,"2021-04-09","裕华路与顺平路","合闸",{"$nulls":53},1,null,1,1,1,null,1]
[91,"2021-04-09","裕安路与顺平路","合闸",{"$nulls":53},1,null,1,1,1,null,1]
[92,"2021-04-09","天北路与安富街","合闸",{"$nulls":53},1,null,1,1,1,null,1]
[93,"2021-04-09","天北路与安富街","合闸",{"$nulls":53},1,null,1,1,1,null,1]
[94,"2021-04-09","顺密路与木燕路","机箱倾倒重筑加固",{"$nulls":63},1]
[95,"2021-04-09","顺平辅路与左堤路","配时调整",{"$nulls":24},1]
[96,"2021-04-09","左堤路与减河北路","配时调整",{"$nulls":24},1]
[97,"2021-04-09","顺平辅路与左堤路","配时调整",{"$nulls":24},1]
[98,"2021-04-10","顺和路裕龙一区路口","更换灯板",{"$nulls":5},1]
[99,"2021-04-10","顺义裕龙四区路口","更换红绿灯8组",8,{"$nulls":6},283,207,{"$nulls":88},283]
[100,"2021-04-10","顺平南线与东华山路口","合闸",{"$nulls":53},1,null,1,1,1,null,1]
[101,"2021-04-10","裕安路与安宁街（宝洁公司东南角）","换线122米",{"$nulls":8},122]
[102,"2021-04-10","火沙路与罗各庄路口","换线82米",{"$nulls":7},82,{"$nulls":89},82]
[103,"2021-04-10","恒兴街 文良街","临时信号机",{"$nulls":53},1,1,1,1,1]
[104,"2021-04-10","顺平南线与顺和","路更换信号灯线210米",{"$nulls":8},210,{"$nulls":39},1]
[105,"2021-04-10","顺平辅线与新顺南大街","系统时间校正",{"$nulls":70},1]
[106,"2021-04-11","顺和路裕龙一区路口","灯板已更换",{"$nulls":5},1,1]
[107,"2021-04-11","顺平南线右堤路","更换灯板",{"$nulls":5},1]
[108,"2021-04-11","昌金火寺","更换灯板",{"$nulls":6},1]
[109,"2021-04-11","顺平南线与东方太阳城北门","更换灯板",{"$nulls":6},1]
[110,"2021-04-11","顺和路与裕龙二街","更换灯组",null,null,1,{"$nulls":5},180]
[111,"2021-04-11","怀昌路与火寺路","更换绿灯板1、更换人行道绿灯板2块",{"$nulls":5},1,2]
[112,"2021-04-11","龙塘路平沿路路口","合闸",{"$nulls":53},1,null,1,1,1,null,1]
[113,"2021-04-11","柳各庄南","路牌被剐扶正",{"$nulls":30},1]
[114,"2021-04-12","顺和路与顺平南线","更换灯板",{"$nulls":5},1]
[115,"2021-04-12","高下路与顺沙路","更换灯板",{"$nulls":5},1]
[116,"2021-04-12","右堤路与牛富路","更换灯板",{"$nulls":5},1,1]
[117,"2021-04-12","南城路马可汇","更换灯板",{"$nulls":5},1]
[118,"2021-04-12","火寺路北木路","换非机动车灯绿灯1个",{"$nulls":6},1]
[119,"2021-04-13","顺密路昌金路","更换灯板",{"$nulls":5},1]
[120,"2021-04-13","顺平南线与东华山路口","更换灯板",{"$nulls":5},1]
[121,"2021-04-13","牛富路与史家口路西边","更换灯板",{"$nulls":5},1]
[122,"2021-04-13","顺平路张各庄村口","更换灯板",{"$nulls":5},1]
[123,"2021-04-13","顺平路与莲花山","更换灯板",{"$nulls":5},1]
[124,"2021-04-13","右堤路与昌金","配时调整",{"$nulls":24},1]
[125,"2021-04-13","顺泰路与石园南大街","系统时间校正",{"$nulls":70},1]
[126,"2021-04-13","顺福路与石园南大街","系统时间校正",{"$nulls":70},1]
[127,"2021-04-13","顺康路与石园南大街","系统时间校正",{"$nulls":70},1]
[128,"2021-04-13","顺和路与石园大街","系统时间校正",{"$nulls":70},1]
[129,"2021-04-13","通顺路与石园南大街","系统时间校正",{"$nulls":70},1]
[130,"2021-04-14","外环路（龙湖.云河砚）","安装标志牌2块",{"$nulls":36},2]
[131,"2021-04-14","裕庆路与双裕北街","安装灯眉",{"$nulls":11},1]
[132,"2021-04-14","安富街与十中路路口","安装灯眉",{"$nulls":11},1]
[133,"2021-04-14","顺平路与金航西路","杆体标志喷涂",{"$nulls":67},1]
[134,"2021-04-14","顺平路与金航路","更换灯板",{"$nulls":5},1]
[135,"2021-04-14","裕华路与安泰街","更换灯板",{"$nulls":5},1,1]
[136,"2021-04-14","裕华路与安富街","更换灯板"]
[137,"2021-04-14","顺平路与顺畅大道","更换灯板",{"$nulls":5},1,1]
[138,"2021-04-14","裕华路与安祥街","更换灯眉",{"$nulls":11},1]
[139,"2021-04-14","怀昌路与辛东路","更换灯板2个",{"$nulls":5},2]
[140,"2021-04-14","裕安路与安详大街","更换黄灯灯罩",{"$nulls":11},1]
[141,"2021-04-14","白马李魏","配时调整",{"$nulls":24},1]
[142,"2021-04-14","白马路与李魏路","配时调整",{"$nulls":24},1]
[143,"2021-04-14","安富街与十中路","人行灯歪斜已修复",{"$nulls":41},1]
[144,"2021-04-15","龙塘路 木燕路","被撞灯已扶正",{"$nulls":23},1]
[145,"2021-04-15","中干渠路","标牌被撞修复",{"$nulls":30},1]
[146,"2021-04-15","裕华路安富街","灯板已更换",{"$nulls":5},1,1]
[147,"2021-04-15","北台路与寺里路","灯眉安装",{"$nulls":11},1]
[148,"2021-04-15","天柱路京客隆门口","更换灯板",{"$nulls":6},1]
[149,"2021-04-15","順于路与高白路","更换灯板",{"$nulls":5},1]
[150,"2021-04-15","顺平路与环镇东路","更换红灯板两个",{"$nulls":5},2]
[151,"2021-04-15","顺平路杨镇市场门前","更换绿灯板完成",{"$nulls":5},1]
[152,"2021-04-15","顺平路 木北路","换红灯 一个 绿灯一个 灯罩一个",{"$nulls":5},2,{"$nulls":5},1]
[153,"2021-04-15","顺平路 木燕路","换红灯二个",{"$nulls":5},2]
[154,"2021-04-15","顺平路 木燕路","换红灯一个",{"$nulls":5},1]
[155,"2021-04-15","顺平路木北路","换红灯一个",{"$nulls":5},1]
[156,"2021-04-15","顺平路与中干渠路","换红灯一个",{"$nulls":5},1]
[157,"2021-04-15","顺平路中干渠路","换红灯一个",{"$nulls":5},1]
[158,"2021-04-15","后沙峪地铁口","机箱喷漆已完成",{"$nulls":67},1]
[159,"2021-04-16","顺平南线与顺兴路","安装机箱，更换信号机",{"$nulls":19},1,{"$nulls":9},1]
[160,"2021-04-16","龙塘路李木路  ","更换电池",{"$nulls":9},1]
[161,"2021-04-16","李木路太平路","更换黄闪灯1",{"$nulls":78},1,1,{"$nulls":11},1]
[162,"2021-04-16","张镇张各庄","更换信号机",{"$nulls":19},1]
[163,"2021-04-16","南陈路马可汇","合闸",{"$nulls":53},1,null,1,1,1,null,1]
[164,"2021-04-16","顺平路与陈马路","合闸",{"$nulls":53},1,null,1,1,1,null,1]
[165,"2021-04-16","机场东路与顺平南线","合闸",{"$nulls":53},1,null,1,1,1,null,1]
[166,"2021-04-16","昌金路与陈马路","合闸",{"$nulls":53},1,null,1,1,1,null,1]
[167,"2021-04-16","陈马路国际鲜花港","合闸",{"$nulls":53},1,null,null,1,1,null,1]
[168,"2021-04-16","富密路京密路","合闸",{"$nulls":53},1,null,1,1,1,null,1]
[169,"2021-04-16","山里辛庄","合闸",{"$nulls":53},1,null,1,1,1,null,1]
[170,"2021-04-16","順于路与顺达路","换线336",{"$nulls":8},336]
[171,"2021-04-16","南环路龙湖云河砚","禁止停车牌12处安装完毕",{"$nulls":36},12]
[172,"2021-04-16","顺于路京沈高铁路口","临时信号灯倒地扶正",{"$nulls":23},1]
[173,"2021-04-16","顺于路与昌平交界","太阳能板已更换",{"$nulls":32},1]
[174,"2021-04-17","白马路与右堤路路口","4个灯杆，1个灯箱已喷完",{"$nulls":67},5]
[175,"2021-04-17","白马路与坤安路口","4个灯杆，1个灯箱已喷完",{"$nulls":67},5]
[176,"2021-04-17","白马路与左堤路路口","4个灯杆，一个机箱已喷好",{"$nulls":67},5]
[177,"2021-04-17","白马路与陈马路交叉口","4个灯杆与1个灯箱已喷完。",{"$nulls":67},5]
[178,"2021-04-17","白马路与顺密路交叉口","4个灯杆与一个灯箱已喷好",{"$nulls":67},5]
[179,"2021-04-17","白马路与桥头村交叉口","4个灯杆与一个灯箱已喷好",{"$nulls":67},5]
[180,"2021-04-17","白马路与李魏路交叉口","4个灯杆与一个灯箱已喷好",{"$nulls":67},5]
[181,"2021-04-17","白马路与李木路交叉口","4个灯杆与一个灯箱已喷好",{"$nulls":67},5]
[182,"2021-04-17","白马路与红下路交叉口","4个灯杆与一个灯箱已喷完",{"$nulls":67},5]
[183,"2021-04-17","昌金路与龙凤路","更换电瓶2",{"$nulls":9},2]
[184,"2021-04-17","隆华路口","换自行车黄灯一个",{"$nulls":6},1]
[185,"2021-04-17","白马路与后疃村路口","四根红绿灯杆，一个信号机箱，已喷涂完",{"$nulls":67},5]
[186,"2021-04-17","顺密路与减河北路","一根太阳能灯杆已喷好",{"$nulls":67},1]
[187,"2021-04-18","木燕路与木邵路","4个灯杆一个灯箱已喷完",{"$nulls":67},5]
[188,"2021-04-18","顺密路陈马路","标识牌已喷涂",{"$nulls":67},1]
[189,"2021-04-18","陈马路园区南路","四面已喷涂",{"$nulls":67},4]
[190,"2021-04-18","顺和花园","灯板已恢复",{"$nulls":5},1]
[191,"2021-04-18","怡馨家园","更换步道灯组",null,null,1]
[192,"2021-04-18","燕京啤酒厂东口","更换灯板",{"$nulls":5},1]
[193,"2021-04-18","通顺路与双兴北街","更换灯板已完成",{"$nulls":5},1]
[194,"2021-04-18","顺仁路与林河大街","更换非机动车红黄灯板",{"$nulls":5},1]
[195,"2021-04-18","林河大街与顺和路","更换机动车红黄，非机动车绿灯板",{"$nulls":5},3]
[196,"2021-04-18","乾安路与顺丰大街","三个灯杆，四个人行道，一个机箱已喷涂",{"$nulls":67},8]
[197,"2021-04-18","顺仁路与兄弟串吧","三个灯杆一个机箱路口喷涂已完成",{"$nulls":67},4]
[198,"2021-04-18","站前北街与通运路","三面灯杆已喷涂",{"$nulls":67},3]
[199,"2021-04-18","站前北街与顺祥街","三面灯杆已喷涂",{"$nulls":67},3]
[200,"2021-04-18","站前北街与顺恒大街","三面灯杆已喷涂",{"$nulls":67},3]
[201,"2021-04-18","站前北街与顺兴街","三面灯杆已喷涂",{"$nulls":67},3]
[202,"2021-04-18","乾安路与顺兴街","四个灯杆，四个人行道，一个机箱已喷涂",{"$nulls":67},9]
[203,"2021-04-18","顺康路与临河大街","四个灯杆一个机箱已喷涂",{"$nulls":67},5]
[204,"2021-04-18","顺仁路与临河南大街","四个灯杆一个机箱已喷涂",{"$nulls":67},5]
[205,"2021-04-18","顺仁路与临河大街","四个灯杆一个机箱已喷涂",{"$nulls":67},5]
[206,"2021-04-18","顺仁路与临河北大街","四个灯杆一个机箱已喷涂",{"$nulls":67},5]
[207,"2021-04-18","通运路与南小街十字路口","四个灯杆与四个人行道，一个机箱已喷涂",{"$nulls":67},9]
[208,"2021-04-18","木燕路与昌金路口","四根灯杆一个灯箱已喷完",{"$nulls":67},5]
[209,"2021-04-18","陈马路木北路","四面灯杆已喷涂",{"$nulls":67},4]
[210,"2021-04-18","陈马路昌金路","四面灯杆已喷涂",{"$nulls":67},4]
[211,"2021-04-18","陈马路赵陈路","四面已喷涂",{"$nulls":67},4]
[212,"2021-04-18","陈马路鲜花港三路","四面已喷涂",{"$nulls":67},4]
[213,"2021-04-19","林河大街与顺仁路"," 更换灯板",{"$nulls":5},1,1]
[214,"2021-04-19","恒兴路与文良街","八个灯杆，一个机箱已喷涂",{"$nulls":67},9]
[215,"2021-04-19","恒兴东路与文良北街","八个灯杆，一个机箱已喷涂",{"$nulls":67},9]
[216,"2021-04-19","恒兴东路与文良街","八个灯杆，一个机箱已喷涂",{"$nulls":67},9]
[217,"2021-04-19","恒兴路与文良北街","八个灯杆一个机箱已喷涂",{"$nulls":67},9]
[218,"2021-04-19","北石槽政府与怀昌路","灯杆灯箱喷涂完毕",{"$nulls":67},1]
[219,"2021-04-19","西下路与中段路","灯杆九个  灯箱一个已喷涂",{"$nulls":67},10]
[220,"2021-04-19","顺丰大街与右堤路","更换灯板1",{"$nulls":5},1]
[221,"2021-04-19","乾安路实验小学","更换黄闪灯1",{"$nulls":78},1,1,{"$nulls":11},1]
[222,"2021-04-19","顺和路与和平街","更换信号机",{"$nulls":19},1]
[223,"2021-04-19","珠宝屯东桥","更换信号机",{"$nulls":19},1]
[224,"2021-04-19","板西路与板桥大街","更换信号机",{"$nulls":19},1]
[225,"2021-04-19","顺福路与石园南大街","合闸",{"$nulls":53},1,null,1,1,1,null,1]
[226,"2021-04-19","下西路与北武路口","九个灯杆  一个灯箱喷涂",{"$nulls":67},10]
[227,"2021-04-19","恒兴路与开元街","喷涂",{"$nulls":67},1]
[228,"2021-04-19","顺沙路与外环路","喷涂",{"$nulls":67},1]
[229,"2021-04-19","板西路与板桥大街","喷涂",{"$nulls":67},1]
[230,"2021-04-19","西下路与天北路路口","七个灯杆，一个灯箱已喷",{"$nulls":67},8]
[231,"2021-04-19","顺平南线与顺和路","七个灯杆一个机箱已喷涂",{"$nulls":67},8]
[232,"2021-04-19","和安路与大营二街路口","七根灯杆一个机箱已喷涂",{"$nulls":67},8]
[233,"2021-04-19","大营二街与牛山分校北门","七根灯杆一个机箱已喷涂",{"$nulls":67},8]
[234,"2021-04-19","大营四街与站前北街","三个灯杆已喷涂",{"$nulls":67},3]
[235,"2021-04-19","木燕路与望红路","三根灯杆一个灯箱已喷完",{"$nulls":67},4]
[236,"2021-04-19","顺密路与中干渠路","三根灯杆已喷完",{"$nulls":67},3]
[237,"2021-04-19","昌金路办案管理中心门口","三面已喷涂",{"$nulls":67},3]
[238,"2021-04-19","昌金路龙凤路","三面已喷涂",{"$nulls":67},3]
[239,"2021-04-19","中干渠路与山丁支线路口","三面已喷涂",{"$nulls":67},3]
[240,"2021-04-19","顺密路木林幼儿园","三面已喷涂",{"$nulls":67},3]
[241,"2021-04-19","乾安路与顺祥街","四个灯杆，三个人行道，一个机箱已喷涂",{"$nulls":67},8]
[242,"2021-04-19","乾安路与顺恒大街","四个灯杆，四个人行道，一个机箱已喷涂",{"$nulls":67},9]
[243,"2021-04-19","木燕路与赵陈路口","四个灯杆一个灯箱已喷完",{"$nulls":67},5]
[244,"2021-04-19","顺平南线 与顺康路","四个灯杆一个机箱已喷涂",{"$nulls":67},5]
[245,"2021-04-19","木燕路与木北路口","四根灯杆一个灯箱已喷完",{"$nulls":67},5]
[246,"2021-04-19","木燕路与 鲜花港三路","四根灯杆一个灯箱已喷完",{"$nulls":67},5]
[247,"2021-04-19","木燕路与白马路路口","四根灯杆一个灯箱已喷完",{"$nulls":67},5]
[248,"2021-04-19","白马路与木北路路口","四根灯杆一个灯箱已喷完",{"$nulls":67},5]
[249,"2021-04-19","顺和路与临河大街","四根杆一个机箱已喷涂",{"$nulls":67},5]
[250,"2021-04-19","昌金路木北路","四面已喷涂",{"$nulls":67},4]
[251,"2021-04-19","昌金路后王个庄村路口","四面已喷涂",{"$nulls":67},4]
[252,"2021-04-19","昌金路中干渠路","四面已喷涂",{"$nulls":67},4]
[253,"2021-04-19","昌金路龙尹路","四面已喷涂",{"$nulls":67},4]
[254,"2021-04-19","昌金路七大路","四面已喷涂",{"$nulls":67},4]
[255,"2021-04-19","昌金路山丁路口","四面已喷涂",{"$nulls":67},4]
[256,"2021-04-19","木邵路山丁路","四面已喷涂",{"$nulls":67},4]
[257,"2021-04-19","昌金路龙尹路","四面已喷涂",{"$nulls":67},4]
[258,"2021-04-19","木邵路龙湾屯路口","四面已喷涂",{"$nulls":67},4]
[259,"2021-04-19","木邵路中干渠路","四面已喷涂",{"$nulls":67},4]
[260,"2021-04-19","中干渠路安辛庄村口","四面已喷涂",{"$nulls":67},4]
[261,"2021-04-19","昌金路李木路","四面已喷涂",{"$nulls":67},4]
[262,"2021-04-19","李木路赵陈路","四面已喷涂",{"$nulls":67},4]
[263,"2021-04-19","李木路大荣路","四面已喷涂",{"$nulls":67},4]
[264,"2021-04-19","顺平路李木路","四面已喷涂",{"$nulls":67},4]
[265,"2021-04-19","顺平南线李木路","四面已喷涂",{"$nulls":67},4]
[266,"2021-04-19","南陈路与顺沙路","四面已喷涂",{"$nulls":67},4]
[267,"2021-04-19","顺沙路与白地汽配城","四面已喷涂",{"$nulls":67},4]
[268,"2021-04-19","顺沙路与南焦路","四面已喷涂",{"$nulls":67},4]
[269,"2021-04-19","顺沙路与京沈路","四面已喷涂",{"$nulls":67},4]
[270,"2021-04-19","顺沙路与世纪金龙超市（张喜庄店）","四面已喷涂",{"$nulls":67},4]
[271,"2021-04-19","双河大街顺义一中路口","五个灯杆一个机箱已喷涂",{"$nulls":67},6]
[272,"2021-04-19","站前北街与中晟馨苑","五个灯杆已喷涂",{"$nulls":67},5]
[273,"2021-04-20","昌金路与赵全营政府","  灯杆七个  灯箱一个已喷涂",{"$nulls":67},8]
[274,"2021-04-20","天北路与兆丰一街","  灯杆四个  灯箱一个已喷",{"$nulls":67},5]
[275,"2021-04-20","昌金路与富密路"," 灯杆四个  灯箱一个",null,null,null,4,{"$nulls":41},1]
[276,"2021-04-20","昌金路与火寺路"," 灯杆四个  灯箱一个已喷涂",{"$nulls":67},5]
[277,"2021-04-20","昌金路与通顺路","4个灯杆，一个电箱已喷涂",{"$nulls":67},5]
[278,"2021-04-20","天北路与董各庄村口","灯杆八个  灯箱一个已喷涂",{"$nulls":67},9]
[279,"2021-04-20","天北路与航信西门","灯杆七个  灯箱一个已喷涂",{"$nulls":67},8]
[280,"2021-04-20","昌金路与南陈路","灯杆三个  灯箱一个",null,null,null,3]
[281,"2021-04-20","天北路与安富街","灯杆三个  灯箱一个已喷涂",{"$nulls":67},4]
[282,"2021-04-20","天北路与顺平路","灯杆三个  灯箱一个已喷涂",{"$nulls":67},4]
[283,"2021-04-20","同心路与百盈路","灯杆四个  灯箱一个  已喷",{"$nulls":67},5]
[284,"2021-04-20","怀昌路与火寺路  ","灯杆四个  灯箱一个 已喷",{"$nulls":67},5]
[285,"2021-04-20","昌金路与高下路","灯杆四个  灯箱一个已喷",{"$nulls":67},5]
[286,"2021-04-20","天北路与怀昌路","灯杆四个  灯箱一个已喷涂",{"$nulls":67},5]
[287,"2021-04-20","昌金路与天北路","灯杆四个  灯箱一个已喷涂",{"$nulls":67},5]
[288,"2021-04-20","昌金路与京沈路","灯杆四个  灯箱一个已喷涂",{"$nulls":67},5]
[289,"2021-04-20","火寺路与同心路","灯杆四个  已喷",{"$nulls":67},4]
[290,"2021-04-20","北木路西侧路与火寺路","灯杆四个 灯箱一个  已喷涂",{"$nulls":67},5]
[291,"2021-04-20","天北路与兆丰二街","灯杆四个 灯箱一个已喷",{"$nulls":67},5]
[292,"2021-04-20","昌金路与白良路","灯杆四个已喷",{"$nulls":67},4]
[293,"2021-04-20","顺平南线七大路","灯歪斜扶正",{"$nulls":23},1]
[294,"2021-04-20","顺平南线中干渠","更换灯眉",{"$nulls":11},1]
[295,"2021-04-20","顺平南线与中干渠","更换灯眉",{"$nulls":11},1]
[296,"2021-04-20","顺平南线龙塘路","更换灯板",{"$nulls":5},1]
[297,"2021-04-20","站前街中信银行门口","更换相机1台",{"$nulls":50},1]
[298,"2021-04-20","金汉南口","更换相机1台",{"$nulls":50},1]
[299,"2021-04-20","金汉五区门口","更换相机1台",{"$nulls":50},1]
[300,"2021-04-20","幸福幼儿园","更换相机1台",{"$nulls":50},1]
[301,"2021-04-20","府前街广发银行对面","更换相机1台",{"$nulls":50},1]
[302,"2021-04-20","J9歌厅门口","更换相机1台",{"$nulls":50},1]
[303,"2021-04-20","府前街金百万门口","更换相机1台",{"$nulls":50},1]
[304,"2021-04-20","石门地铁站东南角","更换相机1台",{"$nulls":50},1]
[305,"2021-04-20","怡馨家园北门","更换相机2台",{"$nulls":50},2]
[306,"2021-04-20","艰辛南区北门","更换相机2台",{"$nulls":50},2]
[307,"2021-04-20","顺沙路与左堤路","更换相机2台",{"$nulls":50},2]
[308,"2021-04-20","胜利小区南门","更换相机2台",{"$nulls":50},2]
[309,"2021-04-20","龙塘路平沿路","配时调整",{"$nulls":24},1]
[310,"2021-04-20","通顺路顺恒大街","配时调整",{"$nulls":24},1]
[311,"2021-04-20","昌金路与左堤路交叉口","喷涂",{"$nulls":67},1]
[312,"2021-04-20","昌金路与西乌鸡路","喷涂",{"$nulls":67},1]
[313,"2021-04-20","昌金路与北韩路","喷涂",{"$nulls":67},1]
[314,"2021-04-20","昌金路与北府村南口","喷涂",{"$nulls":67},1]
[315,"2021-04-20","左堤路与河南村闸桥","喷涂",{"$nulls":67},1]
[316,"2021-04-20","左堤路与顺平南线","喷涂",{"$nulls":67},1]
[317,"2021-04-20","左堤路与松鹤温泉酒店","喷涂",{"$nulls":67},1]
[318,"2021-04-20","顺平南线与李魏路","喷涂",{"$nulls":67},1]
[319,"2021-04-20","李木路与宣太南环路","喷涂",{"$nulls":67},1]
[320,"2021-04-20","李木路与顺平南线路口","喷涂",{"$nulls":67},1]
[321,"2021-04-20","龙塘路与李魏路路口","喷涂",{"$nulls":67},1]
[322,"2021-04-20","龙塘路与左堤路路口","喷涂",{"$nulls":67},1]
[323,"2021-04-20","左堤路陈庄村南口","喷涂",{"$nulls":67},1]
[324,"2021-04-20","左堤路与木燕辅路","喷涂",{"$nulls":67},1]
[325,"2021-04-20","木燕辅路与龙塘路交汇处","喷涂",{"$nulls":67},1]
[326,"2021-04-20","天北路与同心路  ","三个灯杆已喷",{"$nulls":67},3]
[327,"2021-04-20","白马路与兴吉路路口","三根灯杆已喷完",{"$nulls":67},3]
[328,"2021-04-20","白马路与现代三厂路口","三根杆已喷完",{"$nulls":67},3]
[329,"2021-04-20","昌金路与下坡屯路","四个灯杆一个机箱已喷涂",{"$nulls":67},5]
[330,"2021-04-20","昌金路牛山酒厂路口","四个灯杆一个机箱已喷涂",{"$nulls":67},5]
[331,"2021-04-20","昌金路与右堤路","四个灯杆一个机箱已喷涂",{"$nulls":67},5]
[332,"2021-04-20","白马路与中干渠路","四根灯杆一个灯箱已喷完",{"$nulls":67},5]
[333,"2021-04-20","白马路与龙尹路路口","四根灯杆已喷完",{"$nulls":67},4]
[334,"2021-04-20","白马路与赵湘路路口","四根灯杆已喷完",{"$nulls":67},4]
[335,"2021-04-20","白马路与七大路路口","四根灯杆已喷完",{"$nulls":67},4]
[336,"2021-04-20","白马路与龙凤路路口","四根灯杆已喷完",{"$nulls":67},4]
[337,"2021-04-20","顺沙路与火寺路","四面已喷涂",{"$nulls":67},4]
[338,"2021-04-20","火寺路与顺于路","四面已喷涂",{"$nulls":67},4]
[339,"2021-04-20","火寺路与机场北线路口","四面已喷涂",{"$nulls":67},4]
[340,"2021-04-20","火寺路与顺平路","四面已喷涂",{"$nulls":67},4]
[341,"2021-04-20","左堤路与减河北路","四面已喷涂",{"$nulls":67},4]
[342,"2021-04-20","顺密路与左堤路","四面已喷涂",{"$nulls":67},4]
[343,"2021-04-20","顺平辅线与顺密","四面已喷涂",{"$nulls":67},4]
[344,"2021-04-20","顺平路与左堤路","四面已喷涂",{"$nulls":67},4]
[345,"2021-04-20","顺平路与顺泰路","四面已喷涂",{"$nulls":67},4]
[346,"2021-04-20","顺平路与顺康路","四面已喷涂",{"$nulls":67},4]
[347,"2021-04-20","顺平路与顺和路","四面已喷涂",{"$nulls":67},4]
[348,"2021-04-20","顺平路与机场东路","四面已喷涂",{"$nulls":67},4]
[349,"2021-04-21","石园小学","备用灯已存放",{"$nulls":54},1,1,1,1]
[350,"2021-04-21","昌金路北府村南口","灯杆与电箱已喷涂",{"$nulls":67},2]
[351,"2021-04-21","木孙路与后岭上路口","灯眉挂坏已修复",{"$nulls":11},1]
[352,"2021-04-21","孙四路与孙华路","灯组挂歪已校正",{"$nulls":23},1]
[353,"2021-04-21","顺密路赵陈路","供电问题",{"$nulls":53},1,null,1,1,1]
[354,"2021-04-21","顺平南线与中干渠路口","更换灯眉",{"$nulls":11},1]
[355,"2021-04-21","顺平南线与中干渠路口","更换灯眉",{"$nulls":11},1]
[356,"2021-04-21","木燕路燕郊迎宾大道路口","更换人行绿灯板",{"$nulls":6},1]
[357,"2021-04-21","光明北街便民街路口","更换相机1台",{"$nulls":50},1]
[358,"2021-04-21","裕龙双语幼儿园","更换相机1台",{"$nulls":50},1]
[359,"2021-04-21","顺平辅线前俸伯村口","更换相机1台",{"$nulls":50},1]
[360,"2021-04-21","仇家店小学","更换相机1台",{"$nulls":50},1]
[361,"2021-04-21","牛栏山第二小学","更换相机1台",{"$nulls":50},1]
[362,"2021-04-21","牛栏山第二幼儿园","更换相机1台",{"$nulls":50},1]
[363,"2021-04-21","京密路白各庄村口","更换相机1台",{"$nulls":50},1]
[364,"2021-04-21","怡馨家园东门","更换相机1台",{"$nulls":50},1]
[365,"2021-04-21","金街南路南口","更换相机1台",{"$nulls":50},1]
[366,"2021-04-21","顺通路拥军路路口","更换相机1台",{"$nulls":50},1]
[367,"2021-04-21","澜西园二区幼儿园","更换相机1台",{"$nulls":50},1]
[368,"2021-04-21","顺义一中附属小学后门","更换相机1台",{"$nulls":50},1]
[369,"2021-04-21","新顺路与义宾街路口","更换相机1台",{"$nulls":50},1]
[370,"2021-04-21","裕龙二街西口","更换相机2台",{"$nulls":50},2]
[371,"2021-04-21","东风小学东校区","更换相机2台",{"$nulls":50},2]
[372,"2021-04-21","东大桥西口","更换相机2台",{"$nulls":50},2]
[373,"2021-04-21","红杉一品东侧路","更换相机2台",{"$nulls":50},2]
[374,"2021-04-21","通顺路与顺沙路路口","更换相机2台",{"$nulls":50},2]
[375,"2021-04-21","顺白路益麒麟","更换相机2台",{"$nulls":50},2]
[376,"2021-04-21","铁东路法医院路口","更换相机2台",{"$nulls":50},2]
[377,"2021-04-21","新顺路与建新街","更换相机2台",{"$nulls":50},2]
[378,"2021-04-21","天北路与順于路","供电局检修",{"$nulls":53},1,null,1,1,1]
[379,"2021-04-21","乾安路与顺祥街","换绿灯一个",{"$nulls":5},1]
[380,"2021-04-21","李木路太平庄","机箱加固",{"$nulls":63},1]
[381,"2021-04-21","龙塘路与顺平南线口","两个灯罩已更换",{"$nulls":11},2]
[382,"2021-04-21","京密路火沙辅线","配时调整",{"$nulls":24},1]
[383,"2021-04-21","通顺路外环路","配时调整",{"$nulls":24},1]
[384,"2021-04-21","四伟路机场东路","配时调整",{"$nulls":24},1]
[385,"2021-04-21","昌金路西乌鸡路口","喷涂",{"$nulls":67},1]
[386,"2021-04-21","昌金路与北韩路口","喷涂",{"$nulls":67},1]
[387,"2021-04-21","左提路与左提路之路路口","喷涂",{"$nulls":67},1]
[388,"2021-04-21","李木路与遂太路路口","喷涂",{"$nulls":67},1]
[389,"2021-04-21","龙塘路与李木路路口","喷涂",{"$nulls":67},1]
[390,"2021-04-21","龙塘路与崇各庄路路口","喷涂",{"$nulls":67},1]
[391,"2021-04-21","龙塘路与左提路路口","喷涂",{"$nulls":67},1]
[392,"2021-04-21","左提路与杨燕辅路路口","喷涂",{"$nulls":67},1]
[393,"2021-04-21","龙塘路与杨燕辅路口","喷涂",{"$nulls":67},1]
[394,"2021-04-21","顺平南线与李魏路口","喷涂标签",{"$nulls":67},1]
[395,"2021-04-21","顺平南线与左堤路口","喷涂标志",{"$nulls":67},1]
[396,"2021-04-21","昌金路牛山酒厂路口","四个灯杆，一个机箱已喷涂",{"$nulls":67},5]
[397,"2021-04-21","昌金路与下坡屯路路口","四个灯杆一个机箱已喷涂",{"$nulls":67},5]
[398,"2021-04-21","白马路与龙尹路路口","四根灯杆已喷完",{"$nulls":67},4]
[399,"2021-04-21","白马路与七大路路口","四根灯杆已喷完",{"$nulls":67},4]
[400,"2021-04-21","白马路与龙凤路路口","四根灯杆已喷完",{"$nulls":67},4]
[401,"2021-04-21","新顺南大街怡馨家园东门","自助灯杆美化处理",{"$nulls":94},1]
[402,"2021-04-22","顺平路与规划一路口（东江头）","3个灯杆已喷涂",{"$nulls":67},3]
[403,"2021-04-22","顺平路月亮湾路口","6个灯杆与一机箱已喷涂",{"$nulls":67},7]
[404,"2021-04-22","龙塘路大孙各庄果园路口","6跟灯杆一个灯箱已喷完",{"$nulls":67},7]
[405,"2021-04-22","顺平路与杨镇二街路口","8个灯杆与一机箱已喷涂",{"$nulls":67},9]
[406,"2021-04-22","白马路与乾安路口","八根灯杆一个灯箱已喷完",{"$nulls":67},9]
[407,"2021-04-22","顺白路一中","附属小学更换相机2台",{"$nulls":50},2]
[408,"2021-04-22","顺沙路与火寺路","供电问题",{"$nulls":53},1,null,1,1,1]
[409,"2021-04-22","通顺路窑坡村口","合闸",{"$nulls":53},1,null,1,1,1,null,1]
[410,"2021-04-22","顺平辅线","配时调整",{"$nulls":24},1]
[411,"2021-04-22","木燕路与顺平南线口","喷涂",{"$nulls":67},1]
[412,"2021-04-22","顺平南线与木北路","喷涂",{"$nulls":67},1]
[413,"2021-04-22","顺平南线与中干渠路口","喷涂",{"$nulls":67},1]
[414,"2021-04-22","顺平南线与龙尹路路口","喷涂",{"$nulls":67},1]
[415,"2021-04-22","顺平南线与赵湘路路口","喷涂",{"$nulls":67},1]
[416,"2021-04-22","顺平南线与东华山路口","喷涂",{"$nulls":67},1]
[417,"2021-04-22","顺平南线与七大路路口","喷涂",{"$nulls":67},1]
[418,"2021-04-22","西太路与三马路路口","喷涂",{"$nulls":67},1]
[419,"2021-04-22","龙塘路与顺平南线口","喷涂",{"$nulls":67},1]
[420,"2021-04-22","顺平路与李魏路口","喷涂",{"$nulls":67},1]
[421,"2021-04-22","顺平辅路与李魏路口","喷涂4根灯杆1个机箱",{"$nulls":67},5]
[422,"2021-04-22","龙塘路与中干渠路口","三根灯杆一个灯箱已喷完",{"$nulls":67},4]
[423,"2021-04-22","龙塘辅线与龙尹路口","三根灯杆一个灯箱已喷完",{"$nulls":67},4]
[424,"2021-04-22","顺平辅路与南彩公交站路口","四个灯杆一个机箱已喷涂",{"$nulls":67},5]
[425,"2021-04-22","顺平辅路与采风小区北口","四个灯杆与一个机箱已喷涂",{"$nulls":67},5]
[426,"2021-04-22","顺平路与杨镇市场路口","四个灯杆与一机箱已喷涂",{"$nulls":67},5]
[427,"2021-04-22","顺平路与中干渠路口","四个灯杆与一机箱已喷涂",{"$nulls":67},5]
[428,"2021-04-22","顺平路与杜尹路口（杜庄）","四个灯杆与一机箱已喷涂",{"$nulls":67},5]
[429,"2021-04-22","顺平路与木北路口（三街口）","四根灯杆一个灯箱已喷完",{"$nulls":67},5]
[430,"2021-04-22","龙塘路与李大线（北务内）","四根灯杆一个灯箱已喷完",{"$nulls":67},5]
[431,"2021-04-22","龙塘路与七大路路口","四根灯杆一个灯箱已喷完",{"$nulls":67},5]
[432,"2021-04-22","白马路与顺安路口","四根灯杆一个灯箱已喷完",{"$nulls":67},5]
[433,"2021-04-22","顺平辅路与前薛各庄路口","四根灯杆一个机箱已喷涂",{"$nulls":67},5]
[434,"2021-04-22","顺平辅路与杜刘庄路口","四根灯杆已喷涂",{"$nulls":67},4]
[435,"2021-04-22","白马路与杨杏路路口","四根灯杆已喷完",{"$nulls":67},4]
[436,"2021-04-22","白马路秦武姚路口","四面已喷涂",{"$nulls":67},4]
[437,"2021-04-22","白马路与南陈路口","四面已喷涂",{"$nulls":67},4]
[438,"2021-04-22","白马路良正卷路口","四面已喷涂",{"$nulls":67},4]
[439,"2021-04-22","白马路与京沈路口","四面已喷完",{"$nulls":67},4]
[440,"2021-04-23","顺于路与顺白路路口","12个灯杆与一机箱已喷涂",{"$nulls":67},13]
[441,"2021-04-23","顺于路供销大厦路口","4个灯杆已喷涂",{"$nulls":67},4]
[442,"2021-04-23","顺于路与南陈路口","4个灯杆与一机箱已喷涂",{"$nulls":67},5]
[443,"2021-04-23","顺于路与西二环路口","8个灯杆与一机箱已喷涂",{"$nulls":67},9]
[444,"2021-04-23","白马路与中干渠路口","更换灯板",{"$nulls":5},1]
[445,"2021-04-23","昌金路与龙凤路","更换电瓶2",{"$nulls":9},2]
[446,"2021-04-23","通顺路龙塘路","更换信号机",{"$nulls":19},1]
[447,"2021-04-23","顺沙路火寺路","合闸",{"$nulls":53},1,null,1,1,1,null,1]
[448,"2021-04-23","顺平路与七大路路口","绿灯灯板暗，已更换",{"$nulls":5},1]
[449,"2021-04-23","白马路与赵湘路路口","缺失灯眉，已修复",{"$nulls":11},1]
[450,"2021-04-23","顺平辅路与河北村路口","三根灯杆一个机箱已喷涂",{"$nulls":67},4]
[451,"2021-04-23","顺平辅路与消防中队路口","三根灯杆一个机箱已喷涂",{"$nulls":67},4]
[452,"2021-04-23","顺沙路与高下路路口","三面已喷涂",{"$nulls":67},3]
[453,"2021-04-23","顺平辅路与隆华路口","四根灯杆一个机箱已喷涂",{"$nulls":67},5]
[454,"2021-04-23","白马路与临空国际路路口","四面已喷涂",{"$nulls":67},4]
[455,"2021-04-23","白马路与火寺路口","四面已喷涂",{"$nulls":67},4]
[456,"2021-04-23","白马路与天北路路口","四面已喷涂",{"$nulls":67},4]
[457,"2021-04-23","白马路与三干渠路口","四面已喷涂",{"$nulls":67},4]
[458,"2021-04-23","白马路与高下路路口","四面已喷涂",{"$nulls":67},4]
[459,"2021-04-23","顺沙路与高白路路口","四面已喷涂",{"$nulls":67},4]
[460,"2021-04-23","天北路与京沈路","系统时间校正",{"$nulls":70},1]
[461,"2021-04-24","木孙路与薛家庄北口","8个灯杆与一机箱已喷涂",{"$nulls":67},9]
[462,"2021-04-24","木孙路与龙塘辅线路口","八个灯杆与一机箱已喷涂",{"$nulls":67},9]
[463,"2021-04-24","木孙路与薛家庄南口","八个灯杆与一机箱已喷涂",{"$nulls":67},9]
[464,"2021-04-24","陈马路与赵陈路口","更换三块红灯板",{"$nulls":5},3]
[465,"2021-04-24","顺于路南法信地铁路","机箱门修复、灯眉已恢复",{"$nulls":11},1,{"$nulls":53},1]
[466,"2021-04-24","木孙路与后岭上路口","七个灯杆与一机箱已喷涂",{"$nulls":67},8]
[467,"2021-04-24","龙塘路苏庄闸桥西侧路口","三个灯杆已喷涂",{"$nulls":67},3]
[468,"2021-04-24","京平高速与薛家庄互通式立交桥北口","三个灯杆已喷涂",{"$nulls":67},3]
[469,"2021-04-24","孙四路与孙华路","三个灯杆与二机箱已喷涂",{"$nulls":67},5]
[470,"2021-04-24","顺平路与七大路路口","三个灯杆与一机箱已喷涂",{"$nulls":67},4]
[471,"2021-04-24","京平高速与薛家庄互通式立交桥南口","三个灯杆与一机箱已喷涂",{"$nulls":67},4]
[472,"2021-04-24","南二环与平沿路南口（王家场）","三根灯杆一个机箱已喷涂",{"$nulls":67},4]
[473,"2021-04-24","南二环与平沿路北口","三根灯杆一个机箱已喷涂",{"$nulls":67},4]
[474,"2021-04-24","右提路与东方太阳城西口路口","三根灯杆一个机箱已喷涂",{"$nulls":67},4]
[475,"2021-04-24","木燕路与道口村口","四灯杆与一机箱已喷涂",{"$nulls":67},5]
[476,"2021-04-24","顺平路与龙尹路路口","四个灯杆已喷涂",{"$nulls":67},4]
[477,"2021-04-24","顺平路莲花山滑雪场路口","四个灯杆已喷涂",{"$nulls":67},4]
[478,"2021-04-24","右提路与李堡路路口","四个灯杆已喷涂",{"$nulls":67},4]
[479,"2021-04-24","顺平路与赵湘路口（行宫）","四个灯杆与一机箱已喷涂",{"$nulls":67},5]
[480,"2021-04-24","顺平路张镇路口","四个灯杆与一机箱已喷涂",{"$nulls":67},5]
[481,"2021-04-24","木燕路与龙塘路口","四根灯杆一个机箱已喷涂",{"$nulls":67},5]
[482,"2021-04-24","顺通路与李天路","四根灯杆一个机箱已喷涂",{"$nulls":67},5]
[483,"2021-04-24","通顺路与龙塘路","四根灯杆一个机箱已喷涂",{"$nulls":67},5]
[484,"2021-04-24","顺沙路与裕安路口","四面已喷涂",{"$nulls":67},4]
[485,"2021-04-25","通顺路与外环路口","8根灯杆与一机箱已喷涂",{"$nulls":67},9]
[486,"2021-04-25","中晟馨苑","8根灯杆与一机箱已喷涂",{"$nulls":67},9]
[487,"2021-04-25","顺白路与杜杨北街路口","八个灯杆与一机箱已喷涂",{"$nulls":67},9]
[488,"2021-04-25","复兴东街与左提之路","八个灯杆与一机箱已喷涂",{"$nulls":67},9]
[489,"2021-04-25","昌金路与中干渠路口","更换灯板",{"$nulls":5},1]
[490,"2021-04-25","昌金路与木北路口","更换灯板一个，灯罩一个",{"$nulls":5},1,{"$nulls":5},1]
[491,"2021-04-25","机场东路与四纬路","更换灯板",{"$nulls":5},1]
[492,"2021-04-25","昌金路与中干渠路口","更换灯板",{"$nulls":5},1]
[493,"2021-04-25","木燕路与木北路口","更换灯罩两个，绿灯板一个",{"$nulls":5},1,{"$nulls":5},2]
[494,"2021-04-25","木燕路与园区南路口","更换红灯板3块",{"$nulls":5},3]
[495,"2021-04-25","赵陈路与李木路口","更换红灯板三个，灯罩一个",{"$nulls":5},3,{"$nulls":5},1]
[496,"2021-04-25","顺密路与中干渠","更换黄灯板和绿灯板各一个，灯眉三个",{"$nulls":5},2,{"$nulls":5},3]
[497,"2021-04-25","石园南大街与顺康路","合闸",{"$nulls":53},1,null,1,1,1,null,1]
[498,"2021-04-25","裕安路与安泰大街","合闸",{"$nulls":53},1,null,1,1,1,null,1]
[499,"2021-04-25","顺平路与火寺路交叉口","红灯更换",{"$nulls":5},1]
[500,"2021-04-25","南陈路马可汇交叉口","红灯更换",{"$nulls":5},1]
[501,"2021-04-25","顺沙路与天北路","换红灯板两个",{"$nulls":5},2]
[502,"2021-04-25","顺平路回民营桥东","绿灯更换",{"$nulls":5},1]
[503,"2021-04-25","京平高速与北务互通式立交桥南口（木燕路）","三个灯杆已喷涂",{"$nulls":67},3]
[504,"2021-04-25","木燕路燕郊迎宾大道路口","三个灯杆已喷涂",{"$nulls":67},3]
[505,"2021-04-25","机场东路与苏活路口","三个灯杆已喷涂",{"$nulls":67},3]
[506,"2021-04-25","京平高速与北务互通式立交桥北口（木燕路）","三个灯杆与一机箱已喷涂",{"$nulls":67},4]
[507,"2021-04-25","机场东路与杜杨北街路口","三个灯杆与一机箱已喷涂",{"$nulls":67},4]
[508,"2021-04-25","右提路与金牛街路口","三面已喷涂",{"$nulls":67},3]
[509,"2021-04-25","顺兴街与杜杨北街路口","四灯杆与一机箱已喷涂",{"$nulls":67},5]
[510,"2021-04-25","顺平南线与西二环路口","四灯杆与一机箱已喷涂",{"$nulls":67},5]
[511,"2021-04-25","顺兴街与军营北街路口","四灯杆与一机箱已喷涂",{"$nulls":67},5]
[512,"2021-04-25","顺平南线与顺兴路路口","四个灯杆已喷涂",{"$nulls":67},4]
[513,"2021-04-25","顺沙路与西辛南北区路口","四面已喷涂",{"$nulls":67},4]
[514,"2021-04-25","通顺路与顺沙路路口","四面已喷涂",{"$nulls":67},4]
[515,"2021-04-25","右提路与减河桥路口","四面已喷涂",{"$nulls":67},4]
[516,"2021-04-25","右提路与顺丰大街路口","四面已喷涂",{"$nulls":67},4]
[517,"2021-04-25","右提路与复兴街","四面已喷涂",{"$nulls":67},4]
[518,"2021-04-25","右提路与顺平辅路路口","四面已喷涂",{"$nulls":67},4]
[519,"2021-04-25","右提路与滨河小区北口路口","四面已喷涂",{"$nulls":67},4]
[520,"2021-04-25","顺平南线与右堤路口","四面已喷涂",{"$nulls":67},4]
[521,"2021-04-25","石园南大街与顺康路","现场查线",{"$nulls":48},1]
[522,"2021-04-25","李木路太平辛庄路口","信号灯调整",{"$nulls":23},1]
[523,"2021-04-26","顺于路与南焦路","8灯杆与一机箱已喷涂",{"$nulls":67},9]
[524,"2021-04-26","白马路与木北路口","北侧两个绿灯灯板一个红灯灯板，西侧红黄绿非机动车灯各一个，已更换",{"$nulls":5},6]
[525,"2021-04-26","昌金路与牛栏山酒厂门口","灯灯板更换",{"$nulls":5},1]
[526,"2021-04-26","昌金路与七大路口","东侧绿灯灯罩已更换",{"$nulls":11},1]
[527,"2021-04-26","昌金路与龙凤路口","更换绿色灯板",{"$nulls":5},1]
[528,"2021-04-26","石园南大街与顺康路","更换信号机",{"$nulls":19},1]
[529,"2021-04-26","顺平辅线与左堤支线","合闸",{"$nulls":53},1,null,1,1,1,null,1]
[530,"2021-04-26","顺平南辅线与机场北线路口","三根灯杆已喷涂",{"$nulls":67},3]
[531,"2021-04-26","顺平南辅线与航港二路路口","四灯杆已喷涂",{"$nulls":67},4]
[532,"2021-04-26","顺平南辅线与金惠路路口","四灯杆已喷涂",{"$nulls":67},4]
[533,"2021-04-26","顺平南辅线与顺畅路口","四灯杆已喷涂",{"$nulls":67},4]
[534,"2021-04-26","顺平南辅线与金航中路路口","四灯杆已喷涂",{"$nulls":67},4]
[535,"2021-04-26","顺平南辅线与金航西路路口","四灯杆已喷涂",{"$nulls":67},4]
[536,"2021-04-26","顺平南辅线与环岛东路","四灯杆已喷涂",{"$nulls":67},4]
[537,"2021-04-26","顺白路与外环路路口","四灯杆与一机箱已喷涂",{"$nulls":67},5]
[538,"2021-04-26","南陈路与马可汇路口","四灯杆与一机箱已喷涂",{"$nulls":67},5]
[539,"2021-04-26","天柱东路与二十里堡南口","四灯杆与一机箱已喷涂",{"$nulls":67},5]
[540,"2021-04-27","京沈路与昌金路","灯板擦拭",{"$nulls":43},1]
[541,"2021-04-27","京沈路与昌金路","灯板东向西已更换",{"$nulls":5},1]
[542,"2021-04-27","京沈路与昌金路","灯板已更换西向东",{"$nulls":5},1]
[543,"2021-04-27","右堤路与牛富路路口","灯眉已安装",{"$nulls":11},1]
[544,"2021-04-27","通顺路与滨河北路","更换步道灯组",null,null,1]
[545,"2021-04-27","通顺路大营四街","更换电瓶2，过充1",{"$nulls":9},2,{"$nulls":8},1]
[546,"2021-04-27","特殊教育学校门口","临时信号机",{"$nulls":53},1,1,1,1,1]
[547,"2021-04-27","顺于路与刘家河北口路口","三灯杆已喷涂",{"$nulls":67},3]
[548,"2021-04-27","顺于路与顺达路（国家电网路口）","三灯杆与一机箱已喷涂",{"$nulls":67},4]
[549,"2021-04-28","外环路与六环出口","被撞临时红绿灯恢复",{"$nulls":54},1,1,1,1]
[550,"2021-04-28","外环路与六环出口","拆除被撞红绿灯结构",{"$nulls":61},1]
[551,"2021-04-28","机场北街与金航西路","灯板已更换",{"$nulls":5},1]
[552,"2021-04-28","顺沙路与天北路","灯板已经更换",{"$nulls":5},1]
[553,"2021-04-28","京沈路与正大公司","灯眉修复，红灯灯板已经更换",{"$nulls":5},1,{"$nulls":5},1]
[554,"2021-04-28","通顺路与大营四街","更换电瓶2",{"$nulls":9},2]
[555,"2021-04-28","富密路与北木路路口西向东","更换两个灯罩一个红灯灯板",{"$nulls":5},1,{"$nulls":5},2]
[556,"2021-04-28","京沈路与顺沙路","合闸",{"$nulls":53},1,null,1,1,1,null,1]
[557,"2021-04-28","通顺路与牛山小区路口","三灯杆已喷涂",{"$nulls":67},3]
[558,"2021-04-28","富密路与耿丹学校路口","三灯杆与一机箱已喷涂",{"$nulls":67},4]
[559,"2021-04-28","通顺路与顺祥街路口","四灯杆已喷涂",{"$nulls":67},4]
[560,"2021-04-28","通顺路与顺丰大街路口","四灯杆已喷涂",{"$nulls":67},4]
[561,"2021-04-28","通顺路与恒华大街路口","四灯杆已喷涂",{"$nulls":67},4]
[562,"2021-04-28","通顺路与金牛街路口","四灯杆已喷涂",{"$nulls":67},4]
[563,"2021-04-28","通顺路与顺恒大街路口","四灯杆与一机箱已喷涂",{"$nulls":67},5]
[564,"2021-04-28","通顺路与顺兴街路口","四灯杆与一机箱已喷涂",{"$nulls":67},5]
[565,"2021-04-28","通顺路与西丰乐村路口","四灯杆与一机箱已喷涂",{"$nulls":67},5]
[566,"2021-04-28","京沈路与富密路口","四灯杆与一机箱已喷涂",{"$nulls":67},5]
[567,"2021-04-29","顺平南辅线与金航西路","灯板已更换",{"$nulls":5},1]
[568,"2021-04-29","京沈路正大公司路口","灯眉已修复，红灯灯板已更换",{"$nulls":5},1,{"$nulls":5},1]
[569,"2021-04-29","天北路与安华路","更换灯板",{"$nulls":5},1]
[570,"2021-04-29","顺平路与安祥大街","合闸",{"$nulls":53},1,null,1,1,1,null,1]
[571,"2021-04-29","富密路与北木路","红灯绿灯灯板已更换",{"$nulls":5},1]
[572,"2021-04-29","西下路与茶良路路口","六灯杆与一机箱已喷涂",{"$nulls":67},7]
[573,"2021-04-29","天北路与顺沙路","南向北机动车绿灯板已更换",{"$nulls":5},1]
[574,"2021-04-29","京沈路姚各庄路口","三灯杆与一机箱已喷涂",{"$nulls":67},4]
[575,"2021-04-29","京沈路正大公司路口","三灯杆与一机箱已喷涂",{"$nulls":67},4]
[576,"2021-04-29","富密路与北木路","三灯与一机箱已喷涂",{"$nulls":67},4]
[577,"2021-04-29","京沈路相各庄路口","四灯杆与一机箱已喷涂",{"$nulls":67},5]
[578,"2021-04-29","京沈路北孙各庄路口","四灯杆与一机箱已喷涂",{"$nulls":67},5]
[579,"2021-04-29","京承高速宽沟路口","四灯杆与一机箱已喷涂",{"$nulls":67},5]
[580,"2021-04-29","怀昌路与高下路路口","四灯杆与一机箱已喷涂",{"$nulls":67},5]
[581,"2021-04-29","京沈路官志卷路口","四灯杆与与一机箱已喷涂",{"$nulls":67},5]
[582,"2021-04-29","北木路与赵红路路口","四灯杆与与一机箱已喷涂",{"$nulls":67},5]
[583,"2021-04-29","北高路与板桥大街","一灯杆已喷涂",{"$nulls":67},1]
[584,"2021-04-29","平沿路与外环路","重新立杆、机箱加固",{"$nulls":37},1,{"$nulls":13},1,{"$nulls":11},1,{"$nulls":29},1]
[585,"2021-04-30","通顺路与府前街路口","12灯杆与一机箱已喷涂",{"$nulls":67},13]
[586,"2021-04-30","通顺路与牛山一中分校路口","八灯杆与一机箱已喷涂",{"$nulls":67},9]
[587,"2021-04-30","通顺路与双兴桥路口","八灯杆与一机箱已喷涂",{"$nulls":67},9]
[588,"2021-04-30","通顺路与八中路口","八灯杆与一机箱已喷涂",{"$nulls":67},9]
[589,"2021-04-30","通顺路与便民街东口路口","八灯杆与一机箱已喷涂",{"$nulls":67},9]
[590,"2021-04-30","通顺路与幸福路口","八灯杆与一机箱已喷涂",{"$nulls":67},9]
[591,"2021-04-30","石园南大街与顺康路","更换灯板",{"$nulls":5},1]
[592,"2021-04-30","顺航路与物流园六街路口","更换锁具",{"$nulls":21},1]
[593,"2021-04-30","通顺路与龙苑别墅路口","四灯杆已喷涂",{"$nulls":67},4]
[594,"2021-04-25","马可汇路口","机箱被撞",{"$nulls":93},1]
[595,"2021-04-28","南环路六环入口","灯杆被撞，摆放临时灯",{"$nulls":37},1,{"$nulls":15},1,1,1,1,1]
[596,"2021-04-21","龙塘路通顺路","配时调整",{"$nulls":24},1]
[597,"2021-04-23","通顺路外环路","配时调整",{"$nulls":24},1]
[598,"2021-04-29","白马路与李魏路","配时调整",{"$nulls":24},1]
[]
["合计",null,null,null,{"$f":"SUM(E4:E601)","v":59},{"$f":"SUM(F4:F601)","v":0},{"$f":"SUM(G4:G601)","v":4},{"$f":"SUM(H4:H601)","v":7},0,92,25,2330,3842,16,1,28,2,0,0,0,0,0,1,7,1,1,0,8,21,0,0,1,0,1,5,0,2,1,0,0,17,{"$f":"SUM(AP4:AP601)","v":3},0,0,0,1,0,1,0,2,0,0,7,0,99,{"$f":"SUM(BD4:BD601)","v":2},0,45,10,44,47,47,0,31,1,1,0,5,0,1,0,1281,0,0,9,0,0,0,0,0,0,0,2,2,0,0,0,0,2,0,0,0,0,0,0,2,0,2,1,0,0,2330]

{"sheet":"5月","index":4,"n_rows":468,"n_cols":102,"rows_kept":468,"cut":false,"hidden":false,"merged":[[0,0,0,63]]}
["交通设施日常维护-设备设施维修纪录明细"]
[{"$nulls":4},1,2,3,4,5,6,7,8,9,10,11,12,13,14,15,16,17,18,19,20,21,22,23,24,25,26,27,28,29,30,31,32,33,34,35,36,37,38,39,40,41,42,43,44,45,46,47,48,49,50,51,52,53,54,55,56,57,58,59,60,61,62,63,64,65,66,67,68,69,70,71,72,73,74,75,76,77,78,79,80,81,82,83,84,85,86,87,88,89,90,91,92,93,94,95,96,97,98]
["序号","日期","维修位置","维修内容","更换信号灯（组）","信号灯型号（备注）","更换步道灯（组）","更换信号灯杆（根）","更换步道灯杆（根）","更换灯板400*400（块）","更换灯板（300块）","更换电源线3*4（m)","更换控制线缆5*1.5（m)","更换蓄电池（块）","更换灯沿（个）","更换灯罩（个）","更换保险（个）","更换变压器（24v15w）（个）","更换变压器（24v11w）（个）","更换变压器（15v15w）（个）","更换太阳能模块（个）","更换天线（根）","更换过充过放（个）","更换信号机（台）","更换太阳能信号灯分机（台）","更换锁具（套）","安装手孔盖（个）","调整行车灯（套）","基本路口信号优化（处）","信号实时优化（处）","主干道绿波优化（处）","关闭信号机机箱门（个）","更换太阳能信号机主机（台）","更换信号机机箱（套）","调整标志牌（套）","拆除灯具（组）","更换太阳能晒板（块）","拆除标志牌（套）","关闭灯头（个）","更换漏电（个）","安装标志牌（套）","确认灯杆被撞（次）","安（拆）倒计时（块）","安装电表箱（个）","拆除探头线（处）","调整步道灯（处）","修剪树枝（处）","擦拭灯具（组）","更换太阳能信号机主板（块）","安装灯条（组）","安装太阳能晒板（块）","安装护栏（组）","调整灯线电源线（次）","更换井盖（个）","更换相位板（块）","更换被撞灯杆（根）","放发电机应急保障(ex2500cx)（台）","发电机台班","放置临时信号灯应急保障（台）","临时信号灯台班","临时停电应急保障（次）","临时停电台班","维修太阳能信号接收器（套）","合闸","恢复信号灯检查井（次）","拆除灯杆（根）","基础施工（次）","加固机箱（台）","修复灯部件（个）","机箱部件更换修复（个）","清除小广告（个）","喷涂（次）","安装更换检查孔（个）","井盖调整修复（次）","系统校时(次）","两米接地签字（根）","扁铁（一根4米）","螺丝（套）","关闭电表箱窗户（次）","维修手孔井（套）","更换220转24电源（块）","灯杆漆面反光膜翻新（根）","安装黄闪灯（套）","更换黄闪灯（套）","热熔标线画线（次）","更换转换器（24v）（个）","抱箍（套）","调整太阳能板（次）","关闭喇叭（次）","更换空开（个）","更换线缆（2*6）m","更换太阳能接触器（个）","更换临时信号机（台）","小电瓶（个）","调整灯杆（根）","拆除黄闪（个）","拆除黄闪灯杆（根）","机箱被撞（次）","其他","拆除线缆（米）","热熔标线（实线）平米","电缆直埋保护管PE管（米）"]
[1,"2021-05-06","天北路与兆丰二街","信号机箱加固",{"$nulls":63},1]
[2,"2021-05-06","铁东路顺白路","拆除黄闪灯杆5根（铁东路3根，顺白路2根）",{"$nulls":91},5,5]
[3,"2021-05-07","顺白路杜阳北街","拆除黄闪灯杆4根（2根，顺白路双河大街2根）",{"$nulls":91},4,4]
[4,"2021-05-09","通顺路与外环路","拉信号线施工（1260米）",{"$nulls":8},1260,{"$nulls":39},1]
[5,"2021-05-09","通顺路与外环路","挖沟排管40米（含75PE管+挖沟+回填）",{"$nulls":48},1]
[6,"2021-05-12","京沈路与天竺路交叉口","拆除红绿灯杆（2根L型杆，1根T型杆，红绿灯8组）",{"$nulls":31},8,{"$nulls":16},1,{"$nulls":12},3]
[7,"2021-05-18","天北路与安富街","拆除红绿灯杆（1根T型杆，2组红绿灯）",{"$nulls":31},2,{"$nulls":16},1,{"$nulls":12},1]
[8,"2021-05-27","京沈路与Y117乡道交叉口","施工线路改造",{"$nulls":7},504,1008,{"$nulls":39},1,{"$nulls":48},504]
[9,"2021-05-30","京沈路官志卷","机箱被撞，放临时信号灯"]
[10,"2021-05-01","水上公园南门","临时信号机",{"$nulls":53},1,1,1,1,1]
[11,"2021-05-01","光明街与幸福街","更换人行灯板",{"$nulls":6},1]
[12,"2021-05-01","机场北街与环岛东路","更换太阳能主机1台",{"$nulls":28},1]
[13,"2021-05-01","通顺路与拥军路路口","十灯杆与一机箱已喷涂",{"$nulls":67},11]
[14,"2021-05-01","顺通路与石园大街路口（五中）","八灯杆与一机箱已喷涂",{"$nulls":67},9]
[15,"2021-05-01","顺通路林河工业区路口","四灯杆与一机箱已喷涂",{"$nulls":67},5]
[16,"2021-05-01","顺通路陶家坟路口","四灯杆与一机箱已喷涂",{"$nulls":67},5]
[17,"2021-05-01","顺通路与南二环路口","四灯杆与一机箱已喷涂",{"$nulls":67},5]
[18,"2021-05-01","通顺路与窑坡路口","四灯杆与一机箱已喷涂",{"$nulls":67},5]
[19,"2021-05-01","顺通路与任李路（沿河）","四灯杆与一机箱已喷涂",{"$nulls":67},5]
[20,"2021-05-01","任李路与平沿路路口","灯杆与一机箱已喷涂",{"$nulls":67},2]
[21,"2021-05-01","京沈路白各庄路口","四灯杆与一机箱已喷涂",{"$nulls":67},5]
[22,"2021-05-01","京沈路与南陈路口","四灯杆与一机箱已喷涂",{"$nulls":67},5]
[23,"2021-05-01","京沈路金马开发区路口","三灯杆与一机箱已喷涂",{"$nulls":67},6]
[24,"2021-05-01","京沈路与顺于路口","四灯杆与一机箱已喷涂",{"$nulls":67},5]
[25,"2021-05-01","京沈路后沙峪地铁站路口","四灯杆与一机箱已喷涂",{"$nulls":67},5]
[26,"2021-05-01","京沈路与火沙辅路口","四灯杆与一机箱已喷涂",{"$nulls":67},5]
[27,"2021-05-01","天北路与天柱路","配时调整",{"$nulls":24},1]
[28,"2021-05-01","京沈路与安详大街","配时调整",{"$nulls":24},1]
[29,"2021-05-02","京沈路与铁回路","更换灯板2块",{"$nulls":5},2]
[30,"2021-05-02","减河北路左堤支线","配时调整",{"$nulls":24},1]
[31,"2021-05-03","外环路与通顺路","换线180",{"$nulls":8},180]
[32,"2021-05-03","火寺路与顺沙路","更换灯板2块",{"$nulls":5},2]
[33,"2021-05-03","顺平辅线与左堤辅线","更换灯板2块",{"$nulls":5},2]
[34,"2021-05-03","左堤路与龙塘路","更换电池2块，过充1，天线1",{"$nulls":9},2,{"$nulls":7},1,1]
[35,"2021-05-04","铁回路与京沈路","更换灯板1块",{"$nulls":5},1]
[36,"2021-05-04","木燕辅路检查站","标志牌调整",{"$nulls":30},1]
[37,"2021-05-04","京沈路与火沙辅路口","红灯灯板已更换",{"$nulls":5},1]
[38,"2021-05-05","木燕辅路检查站","标志牌调整",{"$nulls":30},1]
[39,"2021-05-05","木燕辅路检查站","调整黄闪灯朝向",{"$nulls":23},1]
[40,"2021-05-05","顺平路木北路","关闭机箱门，更换门锁",{"$nulls":21},1,{"$nulls":5},1]
[41,"2021-05-06","天北路与兆丰二街","更换太阳能从机1",{"$nulls":20},1]
[42,"2021-05-06","火沙辅线与裕华路","更换灯板2块",{"$nulls":5},2]
[43,"2021-05-07","火沙辅线与裕华路","更换灯板2块",{"$nulls":5},2]
[44,"2021-05-07","京沈路与高白路","调整车灯",{"$nulls":23},1]
[45,"2021-05-07","顺平辅线顺密路","更换人行灯板1块，非机动灯板1块，红灯板1",{"$nulls":5},1,2]
[46,"2021-05-07","顺平辅线与前俸伯中街和派出所门口","更换绿灯板3块",{"$nulls":5},3]
[47,"2021-05-07","李天路机场东路","换线50",{"$nulls":8},50]
[48,"2021-05-07","顺平辅线与顺密路","临时信号机",{"$nulls":53},1,1,1,1,1]
[49,"2021-05-07","顺平辅线","供电",{"$nulls":53},1,null,1,1,1]
[50,"2021-05-07","东营路与东安路","更换红灯板2块",{"$nulls":5},2]
[51,"2021-05-07","李天路与机场东路  ","更换绿灯板2块",{"$nulls":5},2]
[52,"2021-05-07","安平北街与十中路","临时信号机",{"$nulls":53},1,1,1,1,1]
[53,"2021-05-07","顺平路火寺路","更换红灯板1块",{"$nulls":5},1]
[54,"2021-05-07","通顺路金牛街小区","临时信号机",{"$nulls":53},1,1,1,1,1]
[55,"2021-05-07","中干渠顺平南线","更换灯组1套",1]
[56,"2021-05-07","顺于路与英才北三街","更换太阳能板1块",{"$nulls":32},1]
[57,"2021-05-07","通顺路与金牛街","临时灯撤除",{"$nulls":55},1,1,1]
[58,"2021-05-07","京沈路与铁匠营路口","三灯杆已喷涂",{"$nulls":67},3]
[59,"2021-05-07","京沈路与火沙路口","三灯杆与一机箱已喷涂",{"$nulls":67},4]
[60,"2021-05-07","京沈路与安详大街路口","三灯杆与一机箱已喷涂",{"$nulls":67},4]
[61,"2021-05-07","京沈路安宁大街路口","七灯杆与一机箱已喷涂",{"$nulls":67},8]
[62,"2021-05-07","京沈路空港A区口","四灯杆与一机箱已喷涂",{"$nulls":67},5]
[63,"2021-05-07","京沈路国展地铁站路口","四灯杆与一机箱已喷涂",{"$nulls":67},5]
[64,"2021-05-07","铁东路与外环路","配时调整",{"$nulls":24},1]
[65,"2021-05-08","仁和镇鼎顺嘉园","更换红灯板2块",{"$nulls":5},2]
[66,"2021-05-08","龙塘路机场东路","标志牌调整",{"$nulls":30},1]
[67,"2021-05-08","天北路顺于路","更换红灯板1块",{"$nulls":5},1]
[68,"2021-05-08","安平北街十中路口","更换机箱",{"$nulls":29},1]
[69,"2021-05-08","顺于路国泰路口","更换左转箭头1块",{"$nulls":5},1]
[70,"2021-05-08","龙塘路与龙塘辅线","标志牌安装",{"$nulls":36},1]
[71,"2021-05-08","白马路与兴吉路","更换电池1",{"$nulls":9},1]
[72,"2021-05-08","铁东路桥下","标志牌调整",{"$nulls":30},1]
[73,"2021-05-08","龙塘路与木燕辅路","供电",{"$nulls":53},1,null,1,1,1]
[74,"2021-05-08","天北路与天柱中路口（水木兰亭）","四灯杆与一机箱已喷涂",{"$nulls":67},5]
[75,"2021-05-08","天北路与国际航空公司","两灯杆与一机箱已喷涂",{"$nulls":67},3]
[76,"2021-05-08","天北路与花园西街","三灯杆与一机箱已喷涂",{"$nulls":67},4]
[77,"2021-05-08","天北路与天柱东路口（薛大人）","四灯杆与一机箱已喷涂",{"$nulls":67},5]
[78,"2021-05-08","天北路天竺政府北路口","四灯杆与一机箱已喷涂",{"$nulls":67},5]
[79,"2021-05-08","通顺路与便民街东口路口","灯罩已更换",{"$nulls":11},1]
[80,"2021-05-08","牛山开发区域牛汇街路口","四灯杆与一机箱已喷涂，",{"$nulls":67},5]
[81,"2021-05-08","顺丰大街与坤安路路口","七灯杆与一机箱已喷涂",{"$nulls":67},8]
[82,"2021-05-08","顺恒大街与坤安路","灯杆与机箱已喷涂",{"$nulls":67},2]
[83,"2021-05-09","龙塘路副线东尹家府","标志牌调整",{"$nulls":30},1]
[84,"2021-05-09","龙塘路与龙塘辅线","更换电池1",{"$nulls":9},1]
[85,"2021-05-09","天北路顺于路","断电",{"$nulls":53},1,null,1,1,1]
[86,"2021-05-09","龙塘路中干渠桥","警示灯已拆除2",{"$nulls":33},2]
[87,"2021-05-09","赵陈路与顺密路","标志牌已扶正",{"$nulls":30},1]
[88,"2021-05-09","顺平路与杨镇二街村口","标志牌已拆除1",{"$nulls":33},1]
[89,"2021-05-09","木燕路与北务收费站","标志牌已拆除1",{"$nulls":33},1]
[90,"2021-05-09","马场东路与坤安路","八灯杆与一机箱已喷涂",{"$nulls":67},9]
[91,"2021-05-09","顺白路与西辛西口路口","四灯杆已喷涂",{"$nulls":67},4]
[92,"2021-05-09","前景街与新二中路口","四灯杆已喷涂",{"$nulls":67},4]
[93,"2021-05-09","西二环路与新二中路口","四灯杆与一机箱已喷涂",{"$nulls":67},5]
[94,"2021-05-09","前景路与石景街路口","三灯杆与一机箱已喷涂",{"$nulls":67},4]
[95,"2021-05-09","望泉北街与前景路路口","四灯杆与一机箱已喷涂",{"$nulls":67},5]
[96,"2021-05-09","顺白路与望泉北街路口","三灯杆已喷涂",{"$nulls":67},3]
[97,"2021-05-09","顺白路与梅沟营桥下","二灯杆与一机箱已喷涂",{"$nulls":67},3]
[98,"2021-05-09","顺平路与西二环（机场东路）路口","已喷涂",{"$nulls":67},1]
[99,"2021-05-09","望泉北街与兴泉路路口","四灯杆与一机箱已喷涂",{"$nulls":67},5]
[100,"2021-05-09","西二环与石马路口","四灯杆与一机箱已喷涂",{"$nulls":67},5]
[101,"2021-05-09","西二环与石门市场东门北口","六灯杆与一机箱已喷涂",{"$nulls":67},7]
[102,"2021-05-09","天北路天柱东路","配时调整",{"$nulls":24},1]
[103,"2021-05-09","机场东路与龙塘路","配时调整",{"$nulls":24},1]
[104,"2021-05-10","昌金路与京沈路","机箱门已关闭",{"$nulls":27},1]
[105,"2021-05-10","顺平路与裕安路","右转向牌已拆除1",{"$nulls":33},1]
[106,"2021-05-10","京沈路与铁匠营村路口","机动车绿灯灯板更换2块",{"$nulls":5},2]
[107,"2021-05-10","京沈路与安详大街路口","机动车绿灯灯板已更换",{"$nulls":5},1]
[108,"2021-05-10","京沈路与国展地铁站路口","人行灯杆已扶正",{"$nulls":90},1]
[109,"2021-05-10","天北路与安宁大街非","非机动车绿灯已更换",{"$nulls":6},1]
[110,"2021-05-10","顺沙路与高白路","红绿灯扶正",{"$nulls":23},1]
[111,"2021-05-10","中晟馨苑红绿灯","更换人行灯1组，换线30米",null,null,1,{"$nulls":5},30]
[112,"2021-05-10","机场北街与金航西路","换了从机",{"$nulls":20},1]
[113,"2021-05-10","白马路现代三厂","合闸",{"$nulls":53},1,null,1,1,1,null,1]
[114,"2021-05-10","顺通路与顺平南线","更换红绿灯组1套",1]
[115,"2021-05-10","昌金路右堤路","机箱门已关闭",{"$nulls":27},1]
[116,"2021-05-10","高白路与于庄小区南口路口","灯杆已喷涂",{"$nulls":67},1]
[117,"2021-05-10","火沙路与京承高速桥东口2","已喷涂",{"$nulls":67},1]
[118,"2021-05-10","火沙路与京承高速桥东口1","已喷涂",{"$nulls":67},1]
[119,"2021-05-10","火沙路与高白路口","已喷涂",{"$nulls":67},1]
[120,"2021-05-10","火沙路与古城中心街路口","已喷涂",{"$nulls":67},1]
[121,"2021-05-10","火沙路与君城学校","已喷涂",{"$nulls":67},1]
[122,"2021-05-10","火沙路与裕园路口","已喷涂",{"$nulls":67},1]
[123,"2021-05-10","火沙路罗各庄村口","已喷涂",{"$nulls":67},1]
[124,"2021-05-10","火沙路田各庄路口","已喷涂",{"$nulls":67},1]
[125,"2021-05-10","天北路与安宁大街","八灯杆与一机箱已喷涂",{"$nulls":67},9]
[126,"2021-05-10","安宁大街与吉宁路路口","已喷涂",{"$nulls":67},1]
[127,"2021-05-10","安宁大街与吉荣路路口","已喷涂",{"$nulls":67},1]
[128,"2021-05-10","安宁大街与裕园路口","已喷涂",{"$nulls":67},1]
[129,"2021-05-10","安华街与英国学校路口","已喷涂",{"$nulls":67},1]
[130,"2021-05-10","顺密路与赵陈路口","标志牌已扶正",{"$nulls":30},1]
[131,"2021-05-10","拥军路与顺平东路口","八灯杆与一机箱已喷涂",{"$nulls":67},9]
[132,"2021-05-10","石园东路与拥军路路口","六灯杆与一机箱已喷涂",{"$nulls":67},7]
[133,"2021-05-10","裕龙二街与顺康路口","八灯杆与一机箱已喷涂",{"$nulls":67},9]
[134,"2021-05-10","裕龙二街与石园东路口","八灯杆与一机箱已喷涂",{"$nulls":67},9]
[135,"2021-05-10","顺平路与政府街（杨镇二街村）路口","标杆拆除1套",{"$nulls":33},1]
[136,"2021-05-10","新顺南大街与仓上南街口","三灯杆与一机箱已喷涂",{"$nulls":67},4]
[137,"2021-05-11","京沈路与天北路","调整配时",{"$nulls":24},1]
[138,"2021-05-11","通顺路与南外环路","更换整组红绿灯",1]
[139,"2021-05-11","顺白路与军营街","更换灯板1块",{"$nulls":5},1]
[140,"2021-05-11","大营四街与站前北街","换线382",{"$nulls":8},382]
[141,"2021-05-11","昌金路与左堤路","调整车灯",{"$nulls":23},1]
[142,"2021-05-11","李巍路与白马路","更换红灯板1块",{"$nulls":5},1]
[143,"2021-05-11","道太路与木燕路","标志牌拆除1",{"$nulls":33},1]
[144,"2021-05-11","道太路与木燕路","标志牌拆除1",{"$nulls":33},1]
[145,"2021-05-11","站前北街与大营四街","更换天线2根",{"$nulls":17},2]
[146,"2021-05-11","通顺路与滨河北路","合闸",{"$nulls":53},1,null,1,1,1,null,1]
[147,"2021-05-11","集汇大街与顺和路口","十一灯杆与一机箱已喷涂",{"$nulls":67},12]
[148,"2021-05-11","集汇大街与顺泰路口","四灯杆与一机箱已喷涂",{"$nulls":67},5]
[149,"2021-05-11","集汇大街与顺福路口","八灯杆与一机箱已喷涂",{"$nulls":67},9]
[150,"2021-05-11","石园大街与顺福路口","八灯杆与一机箱已喷涂",{"$nulls":67},9]
[151,"2021-05-11","石园大街与顺泰路口","四灯杆与一机箱已喷涂",{"$nulls":67},5]
[152,"2021-05-11","石园大街与顺康路口","八灯杆与一机箱已喷涂",{"$nulls":67},9]
[153,"2021-05-11","石园大街与石园东路口（老年公寓）","十二灯杆与一机箱已喷涂",{"$nulls":67},13]
[154,"2021-05-11","燕京街/平沿路与石园东路口","四灯杆与一机箱已喷涂",{"$nulls":67},5]
[155,"2021-05-11","燕京街/平沿路与顺康路口","四灯杆与一机箱已喷涂",{"$nulls":67},5]
[156,"2021-05-11","港馨家园与顺康路口","六灯杆与一机箱已喷涂",{"$nulls":67},7]
[157,"2021-05-11","燕京街/平沿路与顺福路口","四灯杆与一机箱已喷涂",{"$nulls":67},5]
[158,"2021-05-11","燕京街/平沿路与顺福路口","八灯杆与一机箱已喷涂",{"$nulls":67},9]
[159,"2021-05-11","顺平路与裕安路路口","右转向指示牌已拆除",{"$nulls":33},1]
[160,"2021-05-11","顺平南线与顺泰路","四灯杆与一机箱已喷涂",{"$nulls":67},5]
[161,"2021-05-11","顺平南线与啤酒厂西口","八灯杆与一机箱已喷涂",{"$nulls":67},9]
[162,"2021-05-11","顺平南线与啤酒厂东口","七灯杆与一机箱已喷涂",{"$nulls":67},8]
[163,"2021-05-11","顺平南线与平沿路口","四灯杆与一机箱已喷涂",{"$nulls":67},5]
[164,"2021-05-11","顺平路与顺和路口","已喷涂",{"$nulls":67},1]
[165,"2021-05-12","仁和花园2区","牌子被刮歪已修复",{"$nulls":30},1]
[166,"2021-05-12","啤酒厂门口","人行步道灯被刮歪已修复",{"$nulls":41},1]
[167,"2021-05-12","昌金路与顺密路","信号灯歪斜调整",{"$nulls":23},1]
[168,"2021-05-12","李木路与赵陈路","合闸",{"$nulls":53},1,null,1,1,1,null,1]
[169,"2021-05-12","顺平路火寺路","合闸",{"$nulls":56},1,1,null,1]
[170,"2021-05-12","李木路与赵陈路","更换灯板1块",{"$nulls":5},1]
[171,"2021-05-13","路寻赵陈路与上仇路","信号灯被剐已恢复",{"$nulls":23},1]
[172,"2021-05-13","外环路","两个路口联动已完成",{"$nulls":70},1]
[173,"2021-05-13","裕安路与安富街","红灯灯板已更换",{"$nulls":5},1]
[174,"2021-05-13","裕庆路与双裕大街","灯眉已安装",{"$nulls":11},1]
[175,"2021-05-13","通顺路与外环路","更换400红绿灯灯组，东向西，西向东各一组",2]
[176,"2021-05-13","京沈路与天竺路","信号灯杆拆除",{"$nulls":61},1]
[177,"2021-05-13","京沈路与安详大街","读秒拆除",{"$nulls":38},1]
[178,"2021-05-13","裕庆路与安富街","灯杆已喷涂",{"$nulls":67},1]
[179,"2021-05-13","裕安街与安富街路口","灯杆与机箱已喷涂",{"$nulls":67},2]
[180,"2021-05-13","安富街与十中路口","灯杆与机箱已喷涂",{"$nulls":67},2]
[181,"2021-05-13","火寺路与安福街路口","灯杆与一机箱已喷涂",{"$nulls":67},2]
[182,"2021-05-13","通顺路与外环路","配时调整",{"$nulls":24},1]
[183,"2021-05-14","前景路顺于路","小广告已去除",{"$nulls":66},1]
[184,"2021-05-14","金牛街与通顺路","检查口安装",{"$nulls":68},1]
[185,"2021-05-14","京沈路安宁大街路","小广告已清除",{"$nulls":66},1]
[186,"2021-05-14","顺康路与石园南大街","井盖已恢复",{"$nulls":69},1]
[187,"2021-05-14","货运北路","加装直行方向灯",{"$nulls":6},1]
[188,"2021-05-14","裕华路与香花畦小区路口","灯杆与一机箱已喷涂",{"$nulls":67},2]
[189,"2021-05-14","裕庆路与双裕北街","灯杆与一机箱已喷涂",{"$nulls":67},2]
[190,"2021-05-14","裕庆路与双裕大街","灯杆与一机箱已喷涂",{"$nulls":67},2]
[191,"2021-05-14","天北路与新国展南门路口（馨园一街）","灯杆与一机箱已喷涂",{"$nulls":67},2]
[192,"2021-05-14","天北路与馨园二街路口","八灯杆与一机箱已喷涂",{"$nulls":67},9]
[193,"2021-05-14","天北路与馨园三街路口","三灯杆与一机箱已喷涂",{"$nulls":67},4]
[194,"2021-05-14","天北路与安华街（国际学校）","四灯杆与一机箱已喷涂",{"$nulls":67},5]
[195,"2021-05-14","裕丰路与安华街路口","八灯杆已喷涂",{"$nulls":67},8]
[196,"2021-05-14","安宁大街与裕丰路路口","八灯杆与一机箱已喷涂",{"$nulls":67},9]
[197,"2021-05-14","恒兴东路与文良北街","已喷涂",{"$nulls":67},1]
[198,"2021-05-14","恒兴路与开元街","已喷涂",{"$nulls":67},1]
[199,"2021-05-14","火寺路与同心路路口","已喷涂",{"$nulls":67},1]
[200,"2021-05-14","火寺路与北木路路口","已喷涂",{"$nulls":67},1]
[201,"2021-05-14","怀昌路与火寺路路口","已喷涂",{"$nulls":67},1]
[202,"2021-05-14","昌金路与赵全营政府路口","已喷涂",{"$nulls":67},1]
[203,"2021-05-14","通顺路与拥军路路口","配时调整",{"$nulls":24},1]
[204,"2021-05-14","铁东路南环路","配时调整",{"$nulls":24},1]
[205,"2021-05-15","安宁大街与裕丰路","更换人行步道灯2组",null,null,2]
[206,"2021-05-15","顺和路与林河南大街  ","绿灯板已更换",{"$nulls":5},1]
[207,"2021-05-15","裕华路安庆大街","临时灯已摆放",{"$nulls":53},1,1,1,1,1]
[208,"2021-05-15","白马路与红下路","机箱门已关",{"$nulls":27},1]
[209,"2021-05-15","天北路与顺于路路口","已喷涂",{"$nulls":67},1]
[210,"2021-05-15","天北路与董各庄路口","已喷涂",{"$nulls":67},1]
[211,"2021-05-15","天北路与安富街路口","已喷涂",{"$nulls":67},1]
[212,"2021-05-15","安宁大街与裕庆路路口","七灯杆与一机箱已喷涂",{"$nulls":67},8]
[213,"2021-05-15","安宁大街与裕安路路口","八灯杆与一机箱已喷涂",{"$nulls":67},9]
[214,"2021-05-15","裕华路与吉祥花园路口","七灯杆与一机箱已喷涂",{"$nulls":67},8]
[215,"2021-05-15","安宁大街与裕东路路口","六灯杆与一机箱已喷涂",{"$nulls":67},7]
[216,"2021-05-15","裕安路与安泰大街路口","八灯杆与一机箱已喷涂",{"$nulls":67},9]
[217,"2021-05-15","安祥街与空港小学路口","八灯杆与一机箱已喷涂",{"$nulls":67},9]
[218,"2021-05-15","裕安路与安祥大街","四灯杆与一机箱已喷涂",{"$nulls":67},5]
[219,"2021-05-15","裕华路与安祥街路口","四灯杆与一机箱已喷涂",{"$nulls":67},5]
[220,"2021-05-15","裕华路与安祥街路口","四灯杆与一机箱已喷涂",{"$nulls":67},5]
[221,"2021-05-15","裕华路与安庆大街路口","四灯杆与一机箱已喷涂",{"$nulls":67},5]
[222,"2021-05-15","裕安路与安庆大街路口","四灯杆与一机箱已喷涂",{"$nulls":67},5]
[223,"2021-05-15","安庆大街与三山市场路口","四灯杆与一机箱已喷涂",{"$nulls":67},5]
[224,"2021-05-15","火沙路与美术学院路口","已喷涂",{"$nulls":67},1]
[225,"2021-05-15","火沙路与裕庆路口","已喷涂",{"$nulls":67},1]
[226,"2021-05-15","火沙路与裕民大街路口","已喷涂",{"$nulls":67},1]
[227,"2021-05-15","火沙路与裕华街路口","已喷涂",{"$nulls":67},1]
[228,"2021-05-15","火沙路与火寺路路口","已喷涂",{"$nulls":67},1]
[229,"2021-05-15","火沙辅路与火寺路口","四灯杆已喷涂",{"$nulls":67},4]
[230,"2021-05-15","火沙辅路与裕华路口","八灯杆与一机箱已喷涂",{"$nulls":67},9]
[231,"2021-05-15","火沙辅路与裕祥花园路口","四灯杆与一机箱已喷涂",{"$nulls":67},5]
[232,"2021-05-15","铁东路仓上街","配时调整",{"$nulls":24},1]
[233,"2021-05-16","牛栏山第一中学门口","更换箭头灯板2块",{"$nulls":6},2]
[234,"2021-05-16","安宁大街与裕安路","更换人行灯板1块",{"$nulls":6},1]
[235,"2021-05-16","火寺路与机场北线南路","更换红灯板两个",{"$nulls":5},2]
[236,"2021-05-16","裕华路与安庆大街","合闸",{"$nulls":53},1,null,1,1,1,null,1]
[237,"2021-05-16","顺沙路与西辛南北区","更换信号机",{"$nulls":19},1]
[238,"2021-05-16","昌金路与龙凤路","红绿灯已扶正",{"$nulls":23},1]
[239,"2021-05-16","天北路与顺于路","红灯灯板更换，灯罩更换",{"$nulls":5},1,{"$nulls":5},1]
[240,"2021-05-16","天北路与顺于路西侧绿灯灯板已更换","绿灯灯板已更换",{"$nulls":5},1]
[241,"2021-05-16","天北路与顺于路","红灯绿灯灯板已更换",{"$nulls":5},1]
[242,"2021-05-16","白马路水上公园南门","临时信号机",{"$nulls":53},1,1,1,1,1]
[243,"2021-05-16","天柱路与天竺出口加工区路口","四灯杆与一机箱已喷涂",{"$nulls":67},5]
[244,"2021-05-16","天柱路与海关总署路口","四灯杆与一机箱已喷涂",{"$nulls":67},5]
[245,"2021-05-16","天柱路与蓝天大厦路口","四灯杆与一机箱已喷涂",{"$nulls":67},5]
[246,"2021-05-16","林荫路与国际会计学院路口","四灯杆与一机箱已喷涂",{"$nulls":67},5]
[247,"2021-05-16","天柱东路与林荫路","八灯杆与一机箱已喷涂",{"$nulls":67},9]
[248,"2021-05-16","李天路与天竺新村路口","四灯杆与一机箱已喷涂",{"$nulls":67},5]
[249,"2021-05-16","李天路楼台西口","三灯杆与一机箱已喷涂",{"$nulls":67},4]
[250,"2021-05-16","李天路楼台东口","四灯杆与一机箱已喷涂",{"$nulls":67},5]
[251,"2021-05-16","李天路与岗山路口","四灯杆与一机箱已喷涂",{"$nulls":67},5]
[252,"2021-05-16","李天路与岗山路口","两灯杆与一机箱已喷涂",{"$nulls":67},3]
[253,"2021-05-16","李天路与丰荣酒店路口","两灯杆与一机箱已喷涂",{"$nulls":67},3]
[254,"2021-05-16","李天路与富壁路口（樱花园）","三灯杆与一机箱已喷涂",{"$nulls":67},4]
[255,"2021-05-16","李天路与机场东路口","九灯杆与一机箱已喷涂",{"$nulls":67},10]
[256,"2021-05-16","富壁路与小葛渠路口","六灯杆与一机箱已喷涂",{"$nulls":67},7]
[257,"2021-05-16","富壁路与京平高速桥下","八灯杆与一机箱已喷涂",{"$nulls":67},9]
[258,"2021-05-16","机场东路与四纬路路口","四灯杆与一机箱已喷涂",{"$nulls":67},5]
[259,"2021-05-17","安华街与欲丰路","人行灯灯罩，护围，已更换6个",{"$nulls":11},6]
[260,"2021-05-17","李天路与丰荣君华酒店门口","绿灯灯板已更换",{"$nulls":5},1]
[261,"2021-05-17","机场东路与李天路","灯维已固定",{"$nulls":10},1]
[262,"2021-05-17","四纬路与纬经中路","红灯灯板已更换",{"$nulls":5},1]
[263,"2021-05-17","河南村南口","机箱门锁安装完毕",{"$nulls":21},1]
[264,"2021-05-17","四纬路与纬经中路","灯维已固定",{"$nulls":10},1]
[265,"2021-05-17","龙塘路与龙塘辅路  ","红灯灯板已更换"]
[266,"2021-05-17","富密路与牛栏山小学","红灯灯板已更换",{"$nulls":5},1]
[267,"2021-05-17","天北路昌金路","机箱门已关闭",{"$nulls":27},1]
[268,"2021-05-17","天北路与天竺花园","红绿灯灯板与灯罩都已更换",{"$nulls":5},1,{"$nulls":5},1]
[269,"2021-05-17","天北路兆丰一街","更换非机动车道灯板两个，灯罩一个",{"$nulls":6},2,{"$nulls":4},1]
[270,"2021-05-17","机场东路与军营北街路口","三灯杆与一机箱已喷涂",{"$nulls":67},4]
[271,"2021-05-17","龙塘路与机场东路口","已喷涂",{"$nulls":67},1]
[272,"2021-05-17","汇海南路与松香湖大街","已喷涂",{"$nulls":67},1]
[273,"2021-05-17","四纬路与汇海南路（纵四路）","已喷涂",{"$nulls":67},1]
[274,"2021-05-17","正元南大街与汇海南路","已喷涂",{"$nulls":67},1]
[275,"2021-05-17","正元大街与汇海南路","已喷涂",{"$nulls":67},1]
[276,"2021-05-17","富元大街与汇海南路","已喷涂",{"$nulls":67},1]
[277,"2021-05-17","龙塘路李桥政府路口","四灯杆与一机箱已喷涂",{"$nulls":67},5]
[278,"2021-05-17","金桥路与横十一路","八灯杆与一机箱已喷涂",{"$nulls":67},9]
[279,"2021-05-17","正元大街与金桥路","八灯杆与一机箱已喷涂",{"$nulls":67},9]
[280,"2021-05-17","金桥路与正元南街","八灯杆与一机箱已喷涂",{"$nulls":67},9]
[281,"2021-05-17","四纬路与金桥路","已喷涂",{"$nulls":67},1]
[282,"2021-05-17","金桥路与汇海路","已喷涂",{"$nulls":67},1]
[283,"2021-05-17","金桥路与汇海南路","已喷涂",{"$nulls":67},1]
[284,"2021-05-17","北斗路与松香湖大街","七灯杆与一机箱已喷涂",{"$nulls":67},8]
[285,"2021-05-17","北斗路与四纬路","八灯杆与一机箱已喷涂",{"$nulls":67},9]
[286,"2021-05-17","松香湖大街与经纬南路","七灯杆与一机箱已喷涂",{"$nulls":67},8]
[287,"2021-05-17","四纬路与经纬中路","七灯杆与一机箱已喷涂",{"$nulls":67},8]
[288,"2021-05-17","正元南街与经纬中路","七灯杆与一机箱已喷涂",{"$nulls":67},8]
[289,"2021-05-17","正元南街与经纬中路","已喷涂",{"$nulls":67},1]
[290,"2021-05-17","正元大街与经纬中路","七灯杆与一机箱已喷涂",{"$nulls":67},8]
[291,"2021-05-17","富元大街与经纬中路","七灯杆与一机箱已喷涂",{"$nulls":67},8]
[292,"2021-05-17","北斗路与富元大街","八灯杆与一机箱已喷涂",{"$nulls":67},9]
[293,"2021-05-17","纵二路与正元大街","八灯杆与一机箱已喷涂",{"$nulls":67},9]
[294,"2021-05-17","纵二路与正元大街","已喷涂",{"$nulls":67},1]
[295,"2021-05-17","纵二路与正元南大街","八灯杆与一机箱已喷涂",{"$nulls":67},9]
[296,"2021-05-17","南二环与六环路口","五灯杆与一机箱已喷涂",{"$nulls":67},6]
[297,"2021-05-17","火寺路与机场北线南路","更换机动车道红灯板两个",{"$nulls":5},2]
[298,"2021-05-17","南二环与现代南门路口","四灯杆与一机箱已喷涂",{"$nulls":67},5]
[299,"2021-05-17","南二环与米各庄路口","四灯杆与一机箱已喷涂",{"$nulls":67},5]
[300,"2021-05-17","顺平南线与顺白路路口","四灯杆与一机箱已喷涂",{"$nulls":67},5]
[301,"2021-05-17","顺白路与杜杨南街路口","八灯杆与一机箱已喷涂",{"$nulls":67},9]
[302,"2021-05-18","白马路顺密路","帽檐修复1",{"$nulls":10},"·"]
[303,"2021-05-18","顺和路与林河南大街  ","换绿灯灯板两块",{"$nulls":5},2]
[304,"2021-05-18","外环路与现代二厂门口路东","绿灯板更换两块",{"$nulls":5},2]
[305,"2021-05-18","外环路与现代二厂1号门","绿灯灯板已更换1",{"$nulls":5},1]
[306,"2021-05-18","顺和路与顺和花园一区","绿灯灯板已恢复1",{"$nulls":5},1]
[307,"2021-05-18","顺沙路与通顺路 ","换线137米5线1.5平方",{"$nulls":8},137]
[308,"2021-05-18","昌金路与通顺路","非机动车绿灯已更换",{"$nulls":6},2]
[309,"2021-05-18","李天路与丰荣酒店路","绿灯灯板已更换",{"$nulls":5},1]
[310,"2021-05-18","李天路与机场东路口","南侧灯维已固定",{"$nulls":10},1]
[311,"2021-05-18","四纬路与经纬中路","东侧红灯灯板已更换",{"$nulls":5},1]
[312,"2021-05-18","澜西园路与规划路","六灯杆与一机箱已喷涂",{"$nulls":67},7]
[313,"2021-05-18","顺兴街与石园西路","已喷涂",{"$nulls":67},1]
[314,"2021-05-18","昌金路与天北路路口","关机箱门",{"$nulls":27},1]
[315,"2021-05-18","梅香街与规划路","四灯杆与一机箱已喷涂",{"$nulls":67},5]
[316,"2021-05-18","府前街与交通局门口路口","三灯杆与一机箱已喷涂",{"$nulls":67},4]
[317,"2021-05-18","财政局西侧路与站前街路口","八灯杆与一机箱已喷涂",{"$nulls":67},9]
[318,"2021-05-18","铁东路与建新街路口","六灯杆与一机箱已喷涂",{"$nulls":67},7]
[319,"2021-05-18","铁东路与站前街路口","已喷涂",{"$nulls":67},1]
[320,"2021-05-18","铁东路与国泰商场","六灯杆与一机箱已喷涂",{"$nulls":67},7]
[321,"2021-05-18","新顺北大街与便民街西口路口","八灯杆与一机箱已喷涂",{"$nulls":67},9]
[322,"2021-05-18","顺康路石园大街配时调整完成","配时调整",{"$nulls":24},1]
[323,"2021-05-19","昌金路与京沈路","西向尖头灯板已更换全盘灯板",{"$nulls":6},1]
[324,"2021-05-19","昌金路与京沈路","东向箭头灯板已更换全盘灯板",{"$nulls":6},1]
[325,"2021-05-19","天北路与昌金路","更换红灯灯板1块",{"$nulls":5},1]
[326,"2021-05-19","白马路与龙尹路","安装检查孔",{"$nulls":68},1]
[327,"2021-05-19","李堡路与平沿路","东向西非机动车路灯已更换",{"$nulls":6},1]
[328,"2021-05-19","天北路安富街","临时信号",{"$nulls":53},1,1,1,1,1]
[329,"2021-05-19","中山东街与绿港家园路口","已喷涂",{"$nulls":67},1]
[330,"2021-05-19","金汉绿港与光明小学路口","已喷涂",{"$nulls":67},1]
[331,"2021-05-19","府前街与大东路口","八灯杆与一机箱已喷涂",{"$nulls":67},9]
[332,"2021-05-19","新顺南大街与顺京街路口（地税）","八灯杆与一机箱已喷涂",{"$nulls":67},9]
[333,"2021-05-19","新顺南大街与仓上小区西口路口","六灯杆与一机箱已喷涂",{"$nulls":67},7]
[334,"2021-05-19","新顺南大街与建新街路口","八灯杆与一机箱已喷涂",{"$nulls":67},9]
[335,"2021-05-19","新顺南大街与站前街路口（隆华）","八灯杆与一机箱已喷涂",{"$nulls":67},9]
[336,"2021-05-19","新顺南大街与府前街路口（国泰）","四灯杆与一机箱已喷涂",{"$nulls":67},5]
[337,"2021-05-19","顺密路北小营政府路口","四灯杆与一机箱已喷涂",{"$nulls":67},5]
[338,"2021-05-19","顺密路与北韩路路口","五灯杆与一机箱已喷涂",{"$nulls":67},6]
[339,"2021-05-19","顺密路与赵陈路口","四灯杆与一机箱已喷涂",{"$nulls":67},5]
[340,"2021-05-19","顺密路和陈马路路口","四灯杆与一机箱已喷涂",{"$nulls":67},5]
[341,"2021-05-19","赵陈路后鲁北口路口","四灯杆与一机箱已喷涂",{"$nulls":67},5]
[342,"2021-05-19","赵陈路与李魏路（仇店）路口","四灯杆与一机箱已喷涂",{"$nulls":67},5]
[343,"2021-05-19","李魏路与和新街","七灯杆与一机箱已喷涂",{"$nulls":67},8]
[344,"2021-05-19","上宏东路与和新街","八灯杆与一机箱已喷涂",{"$nulls":67},9]
[345,"2021-05-19","上宏中路与和新街","八灯杆与一机箱已喷涂",{"$nulls":67},9]
[346,"2021-05-19","上宏西路与和新街","七灯杆与一机箱已喷涂",{"$nulls":67},8]
[347,"2021-05-19","上宏西路与北小营大街","六灯杆与一机箱"]
[348,"2021-05-19","上宏中路与北小营大街","八灯杆已喷涂",{"$nulls":67},8]
[349,"2021-05-19","上宏东路与北小营大街","六灯杆已喷涂",{"$nulls":67},6]
[350,"2021-05-19","李魏路与北小营大街","六灯杆与一机箱已喷涂",{"$nulls":67},7]
[351,"2021-05-19","铁东路与仓上街配时调试","配时调整",{"$nulls":24},1]
[352,"2021-05-20","李堡路与平沿路交叉口","北向南非机动车路灯已更换",{"$nulls":6},1]
[353,"2021-05-20","昌金路与鑫牛南路交叉口","机箱门关闭",{"$nulls":27},1]
[354,"2021-05-20","木燕路与顺密路","更换机动绿灯板1块，非机动灯板1块",{"$nulls":5},1,1]
[355,"2021-05-20","外马怡路与顺密路","更换机动绿灯板2块，非机动灯板2块",{"$nulls":5},2,2]
[356,"2021-05-20","顺平南线与顺康路","摆放临时红绿灯",{"$nulls":53},1,1,1,1,1]
[357,"2021-05-20","苏庄闸桥红绿灯","更换机动绿灯板1块",{"$nulls":5},1]
[358,"2021-05-20","怀昌路与高下路","非机动车路灯已更换",{"$nulls":6},1]
[359,"2021-05-20","铁东路与仓上街","配时调整",{"$nulls":25},1]
[360,"2021-05-21","木燕路与顺密路","绿灯已更换",{"$nulls":5},1]
[361,"2021-05-21","木燕路与木邵路","更换灯板与灯眉",{"$nulls":5},1,{"$nulls":5},1]
[362,"2021-05-21","高下路与下西市村口","调整车灯",{"$nulls":23},1]
[363,"2021-05-21","富密路与昌金路","非机动车道红灯更换",{"$nulls":6},1]
[364,"2021-05-21","牛栏山一中","灯维固定",{"$nulls":10},1]
[365,"2021-05-21","顺平路与李巍路","灯罩更换",{"$nulls":11},1]
[366,"2021-05-21","昌金路与202乡道","灯维已修复",{"$nulls":10},1]
[367,"2021-05-22","张镇路口","北侧两灯罩已更换",{"$nulls":11},2]
[368,"2021-05-22","七大路与顺平南线","灯箱已矫正",{"$nulls":23},1]
[369,"2021-05-22","山丁路与昌金路","灯罩已更换，",{"$nulls":11},1]
[370,"2021-05-22","昌金路与顺密路路口","红色灯板，灯罩已更换",{"$nulls":5},1,{"$nulls":5},1]
[371,"2021-05-22","牛富路与鑫牛南路","绿色灯板2块已更换",{"$nulls":5},2]
[372,"2021-05-22","牛富路与鑫牛南路","灯眉已修复",{"$nulls":11},1]
[373,"2021-05-22","赵全营镇政府路口","更换红色机动灯板1块，箭头灯1块",{"$nulls":5},1,1]
[374,"2021-05-22","白马路综合路","系统授时",{"$nulls":70},1]
[375,"2021-05-22","白马路恒兴街","系统授时",{"$nulls":70},1]
[376,"2021-05-22","白马路火寺路","系统授时",{"$nulls":70},1]
[377,"2021-05-22","白马路三干渠路","系统授时",{"$nulls":70},1]
[378,"2021-05-22","白马路高下路","系统授时",{"$nulls":70},1]
[379,"2021-05-23","京沈路与后沙峪地铁站门口","禁停牌已修复",{"$nulls":30},1]
[380,"2021-05-24","顺平路与天北路","合闸",{"$nulls":53},1,null,1,1,1,null,1]
[381,"2021-05-24","火神营京沈路","电网在抢修",{"$nulls":53},1,null,1,1,1]
[382,"2021-05-24","平沿路与南环路","更换绿色灯板1块",{"$nulls":5},1]
[383,"2021-05-24","平沿路与顺泰路","合闸",{"$nulls":53},1,null,1,1,1,null,1]
[384,"2021-05-24","铁回路京沈路","临时信号灯放置完成",{"$nulls":53},1,1,1,1,1]
[385,"2021-05-24","顺沙路与高下路","合闸",{"$nulls":53},1,null,1,1,1,null,1]
[386,"2021-05-24","白马路与七大路","先放临时信号灯",{"$nulls":53},1,1,1,1,1]
[387,"2021-05-24","通顺路与平沿路","合闸",{"$nulls":53},1,null,null,1,1,null,1]
[388,"2021-05-24","通顺路与复兴四街","更换电瓶2块",{"$nulls":9},2]
[389,"2021-05-24","木燕路京平高速出口","更换绿色灯板2块",{"$nulls":5},2]
[390,"2021-05-24","京沈路与天玮四街","机箱被撞，置临时信号灯",{"$nulls":53},1,1,1,1,1,{"$nulls":35},1]
[391,"2021-05-25","京沈路与天纬四街","路口标牌已拆除",{"$nulls":33},1]
[392,"2021-05-25","太平辛庄","更换电瓶2块",{"$nulls":9},2]
[393,"2021-05-25","天柱东路与丽苑街","合闸",{"$nulls":53},1,null,1,1,1,null,1]
[394,"2021-05-25","峪安路与安详大街","合闸",{"$nulls":53},1,null,1,1,1,null,1]
[395,"2021-05-25","通顺路窑坡村","合闸",{"$nulls":55},1,1,1,null,1]
[396,"2021-05-25","天北路与安华街","非机动车绿灯已更换",{"$nulls":6},1]
[397,"2021-05-25","通顺路窑坡村口","合闸",{"$nulls":53},1,null,1,1,1,null,1]
[398,"2021-05-25","天北路与顺平路","更换非机动车道灯板1块",{"$nulls":6},1]
[399,"2021-05-25","天北路顺平路口","临时信号机已安置",{"$nulls":53},1,1,1,1,1]
[400,"2021-05-25","白马路七大路","更换信号机机箱和一主机三从机",{"$nulls":20},3,{"$nulls":7},1,1]
[401,"2021-05-25","龙尹路大曹庄村","禁停牌已恢复",{"$nulls":30},1]
[402,"2021-05-26","刘家河","机箱门已关闭，换锁",{"$nulls":21},1,{"$nulls":5},1]
[403,"2021-05-26","龙尹路大曹庄村","禁停牌已恢复",{"$nulls":30},1]
[404,"2021-05-26","龙塘路与龙塘辅路","东西红绿灯不同步  已恢复",{"$nulls":24},1]
[405,"2021-05-26","正大路口","灯已关闭并安装指示牌1块",{"$nulls":34},1,null,1]
[406,"2021-05-26","京沈路","回转灯安装3个",{"$nulls":94},3]
[407,"2021-05-26","七大路与薛各庄","合闸",{"$nulls":53},1,null,1,1,1,null,1]
[408,"2021-05-26","铁东路与南外环","配时调整",{"$nulls":24},1]
[409,"2021-05-26","顺平南线与中干渠路","灯歪扶正",{"$nulls":23},1]
[410,"2021-05-27","顺平路杨镇大集","安放临时信号灯",{"$nulls":53},1,1,1,1,1]
[411,"2021-05-27","中干渠路与木茶路","红绿灯已更换",{"$nulls":5},1]
[412,"2021-05-27","杨镇大集","红绿灯已更换",{"$nulls":5},1]
[413,"2021-05-27","火沙路与罗各庄村口","更换电瓶1块，控制器1个",{"$nulls":9},1,{"$nulls":8},1]
[414,"2021-05-27","顺平路与中干渠路","放临时红绿灯",{"$nulls":53},1,1,1,1,1]
[415,"2021-05-27","木燕路杨镇一中西门","更换绿色灯板1块",{"$nulls":5},1]
[416,"2021-05-27","顺平路与中干渠路","临时信号灯已撤走",{"$nulls":55},1,1,1]
[417,"2021-05-27","燕京街/平沿路与石园东路口","更换电缆100米",{"$nulls":7},100]
[418,"2021-05-27","京平高速与薛家庄互通式立交桥南口","校准时间",{"$nulls":70},1]
[419,"2021-05-27","木北路北务检查站","配时调整",{"$nulls":24},1]
[420,"2021-05-27","环岛东路铁回路","配时调整",{"$nulls":24},1]
[421,"2021-05-28","昌金路与高下路","临时信号灯已摆放",{"$nulls":53},1,1,1,1,1]
[422,"2021-05-28","通顺路与便民街","校准时间",{"$nulls":70},1]
[423,"2021-05-28","通顺路与幸福西街","校准时间",{"$nulls":70},1]
[424,"2021-05-28","天柱路与杨林出口","临时信号灯已摆放",{"$nulls":53},1,1,1,1,1]
[425,"2021-05-28","昌金路与高下路","更换灯板2块",{"$nulls":5},2]
[426,"2021-05-28","顺平路九王庄","更改灯组方向",{"$nulls":23},1]
[427,"2021-05-28","京沈路路前晏子村","合闸",{"$nulls":53},1,null,1,1,1,null,1]
[428,"2021-05-28","顺泰路与平沿路","更换灯板2块",{"$nulls":5},2]
[429,"2021-05-28"," 裕安路与安宁大街","换线80",{"$nulls":8},80]
[430,"2021-05-28","左堤路支县减河北路","更换人行灯板1块",{"$nulls":6},1]
[431,"2021-05-28","顺平路龙尹傅路","更换灯板1块",{"$nulls":5},1]
[432,"2021-05-28","顺平南线与中干渠路口","红绿灯歪斜已恢复",{"$nulls":23},1]
[433,"2021-05-28","中干渠路与木茶路（安辛庄村）路口","灯板已更换",{"$nulls":5},1]
[434,"2021-05-28","木燕路与杨镇一中路口","换线20米",{"$nulls":8},20]
[435,"2021-05-29","天北路新园三街","更换机动绿灯板1块",{"$nulls":5},1]
[436,"2021-05-29","通顺路平沿路","换红灯1个",{"$nulls":5},1]
[437,"2021-05-29","林荫路与杨林出口","临时信号灯已拉走",{"$nulls":55},1,1,1]
[438,"2021-05-29","七大路与薛家庄桥","换振隆信号机",{"$nulls":19},1]
[439,"2021-05-29","顺于路与南焦路红绿","灯已扶正",{"$nulls":23},1]
[440,"2021-05-29","峪庆路与双峪北街","红绿灯已变形，更换灯组",1]
[441,"2021-05-29","顺平路与杜尹路口（杜庄）","换红灯板一块",{"$nulls":5},1]
[442,"2021-05-30","顺平南路与中干渠路","红绿灯歪斜已恢复",{"$nulls":23},1]
[443,"2021-05-30","顺和花园西门","南侧绿灯灯板更换，绿灯灯眉更换，黄灯灯眉修复",{"$nulls":5},1,{"$nulls":5},2]
[444,"2021-05-30","顺沙路与东兴路路口","信号机箱锈蚀已处理",{"$nulls":67},1]
[445,"2021-05-30","东兴路与东安路路口","信号机箱锈蚀已处理",{"$nulls":67},1]
[446,"2021-05-30","顺平路与龙尹路路口","换红灯一个",{"$nulls":5},1]
[447,"2021-05-30","天北路与馨园三街路口","换绿灯一个",{"$nulls":5},1]
[448,"2021-05-30","顺通路与燕京街路口","换红灯1个",{"$nulls":5},1]
[449,"2021-05-30","顺白路泥河路更改配时","配时调整",{"$nulls":24},1]
[450,"2021-05-31","平沿路李堡路","机动车绿灯板已更换",{"$nulls":5},1]
[451,"2021-05-31","林荫路与国家会计学院路口","非机动绿灯正版已更换，灯眉已安装。",{"$nulls":6},1,{"$nulls":4},1]
[452,"2021-05-31","裕庆路与安富街路口","机动车左转绿灯已更换。",{"$nulls":6},1]
[453,"2021-05-31","京密路昌金路","临时停电",{"$nulls":53},1,null,1,1,1]
[454,"2021-05-31","京沈路官志卷村","摆放临时信号灯",{"$nulls":53},1,1,1,1,1]
[455,"2021-05-31","木燕路与东町路信号","灯组已更换",1]
[456,"2021-05-31","李堡路首钢路口","更换绿色灯板1块",{"$nulls":5},1]
[457,"2021-05-31","平沿路与李堡路","更换黄色灯板2块",{"$nulls":6},2]
[458,"2021-05-31","京沈路与昌金路","合闸",{"$nulls":53},1,null,1,1,1,null,1]
[459,"2021-05-31","京沈路官志卷村","信号箱被撞，摆放临时信号灯",{"$nulls":53},1,1,1,1,1,{"$nulls":35},1]
[460,"2021-05-31","平沿路与仁和园二街","更换非机动车道灯板1块",{"$nulls":6},1]
[461,"2021-05-31","顺白路泥河更改配时","配时调整",{"$nulls":24},1]
[462,"2021-05-24","京沈路与天纬四街","机箱被撞",{"$nulls":93},1]
[463,"2021-05-26","北石槽西下路与北武路","灯杆被撞",{"$nulls":37},1]
[{"$nulls":57},1,null,1,1,1,null,1]
["合计",null,null,null,{"$f":"SUM(E4:E467)","v":7},0,3,0,0,84,30,{"$f":"SUM(L4:L467)","v":604},3147,9,5,21,0,0,0,0,0,3,2,2,5,3,0,14,19,1,0,{"$f":"SUM(AF4:AF467)","v":8},2,2,11,10,1,10,1,0,2,1,1,0,0,1,0,0,0,0,0,0,5,0,0,0,0,38,18,41,43,43,0,17,0,5,0,1,0,0,2,980,2,1,{"$f":"SUM(BW4:BW467)","v":9},0,0,0,0,0,0,0,0,0,0,0,0,0,0,0,0,0,0,0,1,9,9,3,3,0,0,504]

{"sheet":"6月","index":5,"n_rows":157,"n_cols":102,"rows_kept":157,"cut":false,"hidden":false,"merged":[[0,0,0,63],[156,0,156,3]]}
["交通设施日常维护-设备设施维修纪录明细"]
[{"$nulls":4},1,2,3,4,5,6,7,8,9,10,11,12,13,14,15,16,17,18,19,20,21,22,23,24,25,26,27,28,29,30,31,32,33,34,35,36,37,38,39,40,41,42,43,44,45,46,47,48,49,50,51,52,53,54,55,56,57,58,59,60,61,62,63,64,65,66,67,68,69,70,71,72,73,74,75,76,77,78,79,80,81,82,83,84,85,86,87,88,89,90,91,92,93,94,95,96,97,98]
["序号","日期","维修位置","维修内容","更换信号灯（组）","信号灯型号（备注）","更换步道灯（组）","更换信号灯杆（根）","更换步道灯杆（根）","更换灯板400*400（块）","更换灯板300（块）","更换电源线3*4（m)","更换控制线缆5*1.5（m)","更换蓄电池（块）","更换灯沿（个）","更换灯罩（个）","更换保险（个）","更换变压器（24v15w）（个）","更换变压器（24v11w）（个）","更换变压器（15v15w）（个）","更换太阳能模块（个）","更换天线（根）","更换过充过放（个）","更换信号机（台）","更换太阳能信号灯分机（台）","更换锁具（套）","安装手孔盖（个）","调整行车灯（套）","基本路口信号优化（处）","信号实时优化（处）","主干道绿波优化（处）","关闭信号机机箱门（个）","更换太阳能信号机主机（台）","更换信号机机箱（套）","调整标志牌（套）","拆除灯具（组）","更换太阳能晒板（块）","拆除标志牌（套）","关闭灯头（个）","更换漏电（个）","安装标志牌（套）","确认灯杆被撞（次）","安（拆）倒计时（块）","安装电表箱（个）","拆除探头线（处）","调整步道灯（处）","修剪树枝（处）","擦拭灯具（组）","更换太阳能信号机主板（块）","安装灯条（组）","安装太阳能晒板（块）","安装护栏（组）","调整灯线电源线（次）","更换井盖（个）","更换相位板（块）","更换被撞灯杆（根）","放发电机应急保障(ex2500cx)（台）","发电机台班","放置临时信号灯应急保障（台）","临时信号灯台班","临时停电应急保障（次）","临时停电台班","维修太阳能信号接收器（套）","合闸","恢复信号灯检查井（次）","拆除灯杆（根）","基础施工（次）","加固机箱（台）","修复灯部件（个）","机箱部件更换修复（个）","清除小广告（个）","喷涂（次）","安装更换检查孔（个）","井盖调整修复（次）","系统校时(次）","两米接地签字（根）","扁铁（一根4米）","螺丝（套）","关闭电表箱窗户（次）","维修手孔井（套）","更换220转24电源（块）","灯杆漆面反光膜翻新（根）","安装黄闪灯（套）","更换黄闪灯（套）","热熔标线画线（次）","更换转换器（24v）（个）","抱箍（套）","调整太阳能板（次）","关闭喇叭（次）","更换空开（个）","更换线缆（2*6）m","更换太阳能接触器（个）","更换临时信号机（台）","小电瓶（个）","调整灯杆（根）","拆除黄闪（个）","拆除黄闪灯杆（根）","机箱被撞（次）","其他","拆除线缆（米）","热熔标线（实线）平米","电缆直埋保护管PE管（米）"]
[1,"2021-06-01","杨镇一中","机箱门已关闭",{"$nulls":27},1]
[2,"2021-06-01","顺和花园西门","绿灯灯板已更换，绿灯灯眉已更换，黄灯灯眉修复",{"$nulls":5},1,1,{"$nulls":57},2]
[3,"2021-06-01","京沈路官志卷路口","信号机被撞，已摆放临时信号灯",{"$nulls":53},1,1,1,1,1]
[4,"2021-06-01","天北路欧尚广场路口","调整配时",{"$nulls":24},1]
[5,"2021-06-01","木燕路与于地路","调整配时",{"$nulls":24},1]
[6,"2021-06-01","木北路北务检查站路口","调整配时",{"$nulls":24},1]
[7,"2021-06-01","顺平南线与顺泰路","调整配时",{"$nulls":24},1]
[8,"2021-06-02","龙塘路李桥政府路口","接线136米",{"$nulls":8},136]
[9,"2021-06-02","顺平南线左堤路","机箱门已关闭",{"$nulls":27},1]
[10,"2021-06-02","京沈路国展地铁站路口","制作人行灯基础，更换灯杆和两色人行信号灯",null,null,1,null,1]
[11,"2021-06-02","京沈路国展地铁站路口","安装行车指示牌",{"$nulls":36},2]
[12,"2021-06-02","天北路与新国展南门路口（馨园一街）","配时调整",{"$nulls":24},1]
[13,"2021-06-02","木燕路与杨镇一中路口","机箱门关闭",{"$nulls":27},1]
[14,"2021-06-02","顺平路与金航西路","换电瓶4块",{"$nulls":9},4]
[15,"2021-06-02","顺平南线与顺泰路","配时调整 ",{"$nulls":24},1]
[16,"2021-06-02","东大桥环岛","系统时间校正",{"$nulls":24},1]
[17,"2021-06-02","通顺路便民街","系统校时",{"$nulls":24},1]
[18,"2021-06-02","通顺路幸福街","系统校时",{"$nulls":24},1]
[19,"2021-06-03","温莎幼双语儿园丽京花园校区","箱门关闭",{"$nulls":27},1]
[20,"2021-06-03","昌金路与天北路","灯板更换",{"$nulls":5},1]
[21,"2021-06-03","顺沙路右堤路","配时调整 ",{"$nulls":24},1]
[22,"2021-06-04","昌金路与白良路","信号灯校正，灯眉修复",{"$nulls":64},1,{"$nulls":5},1]
[23,"2021-06-04","昌金路与白良路","机箱门修复",{"$nulls":65},2]
[24,"2021-06-04","机场东路与苏活","临时信号机放置",{"$nulls":53},1,1,1,1,1]
[25,"2021-06-05","白马路与赵湘路路口","更换新灯两组",2]
[26,"2021-06-05","木燕路与杨镇一中","绿灯更换",{"$nulls":5},1,1]
[27,"2021-06-07","顺密路与中干渠路路口","东侧绿灯缺灯珠，绿灯灯板更换",{"$nulls":5},1]
[28,"2021-06-08","顺义二中","换一块小12V电瓶",{"$nulls":9},1]
[29,"2021-06-08","裕安路与安平北街","信号机故障，已更换信号机，路口恢复正常",{"$nulls":19},1]
[30,"2021-06-08","安平北街与十中路","灯线故障，重新接线头",{"$nulls":7},1,{"$nulls":89},1]
[31,"2021-06-09","机场北街与顺畅大道","放临时信号机",{"$nulls":53},1,1,1,1,1]
[32,"2021-06-09","顺泰路与平沿路","换漏电保护器一个",{"$nulls":35},1]
[33,"2021-06-09","顺泰路与平沿路","放临时红绿灯，在排查线路，临时放置",{"$nulls":53},1,1,1,1,1]
[34,"2021-06-10","机场北街与顺畅大道","更换维特瑞太阳能信号机",{"$nulls":28},1]
[35,"2021-06-10","顺平路与李木路","机箱被撞，信号机点不亮，更换信号机，机箱",{"$nulls":19},1,{"$nulls":72}," ",1]
[36,"2021-06-10","石景街与外环路交叉口","更换400绿灯板一个",{"$nulls":5},1]
[37,"2021-06-10","顺义一中","水泥沙子重新建造井圈，更换井盖",{"$nulls":49},1,{"$nulls":19},1,{"$nulls":5},1]
[38,"2021-06-10","天柱路与天纬二街","信号机跳闸",{"$nulls":53},1,null,1,1,1,null,1,{"$nulls":5},1]
[39,"2021-06-10","顺康路","更换新禁停牌",{"$nulls":33},2,null,null,2]
[40,"2021-06-11","右堤路与顺平南线","机箱门已关闭",{"$nulls":27},1]
[41,"2021-06-11","龙塘路与李巍路","临时停电，放发电机",{"$nulls":52},1,1,null,1,1,1]
[42,"2021-06-11","龙塘路李魏路","发电机已到位信号灯已恢复",{"$nulls":52},1,1,null,1,1,1]
[43,"2021-06-12","裕安路与安富街","换线30米",{"$nulls":7},30,{"$nulls":89},30]
[44,"2021-06-12","林河南大街与仁和园二街","标志牌已拆除",{"$nulls":33},1]
[45,"2021-06-12","水上公园南门","放置临时信号灯",{"$nulls":53},1,1,1,1,1]
[46,"2021-06-12","昌金路牛山酒厂","换灯眉"]
[47,"2021-06-13","峪安路与安富路","换线5x1.5线180米，临时灯已撤回",{"$nulls":8},180]
[48,"2021-06-13","乾安路与顺祥街","更换2组人行灯",null,null,2]
[49,"2021-06-14","李木路与顺平路","跳闸",{"$nulls":53},1,null,1,1,1,null,1,{"$nulls":5},1]
[50,"2021-06-14","京沈路与昌金路","跳闸",{"$nulls":53},1,null,1,1,1,null,1,{"$nulls":5},1]
[51,"2021-06-14","京沈天纬二街","监控短路",{"$nulls":56},1,1,null,1]
[52,"2021-06-14","新顺南大街","更换保险",{"$nulls":12},1]
[53,"2021-06-10","大东路","系统授时"]
[54,"2021-06-11","衙门村","配时调整",{"$nulls":24},1]
[55,"2021-06-11","相各庄","配时调整",{"$nulls":24},1]
[56,"2021-06-12","龙塘路与沙浮路","配时调整",{"$nulls":24},1]
[57,"2021-06-12","顺沙路裕安路","配时调整",{"$nulls":24},1]
[58,"2021-06-15","通顺路与顺祥街","更换太阳能信号机一主机 三从机",{"$nulls":20},3,{"$nulls":7},1]
[59,"2021-06-15","昌金路与陈马路","更换保险",{"$nulls":12},1]
[60,"2021-06-16","木北路昌金路","系统时间校正",{"$nulls":24},1]
[61,"2021-06-16","北小营上宏东路","监控引起跳闸",{"$nulls":53},1,null,1,1,1,null,1,{"$nulls":5},1]
[62,"2021-06-16","机场东路与龙塘路","机场东路与龙塘路信号机门已关闭",{"$nulls":27},1]
[63,"2021-06-16","顺平南线鹭峰国际","顺平南线鹭峰国际禁停牌已修复",{"$nulls":33},2,null,null,2]
[64,"2021-06-16","顺康路杭州银行","顺康路杭州银行禁停牌已更换",{"$nulls":33},2,null,null,2]
[65,"2021-06-16","昌金路与北韩路","昌金路与北韩路电闸烧断了，已放置临时信号机",{"$nulls":53},1,1,1,1,1]
[66,"2021-06-16","大东路与东安路","跳闸",{"$nulls":53},1,null,1,1,1,null,1,{"$nulls":5},1]
[67,"2021-06-16","仁和工业园","跳闸",{"$nulls":53},1,null,1,1,1,null,1,{"$nulls":5},1]
[68,"2021-06-17","顺平路与火沙路","井盖更换",{"$nulls":49},1,{"$nulls":19},1,{"$nulls":5},1]
[69,"2021-06-17","天柱路与天纬二街","更换线232米",{"$nulls":8},232]
[70,"2021-06-17","昌金路与北韩路","放置临时信号机",{"$nulls":53},1,1,1,1,1]
[71,"2021-06-17","减河北路与左堤路辅线人行灯","灯杆被撞"]
[72,"2021-06-18","顺和路与鑫顺街","换保险",{"$nulls":12},1]
[73,"2021-06-18","天北路与顺沙路","摆放临时信号机",{"$nulls":53},1,1,1,1,1]
[74,"2021-06-18","火寺路与北木路","路灯灯杆被撞倒，砸到信号灯主电线，导致电线起火烧损断电",{"$nulls":7},1,{"$nulls":89},1]
[75,"2021-06-18","天柱路与天纬二街","换线70m",{"$nulls":7},70,{"$nulls":89},70]
[76,"2021-06-19","昌金路与右堤路","禁鸣标志安装",{"$nulls":36},5]
[77,"2021-06-19","通顺路与昌金路","禁鸣标志已安装",{"$nulls":36},5]
[78,"2021-06-19","顺兴路与中海国际城","禁鸣标志安装",{"$nulls":36},3]
[79,"2021-06-19","北木路西侧路与火寺路","换90米线",{"$nulls":7},90,{"$nulls":89},90]
[80,"2021-06-19","天北路与顺沙路","跳闸",{"$nulls":53},1,null,1,1,1,null,1,{"$nulls":5},1]
[81,"2021-06-20","裕安路与安泰大街 ","违停摄像头电线漏电",{"$nulls":35},1]
[82,"2021-06-20","金汉绿港与中山东街","井盖更换",{"$nulls":49},1,{"$nulls":19},1,{"$nulls":5},1]
[83,"2021-06-21","右堤路与任港路","更换绿灯板三块，信号机箱锈蚀喷漆处理",{"$nulls":5},2,1,{"$nulls":87},1]
[84,"2021-06-19","順于路与京沈路","调整配时",{"$nulls":24},1]
[85,"2021-06-22","顺平路与火寺路","井盖更换",{"$nulls":49},1,{"$nulls":19},1,{"$nulls":5},1]
[86,"2021-06-22","安宁大街与裕东路","调整配时",{"$nulls":24},1]
[87,"2021-06-23","昌金路与南陈路","红绿灯更换整2组",2]
[88,"2021-06-23","安富街与裕华路","换新灯组3套",3]
[89,"2021-06-23","特殊教育学校","更换信号灯轮",{"$nulls":94},1]
[90,"2021-06-24","通顺路与燕京街路口","树枝遮挡",{"$nulls":42},1]
[91,"2021-06-24","木燕路与城市学院路口","红绿灯歪斜",{"$nulls":70},1]
[92,"2021-06-24","天北路与京沈路","调整配时"]
[93,"2021-06-24","二三产业园","跳闸",{"$nulls":53},1,null,1,1,1,null,1,{"$nulls":5},1]
[94,"2021-06-25","赵陈路与后鲁各庄村北口","红绿灯歪斜",{"$nulls":70},1]
[95,"2021-06-25","和新街与上宏东路","和新街与上宏东路红绿灯数秒器歪斜已修复"]
[96,"2021-06-25","现代制铁","现代制铁右转牌已提高",{"$nulls":30},1]
[97,"2021-06-25","二三产业区","换线150米",{"$nulls":7},150,{"$nulls":89},150]
[98,"2021-06-25","平沿路与特殊教育学校门口","特殊教育学校更换24V电瓶一块",{"$nulls":9},1]
[99,"2021-06-25","顺和路与平沿路交叉口南侧第一个路口","更换保险一个",{"$nulls":12},1]
[100,"2021-06-25","赵陈路后鲁北口路口","红绿灯歪斜已修复",{"$nulls":70},1]
[101,"2021-06-25","顺和路与林河南大街","信号机箱跳闸",{"$nulls":53},1,null,1,1,1,null,1,{"$nulls":5},1]
[102,"2021-06-25","上宏东路与和新街","红绿灯读秒器歪斜",{"$nulls":94},1]
[103,"2021-06-25","平沿路与仁和园二街（韩一）","换线150米",{"$nulls":7},150,{"$nulls":89},150]
[104,"2021-06-25","天北路与顺沙路","上口电源跳闸",{"$nulls":53},1,null,1,1,1,null,1,{"$nulls":5},1]
[105,"2021-06-25","龙塘路与平沿路路口","跳闸",{"$nulls":53},1,null,1,1,1,null,1,{"$nulls":5},1]
[106,"2021-06-25","顺和路与和悦居路口","更换保险一个",{"$nulls":12},1]
[107,"2021-06-26","天北路与怀昌路","红绿灯被刮歪",{"$nulls":70},1]
[108,"2021-06-26","昌金路与天北路","黄闪灯被刮歪",{"$nulls":70},1]
[109,"2021-06-26","国际学校","国际学校临时灯拆除完毕",{"$nulls":94},1]
[110,"2021-06-26","龙塘路与木燕辅路","因连电导致断电",{"$nulls":53},1,null,1,1,1,null,1]
[111,"2021-06-26","林河南大街与通顺路","林河南大街与通顺路红绿灯正常"]
[112,"2021-06-26","外环路与平沿路","外环路与平沿路红绿灯正常"]
[113,"2021-06-26","顺平南线与顺康路","上端电源变压器跳闸",{"$nulls":53},1,null,1,1,1,null,1,{"$nulls":5},1]
[114,"2021-06-26","通顺路与顺平南线","通顺路 顺平南线已摆放临时灯",{"$nulls":53},1,1,1,1,1]
[115,"2021-06-26","天北路花园西街信号灯故障，断电合闸已恢复","合闸",{"$nulls":53},1,null,1,1,1,null,1,{"$nulls":5},1]
[116,"2021-06-26","顺平南线通顺路更换信号机一台，已恢复正常","更换信号机一台",{"$nulls":19},1]
[117,"2021-06-26","天竺丽晶花园以修复换了个漏电保护器","更换漏电保护器",{"$nulls":35},1]
[118,"2021-06-26","天北路与国际航空公司","断电合闸",{"$nulls":53},1,null,1,1,1,null,1,{"$nulls":5},1]
[119,"2021-06-27","顺平路与木燕路","更换信号机一个",{"$nulls":19},1]
[120,"2021-06-27","顺密路与北韩路","换信号机保险一个",{"$nulls":12},1]
[121,"2021-06-27","通顺路与北城根街","更换",{"$nulls":5},1,1]
[122,"2021-06-27","林荫路与杨林大道路口","更换换漏电保护器",{"$nulls":35},1]
[123,"2021-06-27","龙塘路李桥政府路口","线路短路",{"$nulls":56},1,1,null,1]
[124,"2021-06-27","顺平路与木燕路口","更换信号机一台"]
[125,"2021-06-27","顺密路与北韩路","更换保险",{"$nulls":12},1]
[126,"2021-06-27","通顺路与八中路口","更换",{"$nulls":5},1,1]
[127,"2021-06-28","通顺路与北城根街","更换",{"$nulls":5},1,1]
[128,"2021-06-28","龙塘路李桥派出所门口","换线50米，",{"$nulls":7},50,{"$nulls":89},50]
[129,"2021-06-28","顺密路与北韩路","顺密路与北韩路红绿灯已恢复正常"]
[130,"2021-06-28","天柱东路与翠华街","天柱东路与翠华街临时信号机正常",{"$nulls":55},1,1,1]
[131,"2021-06-28","天北路与裕丰路","换线20米",{"$nulls":7},20,{"$nulls":89},20]
[132,"2021-06-28","北小营中学路口红绿灯已恢复正常","北小营中学路口红绿灯已恢复正常"]
[133,"2021-06-28","北韩路与顺密路","换线30米",{"$nulls":7},30,{"$nulls":89},30]
[134,"2021-06-28","龙塘路李桥政府路口","换线50米",{"$nulls":7},50,{"$nulls":89},50]
[135,"2021-06-28","顺密路与北韩路","换线280米5×1.5平方。",{"$nulls":8},280]
[136,"2021-06-28","天北路与馨园二街路口","换线20米",{"$nulls":7},20,{"$nulls":89},20]
[137,"2021-06-28","昌金路与南陈路路口","东向西机动车灯眉脱落",{"$nulls":64},1]
[138,"2021-06-28","昌金路与天北路路口","西向东机动车线灯裸露",{"$nulls":94},1]
[139,"2021-06-29","顺密路与北韩路","更换非机动车绿灯板300一块",{"$nulls":6},1]
[140,"2021-06-29","昌金路与牛栏山酒厂","换黄灯板一块  400的",{"$nulls":5},1]
[141,"2021-06-29","南陈路与顺沙路","南陈路与顺沙路 机箱门已关闭",{"$nulls":27},1]
[142,"2021-06-29","昌金路与天北路","天北路昌金路读秒器已拆除",{"$nulls":38},1]
[143,"2021-06-29","便民街两个路口","便民街两个红绿灯gps已安装",{"$nulls":94},1]
[144,"2021-06-29","金地悦景台西门","禁止鸣笛标牌安装",{"$nulls":36},2]
[145,"2021-06-29","天柱东路国家会计学院门口儿","调配时"]
[146,"2021-06-29","裕华路与安宁大街","调配时"]
[147,"2021-06-30","通顺路与南外环路","更换机动车绿灯板一块，更换非机动车绿灯板一块",{"$nulls":5},2]
[148,"2021-06-30","顺平路与顺航路","更换黄灯保险",{"$nulls":12},1]
[149,"2021-06-30","顺平路与顺康路","换两组人行灯",null,null,2]
[150,"2021-06-30","顺平路与顺航路机场北线入口","更换非机动车灯组一组",1]
[151,"2021-06-30","顺平路与顺航路机场北线入口","更换机动车绿灯板一个",{"$nulls":5},1]
[152,"2021-06-30","府前街与右堤路","调整配时",{"$nulls":24},1,{"$nulls":26},1]
[153]
["合计",null,null,null,{"$f":"SUM(E4:E156)","v":8},0,5,0,1,14,7,662,828,6,0,0,8,0,0,0,{"$f":"SUM(U4:U156)","v":0},0,0,4,3,0,0,0,18,0,0,7,2,0,1,0,0,7,0,{"$f":"SUM(AN4:AN156)","v":4},23,0,1,0,0,0,1,0,0,0,0,0,0,4,0,1,2,26,9,27,29,29,0,17,{"$f":"SUM(BM4:BM156)","v":0},0,0,0,4,16,0,0,0,4,6,{"$f":"SUM(BX4:BX156)","v":0},0,0,0,4,0,0,0,0,0,0,0,0,0,0,0,0,0,0,0,0,0,1,6,0,0,662]

{"sheet":"7月","index":6,"n_rows":292,"n_cols":102,"rows_kept":292,"cut":false,"hidden":false,"merged":[[0,0,0,63],[291,0,291,3]]}
["交通设施日常维护-设备设施维修纪录明细"]
[{"$nulls":4},1,2,3,4,5,6,7,8,9,10,11,12,13,14,15,16,17,18,19,20,21,22,23,24,25,26,27,28,29,30,31,32,33,34,35,36,37,38,39,40,41,42,43,44,45,46,47,48,49,50,51,52,53,54,55,56,57,58,59,60,61,62,63,64,65,66,67,68,69,70,71,72,73,74,75,76,77,78,79,80,81,82,83,84,85,86,87,88,89,90,91,92,93,94,95,96,97,98]
["序号","日期","维修位置","维修内容","更换信号灯（组）","信号灯型号（备注）","更换步道灯（组）","更换信号灯杆（根）","更换步道灯杆（根）","更换灯板400*400（块）","更换灯板（300块）","更换电源线3*4（m)","更换控制线缆5*1.5（m)","更换蓄电池（块）","更换灯沿（个）","更换灯罩（个）","更换保险（个/组）","更换变压器（24v15w）（个）","更换变压器（24v11w）（个）","更换变压器（15v15w）（个）","更换太阳能模块（个）","更换天线（根）","更换过充过放（个）","更换信号机（台）","更换太阳能信号灯分机（台）","更换锁具（套）","安装手孔盖（个）","调整行车灯（套）","基本路口信号优化（处）","信号实时优化（处）","主干道绿波优化（处）","关闭信号机机箱门（个）","更换太阳能信号机主机（台）","更换信号机机箱（套）","调整标志牌（套）","拆除灯具（组）","更换太阳能晒板（块）","拆除标志牌（套）","关闭灯头（个）","更换漏电（个）","安装标志牌（套）","确认灯杆被撞（次）","安（拆）倒计时（块）","安装电表箱（个）","拆除探头线（处）","调整步道灯（处）","修剪树枝（处）","擦拭灯具（组）","更换太阳能信号机主板（块）","安装灯条（组）","安装太阳能晒板（块）","安装护栏（组）","调整灯线电源线接地线（次）","更换井盖（个）","更换相位板（块）","更换被撞灯杆（根）","放发电机应急保障(ex2500cx)（台）","发电机台班","放置临时信号灯应急保障（台）","临时信号灯台班","临时停电应急保障（次）","临时停电台班","维修太阳能信号接收器（套）","合闸","恢复信号灯检查井（次）","拆除灯杆（根）","基础施工（次）","加固机箱（台）","修复灯部件（个）","机箱部件更换修复（个）","清除小广告（个）","喷涂（次）","安装更换检查孔（个）","井盖调整修复（次）","系统校时(次）","两米接地签字（根）","扁铁（一根4米）","螺丝（套）","关闭电表箱窗户（次）","维修手孔井（套）","更换220转24电源（块）","灯杆漆面反光膜翻新（根）","安装黄闪灯（套）","更换黄闪灯（套）","热熔标线画线（次）","更换转换器（24v）（个）","抱箍（套）","调整太阳能板（次）","关闭喇叭（次）","更换空开（个）","更换线缆（2*6）m","更换太阳能接触器（个）","更换临时信号机（台）","更换小电瓶（个）","调整灯杆（根）","拆除黄闪（个）","拆除黄闪灯杆（根）","机箱被撞（次）","其他","拆除线缆（米）","热熔标线（实线）平米","电缆直埋保护管PE管（米）"]
[1,"2021-07-01","顺平南辅线与黄冈二路","跳闸",{"$nulls":53},1,null,1,1,1,null,1]
[2,"2021-07-01","京沈路与天纬四街","更换保险",{"$nulls":12},1]
[3,"2021-07-01","京沈线国展地铁站","更换保险",{"$nulls":12},1]
[4,"2021-07-01","顺平路与顺航路","更换400绿灯灯板",{"$nulls":5},1]
[5,"2021-07-01","机场东路与四纬路","清除小广告",{"$nulls":66},1]
[6,"2021-07-01","顺平路与火寺路","更换400绿灯板",{"$nulls":5},1]
[7,"2021-07-01","京沈路火沙辅线","更换红绿灯板各一块",{"$nulls":5},2]
[8,"2021-07-01","顺通路与李堡路","换绿灯板400一块 变压器24v一个",{"$nulls":5},1,{"$nulls":9},1]
[9,"2021-07-01","白马路与综合路（良正卷村）","信号线整理",{"$nulls":48},1]
[10,"2021-07-01","天北路与怀昌路","合闸",{"$nulls":53},1,null,1,1,1,null,1]
[11,"2021-07-01","顺平南线与顺泰路","信号机重启",{"$nulls":59},1]
[12,"2021-07-02","京沈路与天纬二街","跳闸",{"$nulls":53},1,null,1,1,1,null,1]
[13,"2021-07-02","裕安路与安庆大街","跳闸",{"$nulls":53},1,null,1,1,1,null,1]
[14,"2021-07-02","顺平路与机场北线","换5芯线200米",{"$nulls":8},200]
[15,"2021-07-02","昌金路与龙凤路","合闸",{"$nulls":53},1,null,1,1,1,null,1]
[16,"2021-07-02","站前北街与顺兴街","换大功率模块",{"$nulls":16},1]
[17,"2021-07-02","天北路与兆丰一街","调整配时东西20南北120",{"$nulls":24},1]
[18,"2021-07-02"," 李木路与赵陈路","跳闸",{"$nulls":53},1,null,1,1,1,null,1]
[19,"2021-07-02","怀昌路下西市路","跳闸",{"$nulls":53},1,null,1,1,1,null,1]
[20,"2021-07-02","顺白路与良白路","更换220转24v变压器一个",{"$nulls":15},1]
[21,"2021-07-02","顺平路与木燕路","东向西更换绿灯板一个，南向北更换绿灯板一个",{"$nulls":5},2]
[22,"2021-07-02","顺平南线与顺康路/顺和路","换一个空开",{"$nulls":85},1]
[23,"2021-07-02","天北路与怀昌路","线路改造",{"$nulls":48},1]
[24,"2021-07-02","顺仁路与林河南大街","跳闸，更换保险",{"$nulls":12},1,{"$nulls":40},1,null,1,1,1,null,1]
[25,"2021-07-02","龙塘路与苏庄闸桥","跳闸",{"$nulls":53},1,null,1,1,1,null,1]
[26,"2021-07-03","顺密路与平安路","更换400机动车黄灯灯板一块",{"$nulls":5},1]
[27,"2021-07-03","顺平路与木北路","红绿灯倾斜修复",{"$nulls":23},1]
[28,"2021-07-03","京沈路与天纬二街","合闸",{"$nulls":53},1,null,1,1,1,null,1]
[29,"2021-07-03","乾安路与顺祥街","更换灯板",{"$nulls":5},1,1]
[30,"2021-07-03","昌金路与北府村","换绿灯板一块400",{"$nulls":5},1]
[31,"2021-07-03","昌金路与李木路","已更换400绿灯板一块",{"$nulls":5},1]
[32,"2021-07-03","乾安路与顺祥街","换灯板400一块  变压器24v一个",{"$nulls":5},1,{"$nulls":9},1]
[33,"2021-07-03","龙塘路与通顺路","基础施工",{"$nulls":62},1]
[34,"2021-07-03","顺沙路与火寺路","手动正常 ",{"$nulls":94},1]
[35,"2021-07-03","陈马路与顺密路","换黄灯板一块300",{"$nulls":6},1]
[36,"2021-07-03","乾安路与顺祥街","调整配时修改接线 ",{"$nulls":25},1,{"$nulls":22},1]
[37,"2021-07-03","李天路与楼台村西口","监控设备短路导致跳闸",{"$nulls":59},1]
[38,"2021-07-03","龙塘路李桥镇政府","换线5×1.5的65米",{"$nulls":8},65]
[39,"2021-07-03","顺平路与木燕路","东向西更换绿灯板一个，南向北更换绿灯板一个",{"$nulls":5},2]
[40,"2021-07-04","白马路现代三厂路口","跳闸",{"$nulls":53},1,null,1,1,1,null,1]
[41,"2021-07-04","赵陈路与李木路","跳闸",{"$nulls":53},1,null,1,1,1,null,1]
[42,"2021-07-04","李木路与大荣路","换灯眉一块",{"$nulls":10},1]
[43,"2021-07-04","京沈路与天北路","更换5A保险一个",{"$nulls":12},1]
[44,"2021-07-04","和新街与上宏西路","灯歪斜修复",{"$nulls":23},1]
[45,"2021-07-04","顺平路与李木路","换灯板一块400，灯眉修复",{"$nulls":5},1,{"$nulls":58},1]
[46,"2021-07-04","木燕路与与顺平路","换法码整组400新灯",3]
[47,"2021-07-04","顺平南线与中干渠路","非机动车灯歪斜修复",{"$nulls":23},1]
[48,"2021-07-04","天北路与顺于路","变压器改造，放置发电机",{"$nulls":52},1,1,null,1,1,1]
[49,"2021-07-04","富密路与北木路","跳闸",{"$nulls":53},1,null,1,1,1,null,1]
[50,"2021-07-04","通顺路与龙塘路","机箱基础施工",{"$nulls":62},1,{"$nulls":30},1]
[51,"2021-07-04","乾安路与顺祥街","换灯眉一块",{"$nulls":10},1]
[52,"2021-07-04","富密路与北木路","跳闸",{"$nulls":53},1,null,1,1,1,null,1]
[53,"2021-07-04","李木路与西府村","换灯眉一块",{"$nulls":10},1]
[54,"2021-07-05","天纬二街与天柱东路","上口电源跳闸",{"$nulls":59},1]
[55,"2021-07-05","天北路与昌金路","拆除读秒器",{"$nulls":38},1]
[56,"2021-07-05","顺平路与顺泰路","摆放临时信号灯\n后换线36米5*1.5²",{"$nulls":8},36,{"$nulls":44},1,1,1,1,1]
[57,"2021-07-05","顺平路与顺康路","跳闸",{"$nulls":53},1,null,1,1,1,null,1]
[58,"2021-07-05","天柱东路与林荫路","跳闸",{"$nulls":53},1,null,1,1,1,null,1]
[59,"2021-07-05","昌金路与京沈路","信号机跳闸",{"$nulls":53},1,null,1,1,1,null,1]
[60,"2021-07-05","顺平路与顺康路","跳闸",{"$nulls":53},1,null,1,1,1,null,1]
[61,"2021-07-05","石园南大街与顺康路","接线，埋线",{"$nulls":48},1]
[62,"2021-07-05","东安路与东兴路","跳闸",{"$nulls":53},1,null,1,1,1,null,1]
[63,"2021-07-05","赵陈路与李木路","跳闸",{"$nulls":53},1,null,1,1,1,null,1]
[64,"2021-07-05","府前东街与大东路","换400非机动车绿灯板一块",{"$nulls":5},1]
[65,"2021-07-05","顺沙路与火寺路","合闸",{"$nulls":53},1,null,1,1,1,null,1]
[66,"2021-07-06","北京鼎鑫盛宏汽车服务有限公司门前西","调整标志牌",{"$nulls":30},1]
[67,"2021-07-06","顺仁路与林河南大街","信号机箱跳闸",{"$nulls":53},1,null,1,1,1,null,1]
[68,"2021-07-06","李桥镇1号路北侧，三四营桥东","调整标志牌",{"$nulls":30},1]
[69,"2021-07-06","机场东路与军营街","线路跳闸",{"$nulls":55},1,1,1,null,1]
[70,"2021-07-06","天北路与怀昌路","跳闸",{"$nulls":53},1,null,1,1,1,null,1]
[71,"2021-07-06","平沿路与顺福路","跳闸",{"$nulls":53},1,null,1,1,1,null,1]
[72,"2021-07-06","机场东路三四营路口","调整配时",{"$nulls":24},1]
[73,"2021-07-06","白马路与李魏路","线路排查",{"$nulls":48},1]
[74,"2021-07-06","平沿路与外环路","调整配时",{"$nulls":24},1]
[75,"2021-07-06","府前街与右堤路","更换井盖",{"$nulls":49},1,{"$nulls":19},1,{"$nulls":5},1]
[76,"2021-07-06","火寺路辅路与顺沙路辅路","灯歪扶正",{"$nulls":23},1]
[77,"2021-07-06","牛山分校，镇政府","更换灯板",{"$nulls":5},1,1,{"$nulls":8},1]
[78,"2021-07-06","顺平路滨河南口","调整配时",{"$nulls":24},1]
[79,"2021-07-06","昌金路与右堤路","跳闸",{"$nulls":53},1,null,1,1,1,null,1]
[80,"2021-07-06","通顺路与顺沙路","换线130米",{"$nulls":8},130]
[81,"2021-07-06","大东路与东安路","机箱喷漆",{"$nulls":67},1]
[82,"2021-07-06","张喜庄桥","基础施工",{"$nulls":62},1]
[83,"2021-07-07","赵陈路与李木路"," 跳闸",{"$nulls":53},1,null,1,1,1,null,1]
[84,"2021-07-07","牛山一中总校","换保险一个",{"$nulls":12},1]
[85,"2021-07-07","白马路文化营路口","调整配时",{"$nulls":24},1]
[87,"2021-07-07","龙塘路与沙浮村口","灯头扶正",{"$nulls":23},1]
[88,"2021-07-08","昌金路与顺密路","灯倾斜扶正",{"$nulls":23},1]
[89,"2021-07-08","昌金路与顺密路","线路整理",{"$nulls":48},1]
[90,"2021-07-08","白马路与陈马路","更换一块绿非机动车灯板",{"$nulls":5},1]
[91,"2021-07-08","南陈路10+600","井盖修复",{"$nulls":49},1,{"$nulls":19},1,{"$nulls":5},1]
[92,"2021-07-08","顺平路与南焦路","换12V变压器一个",{"$nulls":15},1]
[93,"2021-07-08","昌金路与右堤路","换空开一个",{"$nulls":85},1]
[94,"2021-07-08","安庆北街与十中路","跳闸",{"$nulls":53},1,null,1,1,1,null,1]
[95,"2021-07-08","顺白路与顺于路","换灯眉一块",{"$nulls":10},1]
[96,"2021-07-08","妇幼医院南门","调整标志牌",{"$nulls":30},1]
[97,"2021-07-09","白马路与文化营路","调整配时",{"$nulls":24},1]
[98,"2021-07-09","顺沙路与裕安路","调整配时",{"$nulls":24},1]
[99,"2021-07-09","通顺路与白马路","井盖修复",{"$nulls":49},1,{"$nulls":19},1,{"$nulls":5},1]
[100,"2021-07-09","昌金路北府村口","井盖修复",{"$nulls":49},1,{"$nulls":19},1,{"$nulls":5},1]
[101,"2021-07-09","天北路中航信路口","更换空开",{"$nulls":85},1]
[102,"2021-07-09","顺义二中石门市场","修复灯框",{"$nulls":64},1]
[103,"2021-07-09","机场东路军营街","放置发电机",{"$nulls":52},1,1,null,1,1,1]
[104,"2021-07-09","西环路与顺景路","灯维修复",{"$nulls":64},1]
[105,"2021-07-09","乾安路与顺丰大街","机箱喷漆",{"$nulls":67},1]
[106,"2021-07-09","通顺路龙塘路","更换井盖",{"$nulls":49},1,{"$nulls":19},1,{"$nulls":5},1]
[107,"2021-07-09","坤安路顺兴街西","机箱喷漆",{"$nulls":67},1]
[108,"2021-07-09","龙塘路与通顺路","更换易华录信号机",{"$nulls":19},1]
[109,"2021-07-10","京沈路官志卷村村口","机箱喷漆",{"$nulls":67},1]
[110,"2021-07-10","后沙峪地铁站","机箱门已修复",{"$nulls":65},1]
[111,"2021-07-10","白马路现代三厂","机箱门关闭",{"$nulls":27},1]
[112,"2021-07-10","龙塘路与木燕路","调整标志牌",{"$nulls":30},1]
[113,"2021-07-10","左堤路崇国庄村西","调整标志牌",{"$nulls":30},1]
[114,"2021-07-10","左堤路苏庄闸桥北面","调整标志牌",{"$nulls":30},1]
[115,"2021-07-10","顺平南线沟北村","调整标志牌",{"$nulls":30},1]
[116,"2021-07-11","天北路馨园一街馨园二街","调整线路",{"$nulls":48},1]
[117,"2021-07-11","顺平路与机场北线南路","换保险一个",{"$nulls":12},1]
[118,"2021-07-11","顺平路与火寺路","井盖修复",{"$nulls":49},1,{"$nulls":19},1,{"$nulls":5},1]
[119,"2021-07-11","右堤路滨河小区门口","更换400绿灯板一块",{"$nulls":5},1]
[120,"2021-07-11","天北路与天柱东路","更换400绿灯板一块",{"$nulls":5},1]
[121,"2021-07-11","裕庆路与双裕大街","换灯眉两块",{"$nulls":10},1]
[122,"2021-07-11","七大路与孙塘路","调整上口电源",{"$nulls":94},1]
[123,"2021-07-11","富密路与北木路","合闸",{"$nulls":53},1,null,1,1,1,null,1]
[124,"2021-07-11","昌金路板桥村口","换电瓶两块",{"$nulls":9},2]
[125,"2021-07-11","天北路顺于路北侧","换信号线 85米",{"$nulls":8},85]
[126,"2021-07-12","通顺路复兴一街","摆放临时灯",{"$nulls":53},1,1,1,1,1]
[127,"2021-07-12","木燕路杨镇一中","跳闸",{"$nulls":53},1,null,1,1,1,null,1]
[128,"2021-07-12","通顺路昌金路","换信号机保险一个",{"$nulls":12},1]
[129,"2021-07-12","通顺路李堡路","更换保险",{"$nulls":12},1]
[130,"2021-07-12","白马路现代三厂路口","跳闸",{"$nulls":53},1,null,1,1,1,null,1]
[131,"2021-07-12","通顺路与林河南大街","线路短路",{"$nulls":48},1]
[132,"2021-07-12","通顺路与昌金路","闯红灯摄像头短路拆除",{"$nulls":48},1]
[133,"2021-07-12","通顺路南环路","线路故障",{"$nulls":48},1]
[134,"2021-07-12","通顺路复兴一街","发电机",{"$nulls":52},1,1,null,1,1,1]
[135,"2021-07-12","仁李路54号南庄头村委会","黄闪更换电池",{"$nulls":89},1]
[136,"2021-07-12","昌金路木燕路","上级供电跳闸",{"$nulls":59},1]
[137,"2021-07-12","顺康路与顺平南线","变压器跳闸",{"$nulls":59},1]
[138,"2021-07-12","昌金路与榆林村口","更换振隆信号机一台",{"$nulls":19},1]
[139,"2021-07-12","昌金路与木北路","上级供电跳闸",{"$nulls":59},1]
[140,"2021-07-12","京沈路与火沙路","摆放临时信号灯",{"$nulls":53},1,1,1,1,1]
[141,"2021-07-12","顺平路与火寺路","四个方向读秒器已拆除",{"$nulls":38},4]
[142,"2021-07-12","顺平南线与顺康路","跳闸",{"$nulls":53},1,null,1,1,1,null,1]
[143,"2021-07-12","白马路与顺密路","换法码整组新灯400的",3]
[144,"2021-07-12","木北路与北务西路","更换振隆信号机一台",{"$nulls":19},1]
[145,"2021-07-12","木燕路杨镇一中","跳闸",{"$nulls":53},1,null,1,1,1,null,1]
[146,"2021-07-13","通顺路与复兴一街","摆放发电机",{"$nulls":52},1,1,null,1,1,1]
[147,"2021-07-13","通顺路与复兴东街","摆放发电机",{"$nulls":52},1,1,null,1,1,1]
[148,"2021-07-13","裕庆路与安庆大街交叉路口 ","跳闸",{"$nulls":53},1,null,1,1,1,null,1]
[149,"2021-07-13","木燕路与赵陈路 ","换10A空开一个",{"$nulls":85},1]
[150,"2021-07-13","顺平路杨镇大集（环镇东路）","换2-6电源线500m ",{"$nulls":7},500,{"$nulls":89},500]
[151,"2021-07-13","顺平南线与龙尹路","跳闸",{"$nulls":53},1,null,1,1,1,null,1]
[152,"2021-07-13","顺仁路与林河北大街","跳闸",{"$nulls":53},1,null,1,1,1,null,1]
[153,"2021-07-13","昌金路与龙凤路交叉口","更换空开一个，24v转10v转换器一个",{"$nulls":15},1,{"$nulls":69},1]
[154,"2021-07-13","京沈路白各庄路口","保险坏，更换红灯保险一个"]
[155,"2021-07-13","机场北街与航港路口","加两块电瓶",{"$nulls":9},2]
[156,"2021-07-13","通顺路李堡路","换线，更换信号机保险一个",{"$nulls":12},1,{"$nulls":35},1]
[157,"2021-07-13","珠宝屯东桥","灯扶正，更换漏保一个",{"$nulls":23},1,{"$nulls":11},1]
[158,"2021-07-13","京沈路铁匠营路口","机箱基础加固",{"$nulls":63},1]
[159,"2021-07-13","顺平路张镇厂门口桥","合闸",{"$nulls":53},1,null,1,1,1,null,1]
[160,"2021-07-13","顺平路与七大路交叉口","合闸",{"$nulls":53},1,null,1,1,1,null,1]
[161,"2021-07-13","左堤路与昌金路路口","更换信号机",{"$nulls":19},1]
[162,"2021-07-13","顺平南线太阳城","更换红灯保险一个",{"$nulls":12},1]
[163,"2021-07-14","天竺中学两侧","黄闪拆除",{"$nulls":91},1]
[164,"2021-07-14","正元大街与汇海南路","更换绿灯保险一个",{"$nulls":12},1]
[165,"2021-07-14","安宁大街与裕安路","喷漆",{"$nulls":67},1]
[166,"2021-07-14","顺平路与杨镇市场路口","倒计时拆掉",{"$nulls":38},1]
[167,"2021-07-14","顺平南线东方太阳城门口","更换绿色灯板一块，红色灯板一块，24伏稳压一个",{"$nulls":5},2,{"$nulls":9},1]
[168,"2021-07-14","天北路府右街","更换400绿色灯板一块",{"$nulls":5},1]
[169,"2021-07-14","李木路与大荣路","跳闸",{"$nulls":53},1,null,1,1,1,null,1]
[170,"2021-07-14","龙塘路与龙尹路","换2-6电源线500m ",{"$nulls":7},500,{"$nulls":89},500]
[171,"2021-07-14","顺平路与龙尹路","换信号机四台 。换天线四根 。换开关一个 。换电瓶两块 ",{"$nulls":9},2,{"$nulls":7},2,null,4,{"$nulls":15},1]
[172,"2021-07-14","河南村口","更换400红色非机动车灯板一块",{"$nulls":5},1]
[173,"2021-07-15","右堤路复兴东街","换机箱手动门拉杆",{"$nulls":65},1]
[174,"2021-07-15","龙塘路通顺路","调整配时",{"$nulls":24},1]
[175,"2021-07-15","顺白路与良白路","调整配时",{"$nulls":24},1]
[176,"2021-07-15","通顺路和顺兴路","井盖完工，平整步道砖两平米",{"$nulls":62},1]
[177,"2021-07-15","仁李路南庄头村","更换一个黄闪灯",{"$nulls":5},1]
[178,"2021-07-15","右堤路与金牛街","换保险一个",{"$nulls":12},1]
[179,"2021-07-15","昌金路与白良路","装两块儿电瓶 ",{"$nulls":9},2]
[180,"2021-07-15","北庄头","更换一个黄闪灯",{"$nulls":5},1]
[181,"2021-07-15","左堤辅线与复兴东街","换保险一个",{"$nulls":12},1]
[182,"2021-07-15","左堤辅线减河北路","换保险一个",{"$nulls":12},1]
[183,"2021-07-15","板西路与板桥大街","跳闸",{"$nulls":53},1,null,1,1,1,null,1]
[184,"2021-07-16","珠宝屯东桥","更换振隆信号机",{"$nulls":19},1]
[185,"2021-07-16","顺平路与左堤路","更换保险3个，更换5*1.5线缆50米",{"$nulls":8},50,null,null,null,3]
[186,"2021-07-16","通顺路与仓上街","换人行步道灯一组",null,null,1]
[187,"2021-07-16","京沈路与天北路口","换红色灯板一块",{"$nulls":5},1]
[188,"2021-07-16","通顺路与外环路","机箱更换手动拉杆一个",{"$nulls":65},1]
[189,"2021-07-16","右堤路与减河北路","更换机箱手动门拉杆",{"$nulls":65},1]
[190,"2021-07-17","顺沙路与火寺路","调整配时",{"$nulls":24},1]
[191,"2021-07-17","顺平南线与左堤路","调整配时",{"$nulls":24},1]
[192,"2021-07-17","机场东路与李天路","调整配时",{"$nulls":25},1]
[193,"2021-07-17","北高路与板桥大街","摆放临时信号灯",{"$nulls":53},1,1,1,1,1]
[194,"2021-07-17","木燕辅路与左堤路","更换太阳能控制器一个",{"$nulls":18},1]
[195,"2021-07-18","左堤路与减河北路","换线50米，保险排一组",{"$nulls":8},50,null,null,null,1]
[196,"2021-07-18","顺平路与中干渠路","5*1.5电缆654米",{"$nulls":8},654]
[197,"2021-07-18","顺平路与木北路","换绿灯一个 ",{"$nulls":5},1]
[198,"2021-07-18","龙塘路李桥镇政府路口","换线70米",{"$nulls":8},70]
[199,"2021-07-19","后鲁各庄村","更换小电瓶一块",{"$nulls":9},1]
[200,"2021-07-19","顺平路与李木路","绿灯板一块400的  24v变压器一个",{"$nulls":5},1,{"$nulls":9},1]
[201,"2021-07-19","南环路六环出口","杆一根  灯一套   灯架一套  线287米",1,null,null,1,{"$nulls":4},287]
[202,"2021-07-19","天北路馨园二街","换人行步道灯一组换人行灯线186米",null,null,1,{"$nulls":5},186,{"$nulls":42},1]
[203,"2021-07-19"," 安庆大街与裕庆路","换线186米",{"$nulls":8},186]
[204,"2021-07-19","裕安路与安富街","修复灯眉一个",{"$nulls":64},1]
[205,"2021-07-19","裕丰路安华街","灯扶正，灯眉修复",{"$nulls":23},1,{"$nulls":40},1]
[206,"2021-07-19","木卲路与木孙路","换线96米",{"$nulls":8},96]
[207,"2021-07-19","顺平路裕安路 ","换绿灯一个",{"$nulls":5},1]
[208,"2021-07-19","顺平路与裕安路","更换机动车绿灯灯板两块，非机动车绿灯灯板一块",{"$nulls":5},3]
[209,"2021-07-20","通顺路马坡邮局路口","换天线 两根",{"$nulls":17},2]
[210,"2021-07-20","昌金路与下坡屯交叉口","300绿灯板2块",{"$nulls":6},2]
[211,"2021-07-20","临河经济开发区","标志牌拆除",{"$nulls":33},1]
[212,"2021-07-20","白马路与木燕路","更换一个400灯眉",{"$nulls":10},1]
[213,"2021-07-20","顺于路与南陈路","遮挡处理",{"$nulls":43},1]
[214,"2021-07-20","顺仁路与林河北大街","换绿灯板 3块",{"$nulls":5},2,1]
[215,"2021-07-20","京密路与天北路","换线5*1.5，50米",{"$nulls":8},50]
[216,"2021-07-20","顺平路与杜庄村口","换400黄灯一个，换线53米",{"$nulls":5},1,null,null,53]
[217,"2021-07-20","顺仁路与林河南大街","更换绿灯灯板400 2块",{"$nulls":5},1,1]
[218,"2021-07-20","顺和花园西门","更换非机动车道绿灯板一块400",{"$nulls":5},1]
[219,"2021-07-20","顺平路与火寺路","井盖更换 ",{"$nulls":49},1,{"$nulls":19},1,{"$nulls":5},1]
[220,"2021-07-20","顺平辅线与新顺南大街","更换红灯400灯板一块",{"$nulls":5},1]
[221,"2021-07-21","机场北街与顺畅大道（航港物流园）","换信号天线一根",{"$nulls":17},1]
[222,"2021-07-21","白马路与中干渠","发电机",{"$nulls":52},1,1,null,1,1,1]
[223,"2021-07-21","双河大街顺义区第一中学","调整井盖",{"$nulls":69},1,{"$nulls":5},1]
[224,"2021-07-21","光明街道裕龙五社区","调整标志牌",{"$nulls":30},1]
[225,"2021-07-21","南法信镇东海洪村箱","关闭机箱门",{"$nulls":27},1]
[226,"2021-07-21"," 通顺路与复兴东街交叉路口","调整标志牌",{"$nulls":30},1]
[227,"2021-07-22","顺平路与王庄路","换线284米3*6²    24伏电源一个，空开两个。",{"$nulls":7},284,{"$nulls":7},1,{"$nulls":69},2,{"$nulls":11},284]
[228,"2021-07-22","顺平与顺密路","调整配时",{"$nulls":24},1]
[229,"2021-07-22","顺于路与天北路","调整线路",{"$nulls":24},1]
[230,"2021-07-22","顺于路与天北路路口","调整标志牌",{"$nulls":30},1]
[231,"2021-07-22","南环与通顺路","调整线路",{"$nulls":48},1]
[232,"2021-07-23","天柱东路与天纬二街","换线192米",{"$nulls":8},192]
[233,"2021-07-23","减河北路与左堤辅线","更换人行灯两组（法马），更换5*1.5，232米",null,null,2,{"$nulls":5},232]
[234,"2021-07-23","龙塘路与木燕辅路","更换保险底座",{"$nulls":12},1]
[235,"2021-07-23","四纬路与金桥路","调整配时",{"$nulls":26},1]
[236,"2021-07-23","四纬路与北斗路","调整配时",{"$nulls":26},1]
[237,"2021-07-23","四纬路与经纬中路","调整配时",{"$nulls":26},1]
[238,"2021-07-23","正元大街与经纬中路","调整配时",{"$nulls":26},1]
[239,"2021-07-23","经纬中路与正元南街","调整配时",{"$nulls":26},1]
[240,"2021-07-23","经纬中路与富元大街","调整配时",{"$nulls":26},1]
[241,"2021-07-23","减河北路与左堤辅线","传电跳闸",{"$nulls":59},1]
[242,"2021-07-23","和新街与上宏东路","更换保险一个",{"$nulls":12},1]
[243,"2021-07-23","减河北路与右堤路","更换红灯保险一个",{"$nulls":12},1]
[244,"2021-07-24","龙塘路与中干渠路红路灯不亮","换信号机输出保险一个",{"$nulls":12},1]
[245,"2021-07-24","七大路与京平高速入口","换绿灯板一块400  15w24v变压器一个",{"$nulls":5},1,{"$nulls":9},1]
[246,"2021-07-24","白马路与木北路","读秒器已拆除",{"$nulls":38},1]
[247,"2021-07-24","左堤路与减河北路"," 换线556米  保险两个",{"$nulls":8},556,null,null,null,2]
[248,"2021-07-25","顺康路石园南大街","更换人行灯板2个，5X1.5线95米",{"$nulls":6},2,null,95]
[249,"2021-07-25","天北路与裕丰路","换线40米",{"$nulls":8},40]
[250,"2021-07-26","通顺路与滨河北路","调整配时",{"$nulls":25},1]
[251,"2021-07-26","赵红路北木路西侧路","换5*1.5线198米",{"$nulls":8},198]
[252,"2021-07-26","通顺路平沿路","杆线外漏调整",{"$nulls":48},1]
[253,"2021-07-26","天北路与兆丰二街","换5芯信号线5*1.5的175米。换自行车绿灯一个",{"$nulls":6},1,null,175]
[254,"2021-07-26","昌金路与京沈路","临时信号机"]
[255,"2021-07-27","顺白路顺平西路","跳闸",{"$nulls":53},1,1,1,1,1]
[256,"2021-07-27","铁东路花鸟鱼虫市场","跳闸",{"$nulls":53},1,null,1,1,1,null,1]
[257,"2021-07-27","顺平路杜庄路口","上口电源跳闸",{"$nulls":59},1]
[258,"2021-07-27","通顺路与府前街","系统校时",{"$nulls":70},1]
[259,"2021-07-27","通顺路临河大街","换3×4电源线378m ",{"$nulls":7},378,{"$nulls":89},378]
[260,"2021-07-27","白马路兴吉路交叉口","换稳压器一个",{"$nulls":18},1]
[261,"2021-07-27","机场东路与林荫路","跳闸",{"$nulls":53},1,null,1,1,1,null,1]
[262,"2021-07-27","机场东路与四纬路","保险1个",{"$nulls":12},1]
[263,"2021-07-28","顺白路南环","换线183米",{"$nulls":8},185]
[264,"2021-07-28","顺平路南焦路","换线20米",{"$nulls":8},20]
[265,"2021-07-28","三马路已西太路","合闸",{"$nulls":53},1,null,1,1,1,null,1]
[266,"2021-07-28","顺恒大街与坤安路","换5A保险一个",{"$nulls":12},1]
[267,"2021-07-28","西下路与北武路","灯维固定",{"$nulls":64},1]
[268,"2021-07-28","拥军路与顺平辅线","换线193米",{"$nulls":8},193]
[269,"2021-07-28","天北路与兆丰二街","调整配时",{"$nulls":24},1]
[270,"2021-07-29","西下路与北武路","调整灯杆",{"$nulls":90},1]
[271,"2021-07-29","顺于路与南陈璐","遮挡",{"$nulls":42},1]
[272,"2021-07-29","天北路与兆丰二街","更换400非机动绿灯一个",{"$nulls":5},1]
[273,"2021-07-29","马坡迁安路顺祥街","机箱喷涂",{"$nulls":67},1]
[274,"2021-07-29","天柱西路与工业开发区西南","调整标志牌",{"$nulls":30},1]
[275,"2021-07-29","顺畅大道与物流园六街","调整标志牌",{"$nulls":30},1]
[276,"2021-07-29","珠宝屯桥附近六处","灯歪扶正，调整电源线"]
[277,"2021-07-30","顺驰路与物流园六街","监控线短路",{"$nulls":48},1]
[278,"2021-07-30","顺畅大道与物流园六街","监控线短路",{"$nulls":48},1]
[279,"2021-07-30","顺平路与金航西路","更换太阳能电瓶两块",{"$nulls":9},2]
[280,"2021-07-30","顺于路与外环路","修复手控",{"$nulls":65},1]
[281,"2021-07-30","顺义区天裕昕园中路","调整配时",{"$nulls":24},1]
[282,"2021-07-30","天柱东路与林荫路","跳闸",{"$nulls":53},1,null,1,1,1,null,1]
[283,"2021-07-30","榆阳路与馨园三街","更换信号机控制器一个",{"$nulls":18},1]
[284,"2021-07-31","安宁大街天裕昕园中路","调整配时",{"$nulls":24},1]
[285,"2021-07-31","京沈路与富密路"," 换保险一个",{"$nulls":12},1]
[286,"2021-07-31","中干渠路与木茶路","更换信号机一个",{"$nulls":19},1]
[287,"2021-07-31","北木西侧路赵红路","换信号机一台 ",{"$nulls":19},1]
[288,"2021-07-02","右堤路顺平辅线","调整配时",{"$nulls":24},1]
[{"$nulls":57},1,null,1,1,1]
["合计",null,null,null,{"$f":"SUM(E4:E291)","v":7},0,4,1,0,41,10,1662,4084,11,{"$f":"SUM(O4:O291)","v":6},0,27,0,0,10,1,5,3,11,0,0,0,8,17,3,6,{"$f":"SUM(AF4:AF291)","v":2},0,0,12,0,0,1,0,2,0,0,7,0,0,0,1,1,0,0,0,0,15,7,0,1,6,55,5,56,56,56,0,52,0,0,4,1,6,5,1,6,0,8,1,{"$f":"SUM(BX4:BX291)","v":0},0,0,0,8,0,0,0,0,0,0,0,0,0,7,0,0,0,1,1,1,0,1,2,0,0,1662]

{"sheet":"8月","index":7,"n_rows":349,"n_cols":110,"rows_kept":349,"cut":false,"hidden":false,"merged":[[0,0,0,63],[348,0,348,3]]}
["交通设施日常维护-设备设施维修纪录明细"]
[{"$nulls":4},1,2,3,4,5,6,7,8,9,10,11,12,13,14,15,16,17,18,19,20,21,22,23,24,25,26,27,28,29,30,31,32,33,34,35,36,37,38,39,40,41,42,43,44,45,46,47,48,49,50,51,52,53,54,55,56,57,58,59,60,61,62,63,64,65,66,67,68,69,70,71,72,73,74,75,76,77,78,79,80,81,82,83,84,85,86,87,88,89,90,91,92,93,94,95,96,97,98,99,100,101,102,103,104,105,106]
["序号","日期","维修位置","维修内容","更换信号灯（组）","信号灯型号（备注）","更换步道灯（组）","更换信号灯杆（根）","更换步道灯杆（根）","更换灯板（400*400块）","更换灯板（300块）","更换电源线3*4（m)","更换控制线缆5*1.5（m)","更换蓄电池（块）","更换灯围（个）","更换灯罩（个）","更换保险（个/组）","更换变压器（24v15w）（个）","更换变压器（24v11w）（个）","更换变压器（15v15w）（个）","更换太阳能模块（个）","更换天线（根）","更换过充过放（个）","更换信号机（台）","更换太阳能信号灯分机（台）","更换锁具（套）","安装手孔盖（个）","调整行车灯（套）","基本路口信号优化（处）","信号实时优化（处）","主干道绿波优化（处）","关闭信号机机箱门（个）","更换太阳能信号机主机（台）","更换信号机机箱（套）","调整标志牌（套）","拆除灯具（组）","更换太阳能晒板（块）","拆除标志牌（套）","关闭灯头（个）","更换漏电（个）","安装标志牌（套）","确认灯杆被撞（次）","安（拆）倒计时（块）","安装电表箱（个）","拆除探头线（处）","调整步道灯（处）","修剪树枝（处）","擦拭灯具（组）","更换太阳能信号机主板（块）","安装灯条（组）","安装太阳能晒板（块）","安装护栏（组）","调整灯线电源线接地线（次）","更换井盖（个）","更换相位板（块）","更换被撞灯杆（根）","放发电机应急保障(ex2500cx)（台）","发电机台班","放置临时信号灯应急保障（台）","临时信号灯台班","临时停电应急保障（次）","临时停电台班","维修太阳能信号接收器（套）","合闸","恢复信号灯检查井（次）","调整拆除灯杆（根）","基础施工（次）","加固机箱（台）","修复灯部件（个）","机箱部件更换修复（个）","清除小广告（个）","喷涂（次）","安装更换检查孔（个）","井盖调整修复（次）","系统校时(次）","两米接地签字（根）","扁铁（一根4米）","螺丝（套）","关闭电表箱窗户（次）","维修手孔井（套）","更换220转24电源（块）","灯杆漆面反光膜翻新（根）","安装黄闪灯（套）","更换黄闪灯（套）","热熔标线画线（次）","更换转换器（24v）（个）","抱箍（套）","调整太阳能板（次）","关闭喇叭（次）","更换空开（个）","更换线缆（2*6）m","更换太阳能接触器（个）","更换临时信号机（台）","小电瓶（个）","调整灯杆（根）","拆除黄闪（个）","拆除黄闪灯杆（根）","机箱被撞（次）","其他","拆除线缆（米）","热熔标线（实线）平米","电缆直埋保护管PE管（米）","更换变压器（12w）（个）","手动控制板恢复（个）","拆除机箱（个）","拆除信号机（个）","新立灯杆（个）","拆除标志杆（根）","安装标志杆（根）","更换非机动车灯板（个）"]
[1,"2021-08-01","龙塘路与龙尹路","更换5A保险",{"$nulls":12},1]
[2,"2021-08-01","顺平辅线与拥军路","路口改造",6,null,3]
[3,"2021-08-01","龙塘路与木燕辅线","灯杆被撞",{"$nulls":37},1]
[4,"2021-08-02","顺平辅线与拥军路","更换信号机机箱",{"$nulls":29},1]
[5,"2021-08-02","顺白路与良白路","更换井盖",{"$nulls":49},1,{"$nulls":19},1,{"$nulls":5},1]
[6,"2021-08-02","乾安路与顺祥街","机箱腐蚀喷涂",{"$nulls":67},1]
[7,"2021-08-02","顺平南线与顺和路","更换5A输出保险",{"$nulls":12},1]
[8,"2021-08-03","顺平南线与顺和路","更换输出保险",{"$nulls":12},1]
[9,"2021-08-03","李天路与南半壁店小区","调整配时",{"$nulls":24},1]
[10,"2021-08-03","李天路与丰荣酒店门口","调整配时",{"$nulls":24},1]
[11,"2021-08-03","顺沙路与火寺路","灯向调整",{"$nulls":23},1]
[12,"2021-08-03","顺平南线与顺和路","换人行步道灯线5×1.5的221米",{"$nulls":8},221]
[13,"2021-08-03","通顺路与府前街","校正时间",{"$nulls":70},1]
[14,"2021-08-03","顺平南线与柴家林路口","灯围修复",{"$nulls":10},1]
[15,"2021-08-03","天柱东路与天纬三街","绿灯板关闭",{"$nulls":34},1]
[16,"2021-08-03","顺平路与南焦路路口","更换绿灯板一块，稳压器一个，修复灯围两个",{"$nulls":5},1,{"$nulls":4},2,null,null,null,1]
[17,"2021-08-03","姚店村北口","禁鸣牌子恢复",{"$nulls":33},2,null,null,2]
[18,"2021-08-04","通顺路与顺沙路","换线145米",{"$nulls":8},145]
[19,"2021-08-04","火沙路与裕华路","换非机动车绿灯板一块400  24v11w  变压器一个24v11w",{"$nulls":5},1,{"$nulls":8},1,{"$nulls":90},1]
[20,"2021-08-04","李天路樱花园路口","调整配时",{"$nulls":24},1]
[21,"2021-08-04","英各庄社区服务站","标示牌拆除",{"$nulls":33},1]
[22,"2021-08-04","顺平路与南焦路","灯裙更换",{"$nulls":11},1]
[23,"2021-08-04","火沙辅线与裕华路口","换红灯板一块400  变压器一个24v15w\n换非机动绿灯一块400  变压器一个24v11w",{"$nulls":5},2,{"$nulls":7},1,1,{"$nulls":90},1]
[24,"2021-08-05","木北路与民泰路","换线169米",{"$nulls":8},169]
[25,"2021-08-05","顺沙路与高下路","更换绿灯板一块400 变压器24v15w  更换非机动车绿灯板一块400 变压器24v11w",{"$nulls":5},2,{"$nulls":7},1,1,{"$nulls":90},1]
[26,"2021-08-05","站前北街与通运路","更换400红灯灯板一个，",{"$nulls":5},1]
[27,"2021-08-05","站前北街与顺祥街","更换灯一组，更换400红灯灯板一个",1,{"$nulls":4},1]
[28,"2021-08-05","李天路与楼台村口","更换绿灯板一块400 变压器24v15w  更换非机动车绿灯板一块400 变压器24v11w",{"$nulls":5},2,{"$nulls":7},1,1,{"$nulls":90},1]
[29,"2021-08-05","通顺路与西丰乐路口","更换绿灯板400一个",{"$nulls":5},1]
[30,"2021-08-05","馨港庄园","标志杆拆除",{"$nulls":33},1]
[31,"2021-08-05","通顺路与牛山小区门口","换灯眉两个",{"$nulls":10},2]
[32,"2021-08-05","牛富路与史家口路","更换灯2组，更换非机动绿灯一个300",2,{"$nulls":5},1,{"$nulls":98},1]
[33,"2021-08-05","牛富路与鑫牛北路","更换灯一组，更换机动绿灯一个300",1,{"$nulls":5},1]
[34,"2021-08-05","顺平路与李木路","跳闸",{"$nulls":53},1,null,1,1,1,null,1]
[35,"2021-08-05","京沈路与昌金路","跳闸",{"$nulls":53},1,null,1,1,1,null,1]
[36,"2021-08-05","右堤路滨河北口","跳闸",{"$nulls":53},1,null,1,1,1,null,1]
[37,"2021-08-05","顺平南线与机场东路","安放临时信号灯",{"$nulls":53},1,1,1,1,1]
[38,"2021-08-05","火沙辅线与裕华路","更换信号机一台",{"$nulls":19},1]
[39,"2021-08-05","火沙辅线与裕华路","调整配时",{"$nulls":24},1]
[40,"2021-08-06","东风小学东校区丁字路口","跳闸",{"$nulls":53},1,null,1,1,1,null,1]
[41,"2021-08-06","北小营","跳闸",{"$nulls":53},1,null,1,1,1,null,1]
[42,"2021-08-06","白马路现代三厂北门","跳闸",{"$nulls":53},1,null,1,1,1,null,1]
[43,"2021-08-06","赵陈路与李木路","跳闸",{"$nulls":53},1,null,1,1,1,null,1]
[44,"2021-08-06","赵陈路与后鲁各庄村","跳闸",{"$nulls":53},1,null,1,1,1,null,1]
[45,"2021-08-06","顺兴路与军营北街","机箱门关闭",{"$nulls":27},1]
[46,"2021-08-06","顺和路与拥军路幼儿园门口","跳闸",{"$nulls":53},1,null,1,1,1,null,1]
[47,"2021-08-06","顺白路与军营街","更换灯一组，更换红灯绿灯灯板各一个",1,{"$nulls":4},2]
[48,"2021-08-06","裕龙一街","跳闸",{"$nulls":53},1,null,1,1,1,null,1]
[49,"2021-08-06","顺兴路与军营街","更换绿灯板一个400",{"$nulls":5},1]
[50,"2021-08-06","金桥路与横十一路","跳闸",{"$nulls":53},1,null,1,1,1,null,1]
[51,"2021-08-06","机场北街与顺畅大道","更换维特瑞从机一个",{"$nulls":20},1]
[52,"2021-08-06","顺平路李木路","基础施工加固",{"$nulls":62},1]
[53,"2021-08-06","顺平路与机场东路","换24V变压器一个",{"$nulls":14},1]
[54,"2021-08-06","纵二路与正元南街","跳闸",{"$nulls":53},1,null,1,1,1,null,1]
[55,"2021-08-06","良白路与京密路","灯扶正",{"$nulls":23},1]
[56,"2021-08-06","富密路与北木路路口","跳闸",{"$nulls":53},1,null,1,1,1,null,1]
[57,"2021-08-06","林荫路美林香槟小镇","黄闪灯拆除",{"$nulls":91},1]
[58,"2021-08-06","右堤路与滨河小区门口","跳闸",{"$nulls":53},1,null,1,1,1,null,1]
[59,"2021-08-06","拥军路顺平辅线","箱门喷漆，关闭窗户",{"$nulls":67},1,{"$nulls":6},1]
[60,"2021-08-07","顺平路与李魏路","更换灯一组，更换绿灯板2块红灯板1块",1,{"$nulls":4},3]
[61,"2021-08-07","顺平南线小唐村公交站","黄闪安装",{"$nulls":78},1]
[62,"2021-08-07","京沈路与昌金路","更换机箱一个，做接地，两米接地签字6根，接地线15米，扁铁一根4米，8*10的螺丝10套",{"$nulls":8},15,{"$nulls":20},1,{"$nulls":18},1,{"$nulls":22},6,1,10]
[63,"2021-08-08","赵陈路与李魏路灯眉、灯围已修复","灯眉、灯围修复",{"$nulls":10},2]
[64,"2021-08-08","木燕路与顺平南线","换400红灯板一块  变压器一个15v15w",{"$nulls":5},1,{"$nulls":9},1]
[65,"2021-08-08","顺平南线与中干渠路  ","灯眉歪斜加固",{"$nulls":64},1]
[66,"2021-08-08","顺平南线与李木路交叉口","更换绿灯板400一块，24v15w变压器一个",{"$nulls":5},1,{"$nulls":7},1]
[67,"2021-08-08","白马路与龙尹路","灯眉变形修复",{"$nulls":64},1]
[68,"2021-08-08","裕华路与安泰大街","更换灯一组，换西侧400绿灯一个 变压器24v15w非机动两个400 变压器24v11w  黄灯板400一块",1,{"$nulls":4},4,{"$nulls":7},1,2,{"$nulls":90},1]
[69,"2021-08-08","裕安路与安祥大街","换黄色灯板一块400",{"$nulls":5},1]
[70,"2021-08-08","金路高架路","换井盖一个",{"$nulls":49},1,{"$nulls":19},1,{"$nulls":5},1]
[71,"2021-08-08","顺白路军营北街","换电池两块",{"$nulls":9},2]
[72,"2021-08-09","白马路与龙尹路","更换天线",{"$nulls":17},1]
[73,"2021-08-09","木绍路山丁路","跳闸",{"$nulls":53},1,null,1,1,1,null,1]
[74,"2021-08-09","裕安路安泰大街","换线97米",{"$nulls":8},97]
[75,"2021-08-09","顺平南线中干渠","更换220转24电源一块",{"$nulls":76},1]
[76,"2021-08-09","顺沙路文化营","标志牌扶正",{"$nulls":30},1]
[77,"2021-08-09","金汉绿港与光明小学路口","更换信号机箱一套",{"$nulls":29},1]
[78,"2021-08-09","坤安路与顺恒大街","更换保险一个",{"$nulls":12},1]
[79,"2021-08-09","京沈路与顺于路","放置临时灯",{"$nulls":53},1,1,1,1,1]
[80,"2021-08-09","天柱东路与丽苑街","跳闸",{"$nulls":53},1,null,1,1,1,null,1]
[81,"2021-08-10","京沈路与顺于路","放置发电机",{"$nulls":52},1,1,null,1,1,1]
[82,"2021-08-10","天北路董各庄桥","更换漏保一个",{"$nulls":35},1]
[83,"2021-08-10","京沈路与天北路人行","步道灯调整",{"$nulls":41},1]
[84,"2021-08-10","顺畅大道物流园六街","调整配时",{"$nulls":24},1]
[85,"2021-08-10","天北路花园西街","跳闸",{"$nulls":53},1,null,1,1,1,null,1]
[86,"2021-08-10","龙塘路与y402乡道交叉口","换线320米2.5三线",{"$nulls":8},320]
[87,"2021-08-10","中山东街与绿港家园路口","更换信号机机箱一套",{"$nulls":29},1]
[88,"2021-08-10","顺平辅线与拥军路","人行灯杆四根，漆面，反光膜翻新",{"$nulls":77},4]
[89,"2021-08-10","乾安路与顺丰大街","更换保险一个",{"$nulls":12},1]
[90,"2021-08-10","天柱东路与天纬二街","跳闸",{"$nulls":53},1,null,1,1,1,null,1]
[91,"2021-08-10","京沈路与顺于路","放临时信号灯",{"$nulls":53},1,1,1,1,1]
[92,"2021-08-11","天北路与花园西路","放临时信号灯",{"$nulls":53},1,1,1,1,1]
[93,"2021-08-11","国航门","跳闸",{"$nulls":53},1,null,1,1,1,null,1]
[94,"2021-08-12","京沈路与顺于路","放置发电机",{"$nulls":52},1,1,null,1,1,1]
[95,"2021-08-12","顺于路与西环路","机箱门关闭",{"$nulls":27},1]
[96,"2021-08-12","李桥镇政府与龙塘路","换线261米5*1.5平方线",{"$nulls":8},261]
[97,"2021-08-12","天北天柱路和顺沙京沈路","发电机使用",{"$nulls":52},1,1,null,1,1,1]
[98,"2021-08-12","李遂幼儿园","换黄闪灯一套",{"$nulls":78},1,1,{"$nulls":11},1]
[99,"2021-08-12","京沈路与顺于路","放置临时灯",{"$nulls":53},1,1,1,1,1]
[100,"2021-08-13","京沈路与顺于路","更换电瓶",{"$nulls":53},1,null,1,1,1]
[101,"2021-08-13","左堤路与河南村闸桥","放临时信号灯",{"$nulls":53},1,1,1,1,1]
[102,"2021-08-13"," 天柱中路与丽苑街","跳闸",{"$nulls":53},1,null,1,1,1,null,1]
[103,"2021-08-13","京沈路与顺于路","临时加装太阳能板一块",{"$nulls":53},1,null,1,1,1]
[104,"2021-08-13","顺平路与金航西路","安装检查孔",{"$nulls":68},1]
[105,"2021-08-13","李桥镇官庄村","禁停牌修复",{"$nulls":33},3,null,null,3]
[106,"2021-08-14","顺平路与李木路机箱","跳闸合闸",{"$nulls":53},1,null,1,1,1,null,1]
[107,"2021-08-14","京沈路与顺于路","更换一块电瓶",{"$nulls":53},1,null,1,1,1]
[108,"2021-08-14","顺平路与龙尹辅线（杜庄）","跳闸",{"$nulls":53},1,null,1,1,1,null,1]
[109,"2021-08-14","李木路与赵陈路","跳闸",{"$nulls":53},1,null,1,1,1,null,1]
[110,"2021-08-14","顺平南线与中干渠路"," 换220转24电源一个",{"$nulls":76},1]
[111,"2021-08-14","白马路现代三厂门","跳闸",{"$nulls":53},1,null,1,1,1,null,1]
[112,"2021-08-14","顺平南线与七大路","灯扶正",{"$nulls":23},1]
[113,"2021-08-14","木邵路与龙尹路","跳闸",{"$nulls":53},1,null,1,1,1,null,1]
[114,"2021-08-14","昌金路与七大路","更换信号机一台",{"$nulls":19},1]
[115,"2021-08-14","和新街与上宏中路","换线986米",{"$nulls":8},986]
[116,"2021-08-14","木邵路与山丁路","跳闸",{"$nulls":53},1,null,1,1,1,null,1]
[117,"2021-08-15","顺于路华英园门口","停车入位牌子拆除",{"$nulls":33},1]
[118,"2021-08-15","顺于路南法信医院公交站","停车入位牌子拆除",{"$nulls":33},1]
[119,"2021-08-15","顺于路南法信医院公交站","2块停车入位牌子拆除",{"$nulls":33},2]
[120,"2021-08-15","坤安路与顺恒大街","调整配时",{"$nulls":24},1]
[121,"2021-08-15","京沈路与顺于路","更换电瓶",{"$nulls":53},1,null,1,1,1]
[122,"2021-08-16","机场北街与顺航路","换信号机三台，天线7根",{"$nulls":17},7,null,3]
[123,"2021-08-16","李天路与机场东路","跳闸",{"$nulls":53},1,null,1,1,1,null,1]
[124,"2021-08-16","顺平南线与顺康路","换绿灯板一块变压器一个24v15w",{"$nulls":5},1,{"$nulls":7},1]
[125,"2021-08-16","昌金路与天北路","换5A保险一个",{"$nulls":12},1]
[126,"2021-08-16","裕庆路火沙路","禁停牌修正",{"$nulls":33},1,null,null,1]
[127,"2021-08-16","木邵路与山丁路","架线",{"$nulls":48},1]
[128,"2021-08-16","府前街与通顺路","校对时间",{"$nulls":70},1]
[129,"2021-08-16","京沈路与顺于路","放置临时灯",{"$nulls":53},1,1,1,1,1]
[130,"2021-08-17","京沈路与顺于路","更换电瓶",{"$nulls":53},1,null,1,1,1]
[131,"2021-08-17","机场北线出口与火寺路","跳闸",{"$nulls":53},1,null,1,1,1,null,1]
[132,"2021-08-17","顺密路木林幼儿园","更换维特瑞太阳能信号机三台天线四根已修复",{"$nulls":17},4,null,3]
[133,"2021-08-17","榆阳路嘉园社区","更换新黄闪灯",{"$nulls":78},1,1,{"$nulls":11},1]
[134,"2021-08-17","顺丰大街与乾安路","换线168米1.5*5",{"$nulls":8},168]
[135,"2021-08-17","京沈路与顺于路","放置临时灯",{"$nulls":53},1,1,1,1,1]
[136,"2021-08-18","顺密路前鲁村口","换5a保险一个",{"$nulls":12},1]
[137,"2021-08-18","坤安路与顺恒大街","换保险一个",{"$nulls":12},1]
[138,"2021-08-18","火沙路与裕华路","更换红灯板",{"$nulls":5},1]
[139,"2021-08-18","天竺报税区","警示牌已安装",{"$nulls":36},1]
[140,"2021-08-18","开发街与花园三街","黄闪灯拆除",{"$nulls":91},1]
[141,"2021-08-18","右堤路与金牛街","更换非机动车绿灯板一个",{"$nulls":5},1,{"$nulls":99},1]
[142,"2021-08-18","府前二街与小王辛庄南路","禁停杆扶正",{"$nulls":30},1]
[143,"2021-08-18","顺平路与杜庄村","机箱门关闭",{"$nulls":27},1]
[144,"2021-08-19","京沈路与顺于路","更换电瓶",{"$nulls":53},1,null,1,1,1]
[145,"2021-08-19","昌金路与顺密路","树枝清理",{"$nulls":42},1]
[146,"2021-08-19","美林香槟小镇东门","黄闪灯拆除",{"$nulls":91},1]
[147,"2021-08-19","左堤路龙塘路","换电瓶两块",{"$nulls":9},2,{"$nulls":43},1,null,1,1,1]
[148,"2021-08-19","通顺路与顺沙路","换线528米",{"$nulls":7},528,{"$nulls":89},528]
[149,"2021-08-20","昌金路与北府村口绿闪已关闭","绿闪关闭",{"$nulls":34},1]
[150,"2021-08-20","顺沙路与外环路","机箱门关闭",{"$nulls":27},1]
[151,"2021-08-20","府前街与通顺路","调试手动",{"$nulls":94},1]
[152,"2021-08-20","龙塘路与李魏路","树枝清理",{"$nulls":42},1]
[153,"2021-08-20","京沈路与向前村","换机动车红灯板15V15w一个变压器15v15w一个",{"$nulls":5},1,{"$nulls":9},1]
[154,"2021-08-20","安富街十中路口","机箱门关闭",{"$nulls":27},1]
[155,"2021-08-20","通顺路八中路口","换线125米",{"$nulls":8},125]
[156,"2021-08-21","顺平路与金航西路","换12v电瓶一块",{"$nulls":9},1]
[157,"2021-08-21","前鲁公交站","换信号机一台",{"$nulls":19},1]
[158,"2021-08-21","顺平辅线与拥军路","安装护栏3块",{"$nulls":47},3]
[159,"2021-08-21","顺于路与裕安路","换太阳能四型机主机一个",{"$nulls":28},1]
[160,"2021-08-21","顺平辅线与拥军路","安装护栏3块",{"$nulls":47},3]
[161,"2021-08-21","高白路与规划二路","更换电瓶四块",{"$nulls":9},4]
[162,"2021-08-21","顺平路与顺康路","更换机动车灯板1块，人行灯板1块",{"$nulls":5},1,1]
[163,"2021-08-21","京沈路与顺于路","更换电瓶",{"$nulls":9},1]
[164,"2021-08-21","顺于路与九源水厂桥","换电瓶一块  太阳能板一块",{"$nulls":9},1,{"$nulls":22},1]
[165,"2021-08-22","府前街与交通局交叉口","换线58米",{"$nulls":8},58]
[166,"2021-08-22","裕安路与安祥大街","换3*4平方电源线283米",{"$nulls":7},283,{"$nulls":89},283]
[167,"2021-08-22","机场北街与顺畅大道","更换信号机",{"$nulls":19},1]
[168,"2021-08-22","榆阳路与馨园三街","更换绿灯板300一块",{"$nulls":6},1]
[169,"2021-08-23","安平北街与十中路","更换信号机一台",{"$nulls":19},1]
[170,"2021-08-23","金桥路与富元大街","跳闸",{"$nulls":53},1,null,1,1,1,null,1]
[171,"2021-08-23","正元南街与北斗路","跳闸",{"$nulls":53},1,null,1,1,1,null,1]
[172,"2021-08-23","顺平路与南焦路路口","穿线870米",{"$nulls":8},870]
[173,"2021-08-23","顺平路与李木路","调整配时",{"$nulls":25},1]
[174,"2021-08-24","顺平路与机场东路","机箱侧门控制按键修复",{"$nulls":65},1]
[175,"2021-08-24","裕安路与安泰大街","换1.5五线电缆158米",{"$nulls":8},158]
[176,"2021-08-24","顺平南线顺和路","关机箱门",{"$nulls":27},1]
[177,"2021-08-24","顺平辅线与拥军路交叉口","西北角护栏三片安装",{"$nulls":47},3]
[178,"2021-08-24","顺平南线左堤路","调整配时",{"$nulls":25},1]
[179,"2021-08-24","拥军路顺平辅线","装护栏3栅",{"$nulls":47},3]
[180,"2021-08-24","光明小学东安路","换保险一个",{"$nulls":12},1]
[181,"2021-08-24","京沈路与顺于路","更换电瓶",{"$nulls":9},1,{"$nulls":43},1,null,1,1,1]
[182,"2021-08-24","火沙路裕庆路","更换黄闪灯一套",{"$nulls":78},1,1,{"$nulls":11},1]
[183,"2021-08-25","裕庆路与安祥大街","换振隆信号机一台",{"$nulls":19},1]
[184,"2021-08-25","东安路与大东路","更换6A保险一个",{"$nulls":12},1]
[185,"2021-08-25","站前北街与大营四街","拆除专左灯组",{"$nulls":31},1]
[186,"2021-08-25","站前北街与大营四街","调整配时",{"$nulls":24},1]
[187,"2021-08-25","火寺路与北木路","更换非机动车绿灯板一块",{"$nulls":5},1,{"$nulls":99},1]
[188,"2021-08-25","顺密路与减河北路","更换400红灯板一快",{"$nulls":5},1]
[189,"2021-08-25","裕安路与安泰大街"," 换线264米",{"$nulls":8},264]
[190,"2021-08-25","东安路与大东路","更换5X1.5电缆100米",{"$nulls":8},100]
[191,"2021-08-25","金桥路与松香湖大街","更换保险一个",{"$nulls":12},1]
[192,"2021-08-25","京沈路与顺于路","更换电瓶三块",{"$nulls":53},1,null,1,1,1]
[193,"2021-08-25","火寺路与北木路","更换非机动车绿灯板一块",{"$nulls":5},1,{"$nulls":99},1]
[194,"2021-08-26","白马路李木路","调整配时",{"$nulls":24},1]
[195,"2021-08-26","顺义区医院","出租车位画线",{"$nulls":78},1,1,{"$nulls":11},1]
[196,"2021-08-26","大营四街与站前北街","左转箭头画线",{"$nulls":78},1,1,{"$nulls":11},1]
[197,"2021-08-26","机场北街与金航西路","更换灯一组，更换300绿灯板3块，黄灯板一块",1,{"$nulls":5},4]
[198,"2021-08-26","龙塘路与木北路","灯扶正",{"$nulls":23},1]
[199,"2021-08-26","通顺路大营四街路口","安装禁止掉头牌",{"$nulls":36},1]
[200,"2021-08-26","顺平南线与顺兴路","机箱门关闭",{"$nulls":27},1]
[201,"2021-08-26","顺义医院","安装即停即走牌子",{"$nulls":36},1]
[202,"2021-08-26","机场东路与顺平路","更换绿箭头灯400一块",{"$nulls":5},1]
[203,"2021-08-26","京沈路与天北路","灯已扶正",{"$nulls":23},1]
[204,"2021-08-26","减河北路与左堤辅线","跳闸",{"$nulls":53},1,null,1,1,1,null,1]
[205,"2021-08-26","京沈路与顺于路","更换电瓶三块",{"$nulls":53},1,null,1,1,1]
[206,"2021-08-27","顺平辅线与拥军路","更换信号机保险一个",{"$nulls":12},1]
[207,"2021-08-27","顺平辅线与拥军路","更换信号机保险一个",{"$nulls":12},1]
[208,"2021-08-27","机场北线与顺航路","调整配时",{"$nulls":24},1]
[209,"2021-08-27","顺平路与顺和路","机箱手控门锁更换",{"$nulls":21},1]
[210,"2021-08-27","顺河路与林河大街 ","放置临时灯",{"$nulls":53},1,1,1,1,1]
[211,"2021-08-28","机场北线顺航路","调整配时",{"$nulls":24},1]
[212,"2021-08-28","北斗路与正源南街","更换井盖一套",{"$nulls":49},1,{"$nulls":19},1,{"$nulls":5},1]
[213,"2021-08-28","昌金路与赵全营镇政府","换5×1.5线182米",{"$nulls":8},182]
[214,"2021-08-28","平沿路与李堡路","换新电瓶两块",{"$nulls":9},2]
[215,"2021-08-28","金桥路与四伟路","更换400非机动车绿灯板一块机动车绿灯板一块",{"$nulls":5},2,{"$nulls":99},1]
[216,"2021-08-28","昌金路与西乌鸡路口，","裸露电线处理",{"$nulls":48},1]
[217,"2021-08-28","京沈路与顺于路","更换电瓶",{"$nulls":53},1,null,1,1,1]
[218,"2021-08-29","顺平路与裕安路","跳闸",{"$nulls":53},1,null,1,1,1,null,1]
[219,"2021-08-29","白马路与赵湘路","更换机动车红灯灯板一块，非机动车红灯灯板一块",{"$nulls":5},2,{"$nulls":99},1]
[220,"2021-08-29","天北路安宁大街"," 换线1.5*ⅹ5   256米",{"$nulls":8},256]
[221,"2021-08-29","天北路与鑫源三路","更换机动车绿灯灯板一块",{"$nulls":5},1]
[222,"2021-08-29","京沈路与顺于路","更换电瓶",{"$nulls":53},1,null,1,1,1]
[223,"2021-08-30","裕龙二街顺康路","换保险一个",{"$nulls":12},1]
[224,"2021-08-30","龙塘路与李魏路","机箱门打开关闭",{"$nulls":27},1]
[225,"2021-08-30","顺平路与赵湘路","井盖更换",{"$nulls":49},1,{"$nulls":19},1,{"$nulls":5},1]
[226,"2021-08-30","顺平南线与龙塘路","更换电源线3*4平方，380米",{"$nulls":7},380,{"$nulls":89},380]
[227,"2021-08-30","顺平路与木北路","机箱门关闭",{"$nulls":27},1]
[228,"2021-08-30","机场北街与金航中路北口","补杆体检修口盖板",{"$nulls":68},1]
[229,"2021-08-30","机场北线与金航西路","修复禁停标牌",{"$nulls":33},1,null,null,1]
[230,"2021-08-30","京沈路与顺于路","更换电池组",{"$nulls":53},1,null,1,1,1]
[231,"2021-08-30","开元街和恒兴路","更换300绿灯板一块",{"$nulls":6},1]
[232,"2021-08-30","右堤路与仁港路","更换灯一组，更换400红灯板一块，400非机动红灯板一块，400非机动黄灯板一块",1,{"$nulls":4},3,{"$nulls":99},2]
[233,"2021-08-30","机场北线与顺航路","调整配时",{"$nulls":25},1]
[234,"2021-08-31","苏活小区路口","灯杆被撞，摆放临时信号机",{"$nulls":37},1,{"$nulls":15},1,1,1,1,1]
[235,"2021-08-31","机场东路与顺平路","同步",{"$nulls":41},1]
[236,"2021-08-31","拥军路","安装护栏5组",{"$nulls":47},5]
[237,"2021-08-31","火沙路与裕庆路","调整配时",{"$nulls":25},1]
[238,"2021-08-31","安庆大街与裕庆路","调整配时",{"$nulls":25},1]
[239,"2021-08-31","顺平路与顺泰路","调整配时",{"$nulls":25},1]
[240,"2021-08-31","港馨西区西门","调整配时",{"$nulls":24},1]
[241,"2021-08-17","安平北街清岚花园","箱体喷涂翻新",{"$nulls":67},1]
[242,"2021-08-17","后沙峪地铁站","箱体喷涂翻新",{"$nulls":67},1]
[243,"2021-08-17","火沙辅线","箱体喷涂翻新",{"$nulls":67},1]
[244,"2021-08-17","金马工业园路","箱体喷涂翻新",{"$nulls":67},1]
[245,"2021-08-17","万万树","箱体喷涂翻新",{"$nulls":67},1]
[246,"2021-08-18","安富街鼎石学校","箱体喷涂翻新",{"$nulls":67},1]
[247,"2021-08-18","安富街香花畦家园","箱体喷涂翻新",{"$nulls":67},1]
[248,"2021-08-18","安富街后沙峪中心小学校","箱体喷涂翻新",{"$nulls":67},1]
[249,"2021-08-18","安富街江山赋","箱体喷涂翻新",{"$nulls":67},1]
[250,"2021-08-18","安宁大街花梨坎地铁站","箱体喷涂翻新",{"$nulls":67},1]
[251,"2021-08-18","安宁大街福永御龙国际酒店","箱体喷涂翻新",{"$nulls":67},1]
[252,"2021-08-18","安宁大街裕华东路空港吉祥花园","箱体喷涂翻新",{"$nulls":67},1]
[253,"2021-08-18","安平北街","箱体喷涂翻新",{"$nulls":67},1]
[254,"2021-08-18","安庆大街空港科技园","箱体喷涂翻新",{"$nulls":67},1]
[255,"2021-08-18","安庆大街巨鸿大厦","箱体喷涂翻新",{"$nulls":67},1]
[256,"2021-08-18","安庆大街三山新新家园","箱体喷涂翻新",{"$nulls":67},1]
[257,"2021-08-18","安泰大街","箱体喷涂翻新",{"$nulls":67},1]
[258,"2021-08-18","安祥大街","箱体喷涂翻新",{"$nulls":67},1]
[259,"2021-08-18","安祥大街","箱体喷涂翻新",{"$nulls":67},1]
[260,"2021-08-18","安祥大街","箱体喷涂翻新",{"$nulls":67},1]
[261,"2021-08-18","高白路","箱体喷涂翻新",{"$nulls":67},1]
[262,"2021-08-18","火沙辅线","箱体喷涂翻新",{"$nulls":67},1]
[263,"2021-08-18","火沙辅线","箱体喷涂翻新",{"$nulls":67},1]
[264,"2021-08-18","顺和路","箱体喷涂翻新",{"$nulls":67},1]
[265,"2021-08-18","顺平路","箱体喷涂翻新",{"$nulls":67},1]
[266,"2021-08-18","顺平路","箱体喷涂翻新",{"$nulls":67},1]
[267,"2021-08-18","顺平路","箱体喷涂翻新",{"$nulls":67},1]
[268,"2021-08-18","天纬二街","箱体喷涂翻新",{"$nulls":67},1]
[269,"2021-08-18","天纬四街","箱体喷涂翻新",{"$nulls":67},1]
[270,"2021-08-18","裕丰路火沙辅线","箱体喷涂翻新",{"$nulls":67},1]
[271,"2021-08-18","天北路馨园一路交叉口","箱体喷涂翻新",{"$nulls":67},1]
[272,"2021-08-22","火沙路","箱体喷涂翻新",{"$nulls":67},1]
[273,"2021-08-24","高白路高丽营中学","箱体喷涂翻新",{"$nulls":67},1]
[274,"2021-08-24","天北路东盈路1口","箱体喷涂翻新",{"$nulls":67},1]
[275,"2021-08-24","天北路东盈路2口","箱体喷涂翻新",{"$nulls":67},1]
[276,"2021-08-24","天北路怀昌路口","箱体喷涂翻新",{"$nulls":67},1]
[277,"2021-08-24","天北路顺沙路口","箱体喷涂翻新",{"$nulls":67},1]
[278,"2021-08-25","杜杨北街","箱体喷涂翻新",{"$nulls":67},1]
[279,"2021-08-25","杜杨北街","箱体喷涂翻新",{"$nulls":67},1]
[280,"2021-08-25","杜杨北街","箱体喷涂翻新",{"$nulls":67},1]
[281,"2021-08-25","杜杨南街","箱体喷涂翻新",{"$nulls":67},1]
[282,"2021-08-25","军营街","箱体喷涂翻新",{"$nulls":67},1]
[283,"2021-08-25","军营路","箱体喷涂翻新",{"$nulls":67},1]
[284,"2021-08-25","林河大街","箱体喷涂翻新",{"$nulls":67},1]
[285,"2021-08-25","林河南街","箱体喷涂翻新",{"$nulls":67},1]
[286,"2021-08-25","石门北街","箱体喷涂翻新",{"$nulls":67},1]
[287,"2021-08-25","石门市场6号门","箱体喷涂翻新",{"$nulls":67},1]
[288,"2021-08-25","顺平南线","箱体喷涂翻新",{"$nulls":67},1]
[289,"2021-08-25","顺平南线","箱体喷涂翻新",{"$nulls":67},1]
[290,"2021-08-25","顺仁路","箱体喷涂翻新",{"$nulls":67},1]
[291,"2021-08-25","顺于路","箱体喷涂翻新",{"$nulls":67},1]
[292,"2021-08-25","天竺路","箱体喷涂翻新",{"$nulls":67},1]
[293,"2021-08-25","天北路安富街","箱体喷涂翻新",{"$nulls":67},1]
[294,"2021-08-25","天北路安华街口","箱体喷涂翻新",{"$nulls":67},1]
[295,"2021-08-25","天北路安宁大街口","箱体喷涂翻新",{"$nulls":67},1]
[296,"2021-08-25","天北路董各庄路口","箱体喷涂翻新",{"$nulls":67},1]
[297,"2021-08-25","天北路顺平路口","箱体喷涂翻新",{"$nulls":67},1]
[298,"2021-08-25","天北路馨园二街口","箱体喷涂翻新",{"$nulls":67},1]
[299,"2021-08-25","天北路馨园三街","箱体喷涂翻新",{"$nulls":67},1]
[300,"2021-08-25","京沈路安祥大街口","箱体喷涂翻新",{"$nulls":67},1]
[301,"2021-08-28","顺平路，杜尹路口","箱体喷涂翻新",{"$nulls":67},1]
[302,"2021-08-28","顺平路，李魏路口","箱体喷涂翻新",{"$nulls":67},1]
[303,"2021-08-28","顺平路，木北路口","箱体喷涂翻新",{"$nulls":67},1]
[304,"2021-08-28","顺平路，木燕路口","箱体喷涂翻新",{"$nulls":67},1]
[305,"2021-08-28","顺平路，七大路口","箱体喷涂翻新",{"$nulls":67},1]
[306,"2021-08-28","顺平路，杨镇市场路口","箱体喷涂翻新",{"$nulls":67},1]
[307,"2021-08-28","顺平路，月亮湾路口","箱体喷涂翻新",{"$nulls":67},1]
[308,"2021-08-28","顺平路，张镇路口","箱体喷涂翻新",{"$nulls":67},1]
[309,"2021-08-28","顺平路，赵湘路口","箱体喷涂翻新",{"$nulls":67},1]
[310,"2021-08-28","顺西南路，双河大街囗","箱体喷涂翻新",{"$nulls":67},1]
[311,"2021-08-29","顺沙路，火寺路口","箱体喷涂翻新",{"$nulls":67},1]
[312,"2021-08-29","天柱东路，润通大厦路口","箱体喷涂翻新",{"$nulls":67},1]
[313,"2021-08-29","天柱东路，天纬二街口","箱体喷涂翻新",{"$nulls":67},1]
[314,"2021-08-29","天柱东路，天纬三街口","箱体喷涂翻新",{"$nulls":67},1]
[315,"2021-08-29","天柱路，天纬二街口","箱体喷涂翻新",{"$nulls":67},1]
[316,"2021-08-29","天柱路，天纬三街口","箱体喷涂翻新",{"$nulls":67},1]
[317,"2021-08-29","天柱路，天纬四街口","箱体喷涂翻新",{"$nulls":67},1]
[318,"2021-08-30","安宁大街，吉宁路口","箱体喷涂翻新",{"$nulls":67},1]
[319,"2021-08-30","安宁大街，吉荣路口","箱体喷涂翻新",{"$nulls":67},1]
[319,"2021-08-30","安宁大街，裕丰路口","箱体喷涂翻新",{"$nulls":67},1]
[320,"2021-08-30","安宁大街，裕庆路口","箱体喷涂翻新",{"$nulls":67},1]
[321,"2021-08-30","火沙辅线，十中路口","箱体喷涂翻新",{"$nulls":67},1]
[322,"2021-08-30","京沈路，南陈路口","箱体喷涂翻新",{"$nulls":67},1]
[323,"2021-08-30","京沈路，泥河村路口","箱体喷涂翻新",{"$nulls":67},1]
[324,"2021-08-30","京沈路，姚各庄路口","箱体喷涂翻新",{"$nulls":67},1]
[325,"2021-08-30","京沈路，正大公司路口","箱体喷涂翻新",{"$nulls":67},1]
[326,"2021-08-30","南陈路，马可汇路口","箱体喷涂翻新",{"$nulls":67},1]
[327,"2021-08-30","顺航路，物流园六街囗","箱体喷涂翻新",{"$nulls":67},1]
[328,"2021-08-30","顺沙路，京沈路口","箱体喷涂翻新",{"$nulls":67},1]
[329,"2021-08-30","顺沙路，南陈路口","箱体喷涂翻新",{"$nulls":67},1]
[330,"2021-08-30","顺沙路，南法信中学路口","箱体喷涂翻新",{"$nulls":67},1]
[331,"2021-08-30","顺沙路，南焦路口","箱体喷涂翻新",{"$nulls":67},1]
[332,"2021-08-30","顺沙路，张喜庄路囗","箱体喷涂翻新",{"$nulls":67},1]
[333,"2021-08-30","顺于路，高白路口","箱体喷涂翻新",{"$nulls":67},1]
[334,"2021-08-30","顺于路，火寺路口","箱体喷涂翻新",{"$nulls":67},1]
[335,"2021-08-30","顺于路，南焦路口","箱体喷涂翻新",{"$nulls":67},1]
[336,"2021-08-30","顺于路，顺白路口","箱体喷涂翻新",{"$nulls":67},1]
[337,"2021-08-30","顺于路，顺畅路口","箱体喷涂翻新",{"$nulls":67},1]
[338,"2021-08-30","顺于路，顺达路口","箱体喷涂翻新",{"$nulls":67},1]
[339,"2021-08-30","顺于路，顺航路口","箱体喷涂翻新",{"$nulls":67},1]
[]
[]
[]
[]
[]
["合计",null,null,null,{"$f":"SUM(E4:E348)","v":15},{"$f":"SUM(F4:F348)","v":0},3,0,0,41,9,1191,4395,14,7,1,14,6,8,2,0,12,0,12,1,1,0,5,11,6,0,{"$f":"SUM(AF4:AF348)","v":9},1,4,2,1,1,13,2,1,10,2,0,0,0,2,2,0,0,0,0,17,3,4,0,0,3,58,10,58,58,58,0,32,0,0,1,0,2,1,0,102,2,4,{"$f":"SUM(BW4:BW348)","v":2},6,1,10,1,4,2,4,6,5,0,{"$f":"SUM(CH4:CH348)","v":0},0,0,0,0,0,0,0,0,0,8,0,0,1,0,0,1191,{"$f":"SUM(CY4:CY348)","v":0},0,0,0,0,0,0,13]

{"sheet":"9月","index":8,"n_rows":260,"n_cols":110,"rows_kept":260,"cut":false,"hidden":false,"merged":[[0,0,0,63],[259,0,259,3]]}
["交通设施日常维护-设备设施维修纪录明细"]
[{"$nulls":4},1,2,3,4,5,6,7,8,9,10,11,12,13,14,15,16,17,18,19,20,21,22,23,24,25,26,27,28,29,30,31,32,33,34,35,36,37,38,39,40,41,42,43,44,45,46,47,48,49,50,51,52,53,54,55,56,57,58,59,60,61,62,63,64,65,66,67,68,69,70,71,72,73,74,75,76,77,78,79,80,81,82,83,84,85,86,87,88,89,90,91,92,93,94,95,96,97,98,99,100,101,102,103,104,105,106]
["序号","日期","维修位置","维修内容","更换信号灯（组）","信号灯型号（备注）","更换步道灯（组）","更换信号灯杆（根）","更换步道灯杆（根）","更换灯板（400*400块）","更换灯板（300块）","更换电源线3*4（m)","更换控制线缆5*1.5（m)","更换蓄电池（块）","更换灯围（个）","更换灯罩（个）","更换保险（个/组）","更换变压器（24v15w）（个）","更换变压器（24v11w）（个）","更换变压器（15v15w）（个）","更换太阳能模块（个）","更换天线（根）","更换过充过放（个）","更换信号机（台）","更换太阳能信号灯从机（台）","更换锁具（套）","安装手孔盖（个）","调整行车灯（套）","基本路口信号优化（处）","信号实时优化（处）","主干道绿波优化（处）","关闭信号机机箱门（个）","更换太阳能信号机主机（台）","更换信号机机箱（套）","调整标志牌（套）","拆除灯具（组）","更换太阳能晒板（块）","拆除标志牌（套）","关闭灯头（个）","更换漏电（个）","安装标志牌（套）","确认灯杆被撞（次）","安（拆）倒计时（块）","安装电表箱（个）","拆除探头线（处）","调整步道灯（处）","修剪树枝（处）","擦拭灯具（组）","更换太阳能信号机主板（块）","安装灯条（组）","安装太阳能晒板（块）","安装护栏（组）","调整灯线电源线接地线（次）","更换井盖（个）","更换相位板（块）","更换被撞灯杆（根）","放发电机应急保障(ex2500cx)（台）","发电机台班","放置临时信号灯应急保障（台）","临时信号灯台班","临时停电应急保障（次）","临时停电台班","维修太阳能信号接收器（套）","合闸","恢复信号灯检查井（次）","拆除灯杆（根）","基础施工（次）","加固机箱（台）","修复灯部件（个）","机箱部件更换修复（个）","清除小广告（个）","喷涂（次）","安装更换检查孔（个）","井盖调整修复（次）","系统校时(次）","两米接地签字（根）","扁铁（一根4米）","螺丝（套）","关闭电表箱窗户（次）","维修手孔井（套）","更换220转24电源（块）","灯杆漆面反光膜翻新（根）","安装黄闪灯（套）","更换黄闪灯（套）","热熔标线画线（组）","更换转换器（24v）（个）","抱箍（套）","调整太阳能板（次）","关闭喇叭（次）","更换空开（个）","更换线缆（2*6）m","更换太阳能接触器（个）","更换临时信号机（台）","小电瓶（个）","调整灯杆（根）","拆除黄闪（个）","拆除黄闪灯杆（根）","机箱被撞（次）","其他","拆除线缆（米）","热熔标线（实线）平米","电缆直埋保护管PE管（米）","更换变压器（12w）（个）","手动控制板恢复（个）","拆除机箱（个）","拆除信号机（个）","新立灯杆（个）","拆除标志杆（根）","安装标志杆（根）","更换非机动车灯板（个）"]
[1,"2021-09-01","李木路望红路村口","黄闪灯安装",{"$nulls":78},1]
[2,"2021-09-01","龙塘路与李木路","停电",{"$nulls":53},1,1,1,1,1]
[3,"2021-09-01","顺畅大道与机场北街","换信号机一台  天线两个",{"$nulls":17},2,null,1]
[4,"2021-09-01","京沈路与顺于路","更换电瓶三块",{"$nulls":53},1,null,1,1,1]
[5,"2021-09-02","顺白路与望泉北街","摆放临时信号灯",{"$nulls":53},1,1,1,1,1]
[6,"2021-09-02","李遂村李魏路","更换黄闪灯一个",{"$nulls":78},1,1,{"$nulls":11},1]
[7,"2021-09-02","京沈路与顺于路","更换电瓶三块",{"$nulls":53},1,null,1,1,1]
[8,"2021-09-03","木燕路与赵陈路","摆放临时信号灯",{"$nulls":53},1,1,1,1,1]
[9,"2021-09-03","李堡路与平沿路","机箱喷涂翻新",{"$nulls":67},4]
[10,"2021-09-03","机场东路与苏活路口","3X4电缆356米，5X1.5电缆126米，24V转换器3块，太阳能信号灯一组，太阳能信号机主机一个，从机二个，天线三根，太阳能机箱一个，抱箍4套，信号灯灯杆一根。",1,null,null,1,null,null,null,356,126,{"$nulls":8},3,null,null,2,{"$nulls":7},1,1,{"$nulls":21},1,{"$nulls":29},3,4,{"$nulls":14},356]
[11,"2021-09-03","花园西路与林荫路","补装100米辅牌一个",{"$nulls":36},1]
[12,"2021-09-03","京沈路与顺于路","更换电瓶三块",{"$nulls":53},1,null,1,1,1]
[13,"2021-09-03","通顺路与金牛街","更换维特瑞太阳能信号机一台，配时调整为，早晚高峰东西40，南北50，平峰东西35，南北50",{"$nulls":24},1,null,null,null,1]
[14,"2021-09-04","外环线与现代二厂","换绿灯板15w24v一个，变压器15w24v一个",{"$nulls":5},1,{"$nulls":7},1]
[15,"2021-09-04","陈马路与魏蒋路","换井盖一套",{"$nulls":49},1,{"$nulls":19},1,{"$nulls":5},1]
[16,"2021-09-04","苏活","灯歪斜扶正",{"$nulls":23},1]
[17,"2021-09-04","顺密路银杏园","更换红灯板太阳能12v一个",{"$nulls":5},1]
[18,"2021-09-05","裕安路与安泰大街","换线248米",{"$nulls":8},248]
[19,"2021-09-05","顺平路与李木路","换5×1.5线127米",{"$nulls":8},127]
[20,"2021-09-05","京沈路与顺于路","更换电瓶三块",{"$nulls":53},1,null,1,1,1]
[21,"2021-09-05","顺平路与金航西路","换电瓶两块",{"$nulls":9},2]
[22,"2021-09-05","京沈路与顺于路","更换电瓶",{"$nulls":53},1,null,1,1,1]
[23,"2021-09-06","京沈路与顺于路","更换电瓶",{"$nulls":53},1,null,1,1,1]
[24,"2021-09-06","天柱东路与罗红艺术馆  杨林出口","摆放临时信号灯",{"$nulls":53},1,1,1,1,1]
[25,"2021-09-06","木燕路与赵陈路","更换电源线3X4电缆560米",{"$nulls":7},560,{"$nulls":89},560]
[26,"2021-09-06","裕安路与安泰大街"," 跳闸",{"$nulls":53},1,null,1,1,1,null,1]
[27,"2021-09-06","顺密路与减河北路","更换电瓶2块，太阳能板2块",{"$nulls":9},2,{"$nulls":22},2]
[28,"2021-09-06","顺兴街与顺平南线","上电口跳闸",{"$nulls":53},1,null,1,1,1,null,1]
[29,"2021-09-06","京沈路与顺于路","更换电瓶三块",{"$nulls":53},1,null,1,1,1]
[30,"2021-09-07","顺平辅线南彩派出所","上电口跳闸",{"$nulls":53},1,null,1,1,1,null,1]
[31,"2021-09-07","西辛小区与顺白路","更换2块太阳能电池",{"$nulls":9},2]
[32,"2021-09-07","李堡路与平沿路","更换300非机动绿灯板一块，12V",{"$nulls":105},1]
[33,"2021-09-07","火寺路与顺于路","安装禁止鸣笛警示牌",{"$nulls":36},1]
[34,"2021-09-07","富密路与昌金路","辅牌恢复",{"$nulls":33},1,null,null,1]
[35,"2021-09-07","顺喜山庄门口","安装禁止鸣笛警示牌",{"$nulls":36},1]
[36,"2021-09-07","西马各庄火寺路","安装禁止鸣笛警示牌",{"$nulls":36},1]
[37,"2021-09-07","西马各庄火寺路","安装禁止鸣笛警示牌",{"$nulls":36},1]
[38,"2021-09-07","顺沙路的昌平交界往东南侧","井盖已更换",{"$nulls":49},1,{"$nulls":19},1,{"$nulls":5},1]
[39,"2021-09-07","京沈路与顺于路","更换电瓶三块",{"$nulls":53},1,null,1,1,1]
[40,"2021-09-07","右堤路与滨河北路","上级供电跳闸",{"$nulls":53},1,null,1,1,1,null,1]
[41,"2021-09-08","平沿路与顺和路","上级供电没电，摆放临时信号灯",{"$nulls":53},1,1,1,1,1]
[42,"2021-09-08","顺平路与机场东路","换灯一组，正灯一组",1,{"$nulls":22},1]
[43,"2021-09-08","顺白路与望泉北街","标识标牌低已整改",{"$nulls":33},1,null,null,1]
[44,"2021-09-08","顺白路与望泉北街","太阳能板朝向调整",{"$nulls":83},1]
[45,"2021-09-08","杜杨南街与顺西南路","人行步道灯喇叭已关闭",{"$nulls":84},1]
[46,"2021-09-08","李堡路与平沿路","机箱喷涂翻新",{"$nulls":67},3]
[47,"2021-09-09","滨河北门","上口跳闸",{"$nulls":53},1,null,1,1,1,null,1]
[48,"2021-09-09","左堤路与河南村闸桥","机箱跳闸",{"$nulls":53},1,null,1,1,1,null,1]
[49,"2021-09-09","顺和路与林河大街","机箱跳闸合闸",{"$nulls":53},1,null,1,1,1,null,1]
[50,"2021-09-09","顺和路与平沿路","临时灯已撤除",{"$nulls":53},1,null,1,null,1]
[51,"2021-09-09","李木路与赵陈路","跳闸",{"$nulls":53},1,null,1,1,1,null,1]
[52,"2021-09-09","顺白路与梅香街","标志牌已恢复",{"$nulls":33},1,null,null,1]
[53,"2021-09-09","顺白路机电院机床门口","停车让行已恢复",{"$nulls":33},1,null,null,1]
[54,"2021-09-09","安华街与馨园五路","标志牌已拆除",{"$nulls":33},1]
[55,"2021-09-09","裕安路与安泰大街","中移摄像头导致跳闸",{"$nulls":53},1,null,1,1,1,null,1]
[56,"2021-09-09","京沈路与顺于路","更换电瓶三块",{"$nulls":53},1,null,1,1,1]
[57,"2021-09-10","机场北线与顺航路","机箱喷涂",{"$nulls":67},1]
[58,"2021-09-10","赵陈路与顺密路","刺猬把线咬断了",{"$nulls":48},1]
[59,"2021-09-10","林河南大街与仁和园二街","换信号机一台",{"$nulls":19},1]
[60,"2021-09-10","火沙路与裕庆路","更换赛诺交科信号机一台",{"$nulls":19},1]
[61,"2021-09-10","顺沙路与火寺路","灯被刮恢复",{"$nulls":23},1]
[62,"2021-09-10","京沈路与顺于路","更换电瓶三块",{"$nulls":53},1,null,1,1,1]
[63,"2021-09-10","机场北街与金航西路","机箱喷涂翻新",{"$nulls":67},4]
[64,"2021-09-10","金航中路囗","机箱喷涂翻新",{"$nulls":67},4]
[65,"2021-09-10","机场北线口","机箱喷涂翻新",{"$nulls":67},3]
[66,"2021-09-10","顺畅路口","机箱喷涂翻新",{"$nulls":67},4]
[67,"2021-09-10","金岸路口","机箱喷涂翻新",{"$nulls":67},4]
[68,"2021-09-10","航港二路口","机箱喷涂翻新",{"$nulls":67},4]
[69,"2021-09-11","通顺路与拥军路","换线150米",{"$nulls":8},150]
[70,"2021-09-11","建新东街与建南西侧","单行线时间已更改",{"$nulls":33},1,null,null,1]
[71,"2021-09-11","通顺路辅路与建南西侧路","禁止右转时间已更改",{"$nulls":33},1,null,null,1]
[72,"2021-09-11","京沈路与顺于路","更换电瓶三块",{"$nulls":53},1,null,1,1,1]
[73,"2021-09-12","顺康路鑫绿都菜市场","黄闪灯扶正",{"$nulls":23},1]
[74,"2021-09-12","京沈路白各庄村口","变压器没电，摆放临时信号灯",{"$nulls":53},1,1,1,1,1]
[75,"2021-09-13","京沈路与天北路","换红色灯板一块",{"$nulls":5},1]
[76,"2021-09-13","顺平路与顺畅大道","更换5A保险6个，更换5*1.5电源线152米",{"$nulls":8},152,null,null,null,6]
[77,"2021-09-13","顺平路与顺畅大道","更换400绿灯灯板一块",{"$nulls":5},1]
[78,"2021-09-13","顺沙路与火寺路","更换机动车300红灯板一块，15v15w变压器一个",{"$nulls":6},1,{"$nulls":8},1]
[79,"2021-09-13","京沈路与顺于路","更换电瓶三块",{"$nulls":53},1,null,1,1,1]
[80,"2021-09-14","京沈路与顺于路","更换电瓶",{"$nulls":53},1,null,1,1,1]
[81,"2021-09-14","减河北路与左堤辅线","人行灯歪斜已扶正",{"$nulls":41},1]
[82,"2021-09-14","京沈路与顺于路","更换电瓶三块",{"$nulls":53},1,null,1,1,1]
[83,"2021-09-15","裕华路与顺平路","上端电源跳闸",{"$nulls":53},1,null,1,1,1,null,1]
[84,"2021-09-15","天柱东路与阳林出口","更换电源线3x4 电缆50米",{"$nulls":7},50,{"$nulls":89},50]
[85,"2021-09-15","府前街交通局","绿灯板已更换",{"$nulls":5},1]
[86,"2021-09-15","裕安路与安庆大街","更换6a保险一个",{"$nulls":12},1]
[87,"2021-09-15","顺平路与裕华路","上级供电跳闸",{"$nulls":53},1,null,1,1,1,null,1]
[88,"2021-09-15","顺平路与裕华路","摆放临时信号灯",{"$nulls":53},1,1,1,1,1]
[89,"2021-09-15","京沈路与顺于路","更换电瓶三块",{"$nulls":53},1,null,1,1,1]
[90,"2021-09-15","富元街与金桥路","上级供电跳闸",{"$nulls":53},1,null,1,1,1,null,1]
[91,"2021-09-16","顺平路与裕华路","换5×1.5信号线286米",{"$nulls":8},286]
[92,"2021-09-17","昌金路与龙凤路","机箱门已恢复",{"$nulls":27},1]
[93,"2021-09-17","龙塘路李桥镇政府","红绿灯已扶正",{"$nulls":23},1]
[94,"2021-09-17","顺密路与木林幼儿园"," 换绿灯板一块",{"$nulls":5},1]
[95,"2021-09-17","拥军路与顺平辅线","更换国标人行灯八组，灯杆四根，线五十米",null,null,8,null,4,null,null,null,50]
[96,"2021-09-17","京沈路与顺于路","更换电瓶三块",{"$nulls":53},1,null,1,1,1]
[97,"2021-09-18","顺平路与南焦路","换线85米，保险两个",{"$nulls":8},85,null,null,null,2]
[98,"2021-09-18","苏活","上电口没电，摆放临时灯",{"$nulls":53},1,1,1,1,1]
[99,"2021-09-18","机场东路与苏活路口","更换16A空开一个，25A空开一个，220转24v转换器两个，",{"$nulls":81},2,null,null,null,2]
[100,"2021-09-18","拥军路与顺平辅线","热熔标线已画完",{"$nulls":80},1,{"$nulls":15},357]
[101,"2021-09-18","京沈路与顺于路","更换电瓶三块",{"$nulls":53},1,null,1,1,1]
[102,"2021-09-19","拥军路与裕龙一街","换1.5平方5线电缆683米，赛诺交科信号机一台",{"$nulls":8},683,{"$nulls":10},1]
[103,"2021-09-19","白马路水上公园门口","摆放临时信号灯",{"$nulls":53},1,1,1,1,1]
[104,"2021-09-19","左堤路与龙塘路","更换电瓶两块",{"$nulls":9},2]
[105,"2021-09-19","石园大卖场","画线立标牌",{"$nulls":36},1,{"$nulls":43},1,{"$nulls":15},14]
[106,"2021-09-19","西辛小学","画线立标牌",{"$nulls":36},1,{"$nulls":43},1,{"$nulls":15},10]
[107,"2021-09-19","西门外","画线立标牌",{"$nulls":36},1,{"$nulls":43},1,{"$nulls":15},8]
[108,"2021-09-19","医专","画线立标牌，新做基础立杆安装标牌",{"$nulls":36},1,{"$nulls":25},1,{"$nulls":17},1,{"$nulls":15},14,{"$nulls":7},1]
[109,"2021-09-19","通顺路与昌金路","画线立标牌",{"$nulls":36},1,{"$nulls":43},1,{"$nulls":15},32]
[110,"2021-09-19","京沈路与顺于路","更换电瓶三块",{"$nulls":53},1,null,1,1,1]
[111,"2021-09-20","民泰路与北务西路","上口电源跳闸",{"$nulls":53},1,null,1,1,1,null,1]
[112,"2021-09-20","石园大街与顺福路","人行步道灯扶正",{"$nulls":41},1]
[113,"2021-09-20","璧富路与小葛村","换线2×6平方127米",{"$nulls":86},127]
[114,"2021-09-21","龙塘路与平沿路","更换绿灯两块",{"$nulls":5},2]
[115,"2021-09-21","中干渠路与山丁支线","换绿灯板一块300满盘",{"$nulls":6},1]
[116,"2021-09-21","木卲路与中干渠路","换300绿灯板一块",{"$nulls":6},1]
[117,"2021-09-21","正元南大街与纵二路","人行步道灯恢复换线215更换灯板2块",{"$nulls":6},2,null,215]
[118,"2021-09-22","安宁大街与裕华路","信号灯换线137米5线1.5平方，人行灯板2块",{"$nulls":6},2,null,137]
[119,"2021-09-22","京沈路与顺于路","更换电瓶三块",{"$nulls":53},1,null,1,1,1]
[120,"2021-09-23","火寺路与顺于路","灯维固定",{"$nulls":64},1]
[121,"2021-09-23","木燕路杨镇一中西门","歪已扶正",{"$nulls":23},1]
[122,"2021-09-23","拥军路与顺平辅线","手动培训已完成",{"$nulls":94},1]
[123,"2021-09-23","木燕路与杨镇一中","换线5×1.5，160米",{"$nulls":8},160]
[124,"2021-09-23","昌金路与木燕路","更换红灯一个",{"$nulls":5},1]
[125,"2021-09-23","京沈路与顺于路","更换电瓶三块",{"$nulls":53},1,null,1,1,1]
[126,"2021-09-24","李木路与赵陈路","换输出保险一个",{"$nulls":12},1]
[127,"2021-09-24","裕安路与安泰大街路口周边","安装禁止鸣笛牌子",{"$nulls":36},1]
[128,"2021-09-24","木北路与顺平南线","管道已修复",{"$nulls":94},1]
[129,"2021-09-24","龙塘路与平沿路","灯组倾斜已扶正",{"$nulls":23},1]
[130,"2021-09-24","火沙路与裕安路","更换400机动车红灯板2块，400非机动车红灯板2块",{"$nulls":5},2,{"$nulls":99},2]
[131,"2021-09-24","顺平辅线市政门口","更换电瓶两块",{"$nulls":9},2]
[132,"2021-09-24","京沈路与顺于路","更换电瓶三块",{"$nulls":53},1,null,1,1,1]
[133,"2021-09-24","通顺路与顺祥街","更换三个从机两块电池",{"$nulls":9},2,{"$nulls":10},3]
[134,"2021-09-25","天柱东路与翠华街","临时灯已关闭",{"$nulls":34},1,{"$nulls":18},1,null,1,1,1]
[135,"2021-09-25","顺白路外环路","换400绿灯一个，自行车绿灯一个。",{"$nulls":5},1,1]
[136,"2021-09-25","火沙辅线与裕安路","跳闸合闸",{"$nulls":53},1,null,1,1,1,null,1]
[137,"2021-09-25","陈马路与红寺一街","更换非机动两红两绿一黄，机动三绿一红，都是400",{"$nulls":5},4,{"$nulls":99},3]
[138,"2021-09-25","京沈路与顺于路","更换电瓶三块",{"$nulls":53},1,null,1,1,1]
[139,"2021-09-25","火寺路与安富街","更换3*6电源线386米",{"$nulls":7},386,{"$nulls":89},386]
[140,"2021-09-26","新顺北大街与便民街","更换保险一个",{"$nulls":12},1]
[141,"2021-09-26","胡各庄小学","摆放临时信号灯",{"$nulls":53},1,1,1,1,1]
[142,"2021-09-26","白马路与赵湘路","更换机动车道300红灯板一块",{"$nulls":6},1]
[143,"2021-09-26","白马路与后苏桥","黄闪灯已扶正"]
[144,"2021-09-26","昌金路与龙凤路","更换直流300灯板两块，非机动和机动车道",{"$nulls":6},1,{"$nulls":98},1]
[145,"2021-09-26","昌金路与山丁路","更换机动车绿灯板一个，变压器一个",{"$nulls":5},1,{"$nulls":7},1]
[146,"2021-09-26","国家会计学院南门东西两侧","歪斜已修复\n换小电瓶三块  黄闪灯一个",{"$nulls":23},1,{"$nulls":54},1,1,{"$nulls":9},3,null,1]
[147,"2021-09-26","木邵路与龙尹路","更换非机动车400绿灯灯板一块",{"$nulls":105},1]
[148,"2021-09-26","京沈路与顺于路","更换电瓶三块",{"$nulls":53},1,null,1,1,1]
[149,"2021-09-26","现代学院南门西侧","换黄闪灯一个",{"$nulls":78},1,1,{"$nulls":11},1]
[150,"2021-09-26","安平北街与十中路","跳闸",{"$nulls":53},1,null,1,1,1,null,1]
[151,"2021-09-27","站前北街与顺恒大街","换天线一根",{"$nulls":17},1]
[152,"2021-09-27","乾安路与顺兴街","恢复人行道盲音",{"$nulls":94},1]
[153,"2021-09-27","陈马路与望红路","换24V变压器一个",{"$nulls":13},1]
[154,"2021-09-27","陈马路与鲜花港三路","换绿灯一个，机动车绿灯",{"$nulls":5},1]
[155,"2021-09-27","昌金路与陈马路","换机动车黄灯一个，400",{"$nulls":5},1]
[156,"2021-09-27","木燕路与园区南路","灯围已修复",{"$nulls":64},1]
[157,"2021-09-27","顺康路港馨西区西门","更换300非机动车红灯板一块",{"$nulls":105},1]
[158,"2021-09-27","顺福路与平沿路","更换非机动车300绿灯板一块",{"$nulls":105},1]
[159,"2021-09-27","京沈路与顺于路","更换电瓶三块",{"$nulls":53},1,null,1,1,1]
[160,"2021-09-27","顺平路与南焦路","礼让行人黄色热熔已完成",{"$nulls":80},10,{"$nulls":15},800]
[161,"2021-09-28","拥军路与顺平辅线","拥军路礼让行人黄色热熔已完成",{"$nulls":80},6,{"$nulls":15},480]
[162,"2021-09-28","安平北街与裕安路","更换绿灯400的一个",{"$nulls":5},1]
[163,"2021-09-28","木燕路与杨镇一中","换绿灯一个",{"$nulls":5},1]
[164,"2021-09-28","木燕路与东疃村","南侧灯眉已修复，换绿灯1一个",{"$nulls":5},1,{"$nulls":5},1,{"$nulls":52},1]
[165,"2021-09-28","白马路与中干渠路","北侧更换红灯一个，灯围已修复，南侧跟换红灯一个",{"$nulls":5},2,{"$nulls":4},1,{"$nulls":53},1]
[166,"2021-09-28","机场东路与杜杨北街","更换400非机动车绿灯板一块",{"$nulls":105},1]
[167,"2021-09-28","木燕路与道太路","更换红灯一个",{"$nulls":5},1]
[168,"2021-09-28","外环路与石门市场6号门东侧","更换机动车400绿灯灯板两块",{"$nulls":5},2]
[169,"2021-09-29","李木路与赵陈路","更换6A保险一个",{"$nulls":12},1]
[170,"2021-09-29","李木路与大荣路","西向东 更换400红绿两个",{"$nulls":5},2]
[171,"2021-09-29","昌金路与高下路","更换井盖一套",{"$nulls":49},1,{"$nulls":19},1,{"$nulls":5},1]
[172,"2021-09-29","李木路与大荣路","北向南 更换400红绿两个",{"$nulls":5},2]
[173,"2021-09-29","李木路与大荣路","南向北 更换400红绿两个",{"$nulls":4},2]
[174,"2021-09-29","李木路与大荣路","东向西 更换400红一个",{"$nulls":4},1]
[175,"2021-09-29","李木路与赵陈路","更换绿灯一个",{"$nulls":4},1]
[176,"2021-09-29","李木路与赵陈路","换绿灯400的一个",{"$nulls":4},1]
[177,"2021-09-29","石门市场5号门与新二中路口","南侧灯线漏电  换线38米",{"$nulls":7},38,{"$nulls":89},38]
[178,"2021-09-29","南焦路与机场北街","红绿灯已关闭",{"$nulls":34},1]
[179,"2021-09-29","京沈路与顺于路","更换电瓶三块",{"$nulls":53},1,null,1,1,1]
[180,"2021-09-30","白马路与顺密路","机箱被撞，以摆放临时灯",{"$nulls":53},1,1,1,1,1,{"$nulls":35},1]
[181,"2021-09-30","火沙路与裕安路","更换太阳能转换器一个",{"$nulls":81},1]
[182,"2021-09-30","特殊教育学校","换临时灯信号机一个",{"$nulls":53},1,1,1,1,1,{"$nulls":30},1]
[183,"2021-09-30","白马路与顺密路","更换信号机机箱一个",{"$nulls":29},1]
[184,"2021-09-30","木燕路田家营","换黄闪灯一个，小电瓶2块",{"$nulls":78},1,1,{"$nulls":9},2,null,1]
[185,"2021-09-30","白马路与顺密路","机箱已固定",{"$nulls":63},1]
[186,"2021-09-30","李魏路李遂派出所"," 换黄闪灯一个",{"$nulls":78},1,1,{"$nulls":11},1]
[187,"2021-09-30","顺畅大道与机场北街","更换太阳能接触器一个",{"$nulls":87},1]
[188,"2021-09-30","京沈路与顺于路","更换电瓶三块",{"$nulls":53},1,null,1,1,1]
[189,"2021-09-22","安宁大街裕华路路口","人行灯杆被撞",{"$nulls":37},1]
[190,"2021-09-30","白马路与顺密路路口","机箱被撞",{"$nulls":93},1]
[191,"2021-09-09","陈马路与木北路路口","灯杆被撞",{"$nulls":37},1]
[192,"2021-09-01","港馨西区西门","调整配时",{"$nulls":24},1]
[193,"2021-09-01","苏活小区","调整配时",{"$nulls":25},1]
[194,"2021-09-01","港馨家园西门","调整配时",{"$nulls":24},1]
[195,"2021-09-01","安宁大街裕安路","调整配时",{"$nulls":25},1]
[196,"2021-09-02","火沙路与美术学院","调整配时",{"$nulls":25},1]
[197,"2021-09-02","火寺路与裕庆路","调整配时",{"$nulls":25},1]
[198,"2021-09-02","林荫路与天柱东路","调整配时",{"$nulls":24},1]
[199,"2021-09-02","顺平路与顺康路口","调整配时",{"$nulls":25},1]
[200,"2021-09-03","天柱东路丽苑街","调整配时",{"$nulls":25},1]
[201,"2021-09-03","通顺路与金牛街","调整配时",{"$nulls":25},1]
[202,"2021-09-07","顺白路西辛小区","调整配时",{"$nulls":24},1]
[203,"2021-09-07","顺平路与新顺南大街","调整配时",{"$nulls":25},1]
[204,"2021-09-08","火沙裕庆","调整配时",{"$nulls":24},1]
[205,"2021-09-08","通顺路石园南大街","调整配时",{"$nulls":24},1]
[206,"2021-09-08","机场东路四纬路","调整配时",{"$nulls":24},1]
[207,"2021-09-09","李魏路与顺平路","调整配时",{"$nulls":25},1]
[208,"2021-09-09","顺白路中晟馨苑","调整配时",{"$nulls":24},1]
[209,"2021-09-09","机场东路四纬路","调整配时",{"$nulls":24},1]
[210,"2021-09-11","机场东路龙塘路","调整配时",{"$nulls":24},1]
[211,"2021-09-14","天北路与花园西街","调整配时",{"$nulls":24},1]
[212,"2021-09-15","木北路小店路口","调整配时",{"$nulls":25},1]
[213,"2021-09-16","顺平路南焦路","调整配时",{"$nulls":24},1]
[214,"2021-09-17","龙塘路平沿路","调整配时",{"$nulls":24},1]
[215,"2021-09-17","木邵路木林中心小学校","调整配时",{"$nulls":25},1]
[216,"2021-09-17","顺密路与木燕路","调整配时",{"$nulls":24},1]
[217,"2021-09-17","木邵路木林小学","调整配时",{"$nulls":24},1]
[218,"2021-09-18","中晟馨苑","调整配时",{"$nulls":24},1]
[219,"2021-09-18","京密路火沙辅线","调整配时",{"$nulls":25},1]
[220,"2021-09-21","木燕路南辛庄村口","调整配时",{"$nulls":24},1]
[221,"2021-09-22","顺平路与机场东路","调整配时",{"$nulls":25},1]
[222,"2021-09-23","京沈路与国展地铁站","调整配时",{"$nulls":26},1]
[223,"2021-09-23","京沈路与天纬二街路口","调整配时",{"$nulls":26},1]
[224,"2021-09-23","京沈路与安宁大街路口","调整配时",{"$nulls":26},1]
[225,"2021-09-23","京沈路与安详大街路口","调整配时",{"$nulls":26},1]
[226,"2021-09-23","京沈路与火沙路路口","调整配时",{"$nulls":26},1]
[227,"2021-09-23","京沈路与火沙辅线路口","调整配时",{"$nulls":26},1]
[228,"2021-09-23","京沈路与后沙峪地铁站路口","调整配时",{"$nulls":26},1]
[229,"2021-09-23","顺平路与顺畅大道","调整配时",{"$nulls":25},1]
[230,"2021-09-23","赵陈路与顺密路","调整配时",{"$nulls":24},1]
[231,"2021-09-23","顺密路与后鲁各庄路","调整配时",{"$nulls":24},1]
[232,"2021-09-23","顺密路与前鲁各庄路","调整配时",{"$nulls":24},1]
[233,"2021-09-24","通顺路与顺丰大街","调整配时",{"$nulls":24},1]
[234,"2021-09-24","顺于路南焦路","调整配时",{"$nulls":25},1]
[235,"2021-09-24","京沈路天纬二街","调整配时",{"$nulls":24},1]
[236,"2021-09-26","木北路小店路口","调整配时",{"$nulls":25},1]
[237,"2021-09-27","机场东路与三四营村路口","调整配时",{"$nulls":24},1]
[238,"2021-09-27","机场东路与苏活路口","调整配时",{"$nulls":25},1]
[239,"2021-09-28","京沈路与天北路","调整配时",{"$nulls":24},1]
[240,"2021-09-28","天北路花园西街路口","调整配时",{"$nulls":24},1]
[241,"2021-09-28","天北路天柱东路路口","调整配时",{"$nulls":24},1]
[242,"2021-09-30","白马路与坤安路","调整配时",{"$nulls":25},1]
[243,"2021-09-30","龙塘路崇各庄路口","调整配时",{"$nulls":25},1]
[244,"2021-09-30","李天路机场二高桥下","调整配时",{"$nulls":25},1]
[245,"2021-09-30","顺平辅线与李魏路","调整配时",{"$nulls":25},1]
[246,"2021-09-02","通顺路与石园南大街","校正时间",{"$nulls":70},1]
[247,"2021-09-02","顺和路与石园南大街","校正时间",{"$nulls":70},1]
[248,"2021-09-02","石园南大街与顺康路","校正时间",{"$nulls":70},1]
[249,"2021-09-02","石园南大街与顺泰路","校正时间",{"$nulls":70},1]
[250,"2021-09-02","石园南大街与顺福路","校正时间",{"$nulls":70},1]
[251,"2021-09-09","石门地铁站","校正时间",{"$nulls":70},1]
[252,"2021-09-16","右堤路与顺沙路","校正时间",{"$nulls":70},1]
[]
[]
[]
[{"$nulls":60},1]
["合计",null,null,null,{"$f":"SUM(E4:E259)","v":2},0,8,1,9,31,10,1390,2419,12,1,1,12,3,0,1,0,6,0,4,5,0,0,8,27,21,7,{"$f":"SUM(AF4:AF259)","v":1},2,2,0,0,2,7,2,0,17,2,0,0,0,2,0,0,0,0,0,0,1,3,0,1,0,55,12,55,55,55,0,15,0,0,1,1,4,0,0,31,0,3,{"$f":"SUM(BW4:BW259)","v":7},0,0,0,0,3,0,0,6,5,22,6,4,{"$f":"SUM(CJ4:CJ259)","v":1},1,2,127,1,1,5,0,5,0,2,3,0,1715,1390,0,0,0,0,0,0,1,11]

{"sheet":"10月","index":9,"n_rows":271,"n_cols":116,"rows_kept":271,"cut":false,"hidden":false,"merged":[[0,0,0,63],[270,0,270,3]]}
["交通设施日常维护-设备设施维修纪录明细"]
[{"$nulls":4},1,2,3,4,5,6,7,8,9,10,11,12,13,14,15,16,17,18,19,20,21,22,23,24,25,26,27,28,29,30,31,32,33,34,35,36,37,38,39,40,41,42,43,44,45,46,47,48,49,50,51,52,53,54,55,56,57,58,59,60,61,62,63,64,65,66,67,68,69,70,71,72,73,74,75,76,77,78,79,80,81,82,83,84,85,86,87,88,89,90,91,92,93,94,95,96,97,98,99,100,101,102,103,104,105,106,107,null,null,null,108,109]
["序号","日期","维修位置","维修内容","更换信号灯（组）","信号灯型号（备注）","更换步道灯（组）","更换信号灯杆（根）","更换步道灯杆（根）","更换灯板（400*400块）","更换灯板（300块）","更换电源线3*4（m)","更换控制线缆5*1.5（m)","更换蓄电池（块）","更换灯围（个）","更换灯罩（个）","更换保险（个/组）","更换变压器（24v15w）（个）","更换变压器（24v11w）（个）","更换变压器（15v12w）（个）","更换太阳能模块（个）","更换天线（根）","更换过充过放（个）","更换信号机（台）","更换太阳能信号灯从机（台）","更换锁具（套）","安装手孔盖（个）","调整行车灯（套）","基本路口信号优化（处）","信号实时优化（处）","主干道绿波优化（处）","关闭信号机机箱门（个）","更换太阳能信号机主机（台）","更换信号机机箱（套）","调整标志牌（套）","拆除灯具（组）","更换太阳能晒板（块）","拆除标志牌（套）","关闭灯头（个）","更换漏电（个）","安装标志牌（套）","确认灯杆被撞（次）","安（拆）倒计时（块）","安装电表箱（个）","拆除探头线（处）","调整步道灯（处）","修剪树枝（处）","擦拭灯具（组）","更换太阳能信号机主板（块）","安装灯条（组）","安装太阳能晒板（块）","安装护栏（组）","调整灯线电源线接地线（次）","更换井盖（个）","更换相位板（块）","更换被撞灯杆（根）","放发电机应急保障(ex2500cx)（台）","发电机台班","放置临时信号灯应急保障（台）","临时信号灯台班","临时停电应急保障（次）","临时停电台班","维修太阳能信号接收器（套）","合闸","恢复信号灯检查井（次）","拆除灯杆（根）","基础施工（次）","加固机箱（台）","修复灯部件（个）","机箱部件更换修复（个）","清除小广告（个）","喷涂（次）","安装更换检查孔（个）","井盖调整修复（次）","系统校时(次）","两米接地签字（根）","扁铁（一根4米）","螺丝（套）","关闭电表箱窗户（次）","维修手孔井（套）","更换220转24电源（块）","灯杆漆面反光膜翻新（根）","安装黄闪灯（套）","更换黄闪灯（套）","热熔标线画线（组）","更换转换器（24v）（个）","抱箍（套）","调整太阳能板（次）","关闭喇叭（次）","更换空开（个）","更换线缆（2*6）m","更换太阳能接触器（个）","更换临时信号机（台）","小电瓶（12V个）","调整灯杆（根）","拆除黄闪（个）","拆除黄闪灯杆（根）","机箱被撞（次）","其他","拆除线缆（米）","热熔标线（米）","电缆直埋保护管PE管（米）","更换变压器（12w）（个）","手动控制板恢复（个）","拆除机箱（个）","拆除信号机（个）","新立灯杆（个）","拆除标志杆（根）","安装标志杆（根）","更换非机动车灯板（个）","更换灯眉（个)","热熔标线网格线（平米）","更换左转箭头灯（个）","更换机箱门（个）","高端联网智能交通信号机（台）","高端联网智能交通信号机箱（台）"]
[1,"2021-10-01","水上公园","摆放临时灯",{"$nulls":54},1,1]
[2,"2021-10-01","李木路与西江头 ","更换黄闪灯一个",{"$nulls":78},1,1,{"$nulls":11},1]
[3,"2021-10-01","天北路南侧与天柱路","更换黄闪灯一组",{"$nulls":78},1,1,{"$nulls":11},1]
[4,"2021-10-01","空港街道花园西街东侧","更换12伏电瓶一块",{"$nulls":89},1]
[5,"2021-10-01","通顺路与站前东街","更换400非机动车绿灯板一块",{"$nulls":5},1,{"$nulls":99},1]
[6,"2021-10-01","通顺路与南外环路","更换新灯两组",2]
[7,"2021-10-01","通顺路与复兴东街","换线50米",{"$nulls":8},50]
[8,"2021-10-01","顺白路与外环路","换绿色灯板一块",{"$nulls":5},1]
[9,"2021-10-01","天柱东路与翠华街","临时信号灯",{"$nulls":54},1,1]
[11,"2021-10-02","顺于路与顺白路","更换人行步道灯一组",null,null,1]
[12,"2021-10-02","顺平南线柴家林路口","跳闸",{"$nulls":59},1]
[13,"2021-10-02","顺平南线啤酒厂南门","更换绿灯灯板两块400",{"$nulls":5},2]
[14,"2021-10-02","昌金路火寺路","调整配时",{"$nulls":24},1]
[15,"2021-10-02","北木路火寺路","调整配时",{"$nulls":24},1]
[16,"2021-10-02","顺平南线河南村口","标志牌调整",{"$nulls":30},1]
[17,"2021-10-02","林河开发区","标志牌调整",{"$nulls":30},1]
[18,"2021-10-02","京沈路与顺于路","更换电池三块",{"$nulls":9},3]
[19,"2021-10-03","天柱东路与天纬三路","机箱跳闸",{"$nulls":59},1]
[20,"2021-10-03","顺平南线与七大路","灯扶正",{"$nulls":23},1]
[21,"2021-10-03","白马路与中干渠","更换保险一个",{"$nulls":12},1]
[22,"2021-10-03","京沈路与顺于路","供电故障恢复",{"$nulls":57},1]
[23,"2021-10-03","顺白路与外环路","换电瓶两块",{"$nulls":9},2]
[24,"2021-10-03","天北路与兆丰一街","更换绿色非机动灯板一块，12伏变压器一个",{"$nulls":5},1,{"$nulls":92},1,{"$nulls":6},1]
[25,"2021-10-04","白马路与中干渠","管线被挖断修复",{"$nulls":48},1]
[27,"2021-10-04","白马路与现代三场","跳闸",{"$nulls":59},1]
[28,"2021-10-04","龙塘路与崇各庄","机箱门关闭",{"$nulls":27},1]
[29,"2021-10-04","中干渠与顺密路","调整配时",{"$nulls":24},1]
[30,"2021-10-04","白马路与中干渠","更换50管15米，5*1.5控制线80米",{"$nulls":8},80,{"$nulls":88},15]
[31,"2021-10-04","龙塘路与平沿路","井加固",{"$nulls":75},1]
[32,"2021-10-04","坤安路与顺恒大街","调整配时",{"$nulls":24},1]
[33,"2021-10-04","平沿路与外环路","换机动车绿灯灯头两个400",{"$nulls":5},2]
[37,"2021-10-05","左堤路与昌金路","灯扶正",{"$nulls":23},1]
[40,"2021-10-05","左堤路与后俸伯路","标志牌调整",{"$nulls":30},1]
[42,"2021-10-06","顺密路与减河北路","更换太阳能板控制器一个",{"$nulls":18},1]
[44,"2021-10-06","顺恒大街与坤安路","换5A输出保险一个"]
[45,"2021-10-06","顺密路与减河北路","换电源板一个",{"$nulls":12},1]
[46,"2021-10-06","龙塘路与左堤路","换电瓶两块",{"$nulls":9},2]
[47,"2021-10-06","顺平路与中干渠路","跳闸",{"$nulls":59},1]
[49,"2021-10-06","顺平南线与中干渠路","换天线一根",{"$nulls":17},1]
[51,"2021-10-06","顺恒大街与坤安路","换5a保险一个",{"$nulls":12},1]
[52,"2021-10-06","顺沙路与张高路","换空开一个 ",{"$nulls":85},1]
[56,"2021-10-07","顺平南线与东方太阳城北门","换绿灯板一块  黄灯板一块都是400，变压器两个12v",{"$nulls":5},2,{"$nulls":92},2]
[57,"2021-10-07","东风小学裕龙花园2区","更换12v电源两块",{"$nulls":89},2]
[58,"2021-10-07","顺平辅线与左堤路","电力恢复",{"$nulls":57},1]
[59,"2021-10-07","顺沙路与南法信中学","步道灯歪斜扶正",{"$nulls":90},1]
[60,"2021-10-07","天柱东路与天纬三街","机箱跳闸",{"$nulls":59},1]
[61,"2021-10-07","天柱东路与天纬二街","跳闸",{"$nulls":59},1]
[62,"2021-10-07","白马路与杨杏路","更换太阳能接电器一个",{"$nulls":87},1]
[63,"2021-10-07","白马路水上乐园","临时灯已撤除",{"$nulls":55},1]
[64,"2021-10-07","安华街与裕丰路","更换太阳能接电器一个",{"$nulls":87},1]
[65,"2021-10-08","规划路北头","标志牌安装",{"$nulls":36},1]
[66,"2021-10-08","规划路南头","标志牌安装",{"$nulls":36},1]
[67,"2021-10-08","梅香街","标志牌安装",{"$nulls":36},1]
[68,"2021-10-08","顺兴街与军营街","更换绿灯板一块12v",{"$nulls":6},1,{"$nulls":98},1]
[69,"2021-10-08","顺白路梅香街","标志牌安装",{"$nulls":36},1]
[70,"2021-10-08","顺白路与石园西路","标志牌安装",{"$nulls":36},1]
[71,"2021-10-08","天北路中国航信路口","换5×1.5线70米",{"$nulls":8},70]
[72,"2021-10-08","顺兴街与杜杨北街","灯眉修复",{"$nulls":106},1]
[73,"2021-10-08","顺白路与军营街","换机动车24V红灯板一块400",{"$nulls":5},1]
[76,"2021-10-09","机场东路与军营街","摆放临时灯",{"$nulls":54},1,1]
[78,"2021-10-09","裕华路与双裕北街","检测门恢复",{"$nulls":68},1]
[79,"2021-10-09","顺康路与裕龙二街","换人行步道灯一组",null,null,1]
[80,"2021-10-09","陈马路与木北路","一个灯组，换线145米。西向东更换红灯头一个，300的",1,{"$nulls":5},1,null,145,{"$nulls":96},1]
[81,"2021-10-09","裕龙二街与石园东口","换人行步道灯一组",null,null,1]
[83,"2021-10-09","顺泰路与裕龙二街","更换 人行灯 一组",null,null,1]
[86,"2021-10-10","白马路马坡镇人民政府","标志牌调整",{"$nulls":30},1]
[87,"2021-10-10","龙塘路崇各庄","调整配时",{"$nulls":24},1]
[88,"2021-10-10","通顺路与站前东街","换手动控制板一个",{"$nulls":99},1]
[89,"2021-10-10","通顺路仓上街","机箱门关闭",{"$nulls":27},1]
[90,"2021-10-10","机场东路与军营北街","上电口跳闸",{"$nulls":59},1]
[91,"2021-10-10","顺沙路与火寺路","换线460米",{"$nulls":8},460]
[92,"2021-10-10","七大路薛家庄桥下","换线268米",{"$nulls":8},268]
[93,"2021-10-10","通顺路与府前街","换5×1.5平方线385米",{"$nulls":8},385]
[94,"2021-10-10","正元南街与纵二路","机箱跳闸",{"$nulls":59},1]
[95,"2021-10-10","金桥路与富元大街横十一路","机箱跳闸",{"$nulls":59},1]
[97,"2021-10-10","机场东路与军营街","换线286米",{"$nulls":8},286]
[100,"2021-10-10","顺白路与旺泉北街","摆放临时灯",{"$nulls":54},1,1]
[101,"2021-10-10","白马路与赵湘路","更换信号机一台，电瓶两块",{"$nulls":9},2,{"$nulls":9},1]
[102,"2021-10-11","顺白路与旺泉北街","临时信号灯撤走",{"$nulls":55},1]
[103,"2021-10-11","顺平南线顺康路","上电口跳闸",{"$nulls":59},1]
[104,"2021-10-11","京沈路天纬二街","倒计时拆除",{"$nulls":38},1]
[105,"2021-10-11","上宏西路与北小营大街","换线189米",{"$nulls":8},189]
[106,"2021-10-11","木孙路与孙唐路","换线3✘4电源线358米",{"$nulls":7},358,{"$nulls":89},358]
[107,"2021-10-11","北小营大街上宏西路","更换振隆信号机一台",{"$nulls":19},1]
[108,"2021-10-11","俸伯地铁站","更换人行灯一组",null,null,1]
[109,"2021-10-11","白马路与桥头村","更换非机动车道黄灯一个，24伏变压器一个",{"$nulls":5},1,{"$nulls":7},1,{"$nulls":91},1]
[110,"2021-10-11","木北路与昌金路","更换400非机动红灯头一个，12v",{"$nulls":5},1,{"$nulls":99},1]
[113,"2021-10-12","安富街与裕华路","机箱门关闭",{"$nulls":27},1]
[114,"2021-10-12","顺平路与杨镇市场","更换法马400灯组一套，绿灯板一个",1,{"$nulls":4},1]
[115,"2021-10-12","双丰街道顺兴街合景香悦四季东区","更换黄闪灯一组",{"$nulls":78},1,1,{"$nulls":11},1]
[116,"2021-10-12","白马路与黄望路","摆放临时信号灯",{"$nulls":54},1,1]
[117,"2021-10-12","白马路与木燕路","调整配时",{"$nulls":25},1]
[118,"2021-10-12","顺平路与七大路","更换红灯头一个",{"$nulls":6},1,{"$nulls":98},1]
[119,"2021-10-12","顺平路与龙尹辅线","灯围修复",{"$nulls":10},1]
[120,"2021-10-12","机场北街与金航中路","换转换器一个",{"$nulls":81},1]
[121,"2021-10-12","木燕路京平高速","更换振隆信号机一台",{"$nulls":19},1]
[122,"2021-10-12","顺平路与木北路","更换绿灯头两块，非机动车道红灯头一块",{"$nulls":5},2,1,{"$nulls":98},1]
[124,"2021-10-12","顺于路与高白路","更换振隆信号机一台",{"$nulls":19},1]
[125,"2021-10-12","白马路与木北路","调整配时",{"$nulls":25},1]
[126,"2021-10-12","白马路与与恒兴路","调整配时",{"$nulls":25},1]
[127,"2021-10-12","恒兴路与开元街","调整配时",{"$nulls":24},1]
[128,"2021-10-13","白马路与桥头村","供电恢复",{"$nulls":57},1]
[129,"2021-10-13","天柱东路与天纬二街","信号灯已停用 \n信号灯牌已悬挂 ",{"$nulls":34},1,null,1]
[130,"2021-10-13","军营街顺兴路","上电口跳闸",{"$nulls":59},1]
[131,"2021-10-13","顺和路与林河大街","换绿灯板400的一块",{"$nulls":5},1]
[132,"2021-10-13","顺和路与顺和花园西区东","换绿灯板400共两块",{"$nulls":5},2]
[133,"2021-10-13","顺和路与和平街","换非机绿灯板400一块",{"$nulls":5},1,{"$nulls":99},1]
[134,"2021-10-13","天柱路与天纬二街","调整配时",{"$nulls":24},1]
[135,"2021-10-13","顺平路与木燕路","更换砝码400机动车新灯3组",3]
[136,"2021-10-13","顺平南线与燕京啤酒厂门口","换红灯板400一块",{"$nulls":5},1]
[137,"2021-10-13","顺平路与箭河路","换绿灯板400一块",{"$nulls":5},1]
[138,"2021-10-13","顺平南线与龙尹路","换机动车绿灯400一块",{"$nulls":5},1]
[139,"2021-10-13","顺平路与裕华路","换400机动车绿灯板2块",{"$nulls":5},2]
[141,"2021-10-13","左堤路水上公园","标志牌调整",{"$nulls":30},1]
[142,"2021-10-14","石园五中路口","换信号机一台",{"$nulls":19},1]
[143,"2021-10-14","裕丰路安华街","更换电池两块",{"$nulls":9},2]
[144,"2021-10-14","白马路良白路","调整配时",{"$nulls":25},1]
[145,"2021-10-14","开元路与恒兴路","换控制机一台",{"$nulls":99},1]
[146,"2021-10-14","顺和路","标志牌安装",{"$nulls":36},1]
[147,"2021-10-14","李天路机场东路","换5×1.5²线215米",{"$nulls":8},215]
[148,"2021-10-14","顺平路机场东路","井盖移位",{"$nulls":69},1]
[149,"2021-10-14","机场北街航港物流园","灯扶正",{"$nulls":23},1]
[151,"2021-10-15","中晟馨苑","调整配时",{"$nulls":24},1]
[152,"2021-10-15","白马路与赵湘路","更换太阳能300 24v绿灯板一块，太阳能控制器一个",{"$nulls":6},1,{"$nulls":11},1,{"$nulls":86},1]
[154,"2021-10-15","京沈路与天纬二街","调整配时",{"$nulls":25},1]
[155,"2021-10-15","李天路樱花园 ","灯扶正",{"$nulls":23},1]
[156,"2021-10-15","望泉北街与顺白路 ","更换维特瑞4型主机一个，从机两个",{"$nulls":20},2,{"$nulls":7},1]
[157,"2021-10-15","外环路与平沿路","机箱门关闭",{"$nulls":27},1]
[158,"2021-10-15","顺畅大道与机场北街 ","更换大功率天线2根",{"$nulls":17},2]
[159,"2021-10-15","机场北街与机场北门 ","更换太阳能主机大功率天线两根",{"$nulls":17},2]
[160,"2021-10-15","拥军路","标志牌调整",{"$nulls":30},1]
[163,"2021-10-15","天柱路与天纬二街","调整配时",{"$nulls":24},1]
[164,"2021-10-16","李木路与太平辛庄红绿灯故障","上端电源故障恢复",{"$nulls":59},1]
[165,"2021-10-16","高丽营镇","标志牌调整",{"$nulls":30},1]
[166,"2021-10-16","顺沙路与通顺路","换线5*1.5控制线80米",{"$nulls":8},80]
[167,"2021-10-16","海亦通大厦","更换电池一块",{"$nulls":9},1]
[168,"2021-10-16","昌金路与陈马路","换黄灯灯头，红灯灯头各一块400",{"$nulls":5},2]
[169,"2021-10-16","通顺路与外环路口 ","换400法马机动车灯一组",1]
[170,"2021-10-16","通顺路与南外环路 ","更换砝码400机动车新灯2组",2]
[172,"2021-10-17","南法信地铁站路口 ","摆放临时信号灯",{"$nulls":54},1,1]
[173,"2021-10-17","拥军路","标志牌调整",{"$nulls":30},1]
[174,"2021-10-17","安华街会展誉景 ","换电瓶两块",{"$nulls":9},2]
[175,"2021-10-17","南法信地铁站供电 ","临时灯已撤走",{"$nulls":55},1]
[176,"2021-10-17","昌金路与木燕路","更换400机动车绿灯板2块",{"$nulls":5},2]
[177,"2021-10-17","木燕路与木北路 ","更换机动车绿灯板2块",{"$nulls":5},2]
[179,"2021-10-17","白马路与李木路","更换400机动车绿灯板一块",{"$nulls":5},1]
[180,"2021-10-17","李木路与赵陈路","更换400机动车黄灯板一块，400机动车红灯板一块，稳压器2个",{"$nulls":5},2,{"$nulls":7},2]
[181,"2021-10-17","李木路与龙塘路","更换红灯灯板400一块",{"$nulls":5},1]
[182,"2021-10-17","顺平南线与左堤路","更换机动车绿灯灯板300一块",{"$nulls":6},1]
[183,"2021-10-17","火寺路与北木路","灯扶正",{"$nulls":23},1]
[184,"2021-10-18","右堤路下屯街 ","更换机动车绿灯灯板400一块",{"$nulls":5},1]
[185,"2021-10-18","右堤路昌金路 ","更换非机动车绿灯灯头300一块",{"$nulls":6},1,{"$nulls":98},1]
[187,"2021-10-18","昌金路牛栏山酒厂 ","更换机动车红灯灯板400一块，4a保险一个",{"$nulls":5},1,{"$nulls":6},1]
[188,"2021-10-18","京沈路与牛相路 ","更换机动车绿灯灯头400一个",{"$nulls":5},1]
[189,"2021-10-18","顺平辅线市政门口 ","更换绿灯板一块",{"$nulls":5},1]
[190,"2021-10-18","天北路与顺沙路 ","更换红色灯板400满盘机动灯板一块  绿灯灯眉变形  ",{"$nulls":5},1,{"$nulls":58},1]
[191,"2021-10-18","东安路府前街","更换机动车红灯灯板400一块",{"$nulls":5},1]
[192,"2021-10-18","通顺路龙塘路","停电恢复",{"$nulls":57},1]
[193,"2021-10-18","通顺路站前东街","更换绿灯板两块400的",{"$nulls":5},2]
[194,"2021-10-18","左堤路木燕辅路","树枝遮挡处理",{"$nulls":42},1]
[195,"2021-10-18","龙塘路李木路","换一个机箱",{"$nulls":29},1]
[196,"2021-10-18","顺沙路与绿港家园","更换非机动绿灯灯板400两块",{"$nulls":5},2,{"$nulls":99},2]
[197,"2021-10-18","顺沙路西辛南北区","更换机动绿灯灯板400一块",{"$nulls":5},1]
[198,"2021-10-18","顺白路军营街","更换电瓶两块",{"$nulls":9},2]
[200,"2021-10-19","昌金路与北韩路","变压器来电",{"$nulls":57},1]
[201,"2021-10-19","顺平路与木燕路","调整配时",{"$nulls":24},1]
[204,"2021-10-19","顺白路与外环路","调整配时",{"$nulls":25},1]
[205,"2021-10-19","顺平路与李魏路","更换机动车400红灯灯板一块",{"$nulls":5},1]
[206,"2021-10-20","顺沙路与右堤路","调整配时",{"$nulls":24},1]
[207,"2021-10-20","南外环与平沿路","更换井盖2个",{"$nulls":49},2]
[208,"2021-10-20","顺康路港馨家园西区","更换人行步道灯一组，换线30米",null,null,1,{"$nulls":5},30]
[209,"2021-10-20","石园大街与通顺路","调整配时",{"$nulls":24},1]
[210,"2021-10-20","京沈路官志卷","井盖修复",{"$nulls":75},1]
[211,"2021-10-20","京沈路官志卷","更换井盖1个",{"$nulls":49},1]
[213,"2021-10-20","顺于路与南陈路","井盖恢复",{"$nulls":75},1]
[214,"2021-10-20","顺平路与顺和路","换线5×1.5，283米",{"$nulls":8},283]
[216,"2021-10-21","石园大街与顺康路","更换井盖一套",{"$nulls":49},1]
[217,"2021-10-21","李天路与楼台村","机箱门关闭",{"$nulls":27},1]
[218,"2021-10-21","京沈路与天纬四街","机箱被撞",{"$nulls":53},1,null,1,1,1,{"$nulls":35},1]
[219,"2021-10-21","高下路昌金路","低压多用户开关跳闸",{"$nulls":59},1]
[220,"2021-10-21","京沈路天纬二街","更换400法马圆盘新灯一组",1]
[221,"2021-10-21","京沈路新国展地铁站","更换新信号机机箱",{"$nulls":29},1]
[222,"2021-10-21","天北路中航信门口","标志牌拆了2个，换了2个",{"$nulls":33},2,null,null,2]
[223,"2021-10-22","木燕辅路与左堤路","更换100AH电瓶一块",{"$nulls":9},1]
[225,"2021-10-22","京沈路火沙路","更换左转箭头灯一个",{"$nulls":6},1]
[227,"2021-10-22","右堤路与裕龙一街","机箱喷涂",{"$nulls":67},1]
[228,"2021-10-22","天北路与安富街","换振隆信号机一台",{"$nulls":19},1]
[1,"2021-10-22","天北路顺平路","手控恢复",{"$nulls":99},1]
[230,"2021-10-22","天柱东路与天纬二街","拆除红绿灯杆4根，红绿灯8组，禁停牌子10套，禁停牌杆子10根。机箱1个，信号机一台，5芯线270米",{"$nulls":31},8,null,10,{"$nulls":27},4,{"$nulls":33},270,{"$nulls":4},1,1,null,10]
[233,"2021-10-23","天北路天柱路","换线85米",{"$nulls":8},85]
[234,"2021-10-23","顺密路与木林幼儿园","换绿灯板一块400",{"$nulls":5},1]
[235,"2021-10-23","顺平路与南焦路","调整配时",{"$nulls":24},1]
[236,"2021-10-23","顺平路与龙尹辅路","更换400机动红灯板一块",{"$nulls":5},1]
[237,"2021-10-23","顺平南线与龙塘路","更换红灯板400一块",{"$nulls":5},1]
[238,"2021-10-23","龙塘路与平沿路","调整配时",{"$nulls":24},1]
[239,"2021-10-23","石园大街与顺泰路口","更换易华录信号机一台",{"$nulls":110},1,1]
[240,"2021-10-24","昌金山丁路口","更换绿灯头一个，400的24伏11瓦",{"$nulls":5},1]
[241,"2021-10-24","昌金路龙凤路","更换红灯板三块，300的12伏",{"$nulls":6},3,{"$nulls":98},3]
[242,"2021-10-24","龙塘路与大松各庄村果园南口","更换2.5×3电缆386米",{"$nulls":7},386,{"$nulls":89},386]
[243,"2021-10-24","外环线北京首都国际机场","标志牌安装",{"$nulls":36},1]
[244,"2021-10-24","顺平路李木路","调整配时",{"$nulls":24},1]
[245,"2021-10-24","胡各庄小学","新立6.5米8米支臂八楞杆两个。机动车灯，非机动车灯各两组。一体式人行过街灯两组",4,null,2,{"$nulls":99},2]
[246,"2021-10-24","昌金路与下坡屯路","新加12v100AH电瓶两块",{"$nulls":9},2]
[247,"2021-10-25","顺于路与高白路","调整配时",{"$nulls":25},1]
[248,"2021-10-25","白马路与右堤路","换5×1.5²线187米",{"$nulls":8},187]
[249,"2021-10-25","铁东路站前西街","换非机绿灯一块，400的24伏",{"$nulls":5},1,{"$nulls":99},1]
[250,"2021-10-25","新顺南大街建新东街","更换绿灯板一块，400的24伏",{"$nulls":5},1]
[252,"2021-10-25","新顺南大街仓上小区","绿灯板一块，400的，24伏",{"$nulls":5},1]
[253,"2021-10-25","新顺南大街与仓上南街口","绿灯板一块，400的，24伏",{"$nulls":5},1]
[255,"2021-10-25","昌金路北韩路","灯杆扶正",{"$nulls":90},1]
[256,"2021-10-25","白马路与木北路","灯杆扶正",{"$nulls":90},1]
[257,"2021-10-26","俸伯地铁西","换300.12伏红绿灯板各一块",{"$nulls":6},2,{"$nulls":98},2]
[258,"2021-10-26","昌金路与中干渠","补井盖一个",{"$nulls":49},1]
[259,"2021-10-26","火沙路与裕华路","电线裸漏处理"]
[260,"2021-10-26","白马路与乾安路","换线47米",{"$nulls":48},1]
[261,"2021-10-26","平沿路与外环路","井盖恢复",{"$nulls":69},1,{"$nulls":5},1]
[262,"2021-10-26","白马路与兴吉路","灯杆螺丝松动已拧紧",{"$nulls":73},1]
[263,"2021-10-26","顺平路与中干渠路","更换绿灯灯板一块",{"$nulls":5},1]
[264,"2021-10-26","陈马路与木北路","更换400整组灯一组",1]
[265,"2021-10-26","顺平路与王庄路","更换红灯灯板一块400",{"$nulls":5},1]
[266,"2021-10-26","牛栏山镇龙湖好望山社区通顺路与恒华东街东段","检测门关闭",{"$nulls":68},1]
[267,"2021-10-26","杨镇木北路宏力茶庄","换黄闪灯一个  小电瓶一个",{"$nulls":78},1,1,{"$nulls":9},1,null,1]
[null,"2021-10-26","昌金路中干渠路口","灯杆被撞",{"$nulls":37},1,{"$nulls":15},1,null,1]
[269,"2021-10-27","顺和路与林和南大街 ","更换400机动绿灯板两块",{"$nulls":5},2]
[270,"2021-10-27","顺康路与林河大街 ","更换400绿灯灯板一块",{"$nulls":5},1]
[271,"2021-10-27","通顺路林河大街 ","更换绿灯板一块，400的24伏",{"$nulls":5},1]
[272,"2021-10-27","火沙路与火寺路 ","灯眉缺失恢复",{"$nulls":106},1]
[273,"2021-10-27","京沈路与天北路","调整配时",{"$nulls":25},1]
[274,"2021-10-27","顺于路前景路","更换红灯板一块，400的24伏",{"$nulls":5},1]
[275,"2021-10-27","中干渠杨镇东大街","调整配时",{"$nulls":25},1]
[276,"2021-10-27","安泰大街与裕庆路","更换400机动车红灯板一块",{"$nulls":5},1]
[277,"2021-10-27","石井街外环路","更换红灯板一块，非机绿灯头一个，400的24伏。一组灯被刮歪已扶正",{"$nulls":5},1,1,{"$nulls":16},1,{"$nulls":81},1]
[278,"2021-10-27","安泰大街与裕安路","更换400机动车红灯板一块",{"$nulls":5},1]
[279,"2021-10-27","右堤路与任港路","更换12V100AH蓄电池3块",{"$nulls":9},3]
[280,"2021-10-28","新顺南大街建新北二社区","更换禁停牌一块",{"$nulls":33},1,null,null,1]
[281,"2021-10-28","顺和花园南门东侧","更换黄灯板机动满盘400一块",{"$nulls":5},1]
[282,"2021-10-28","南陈路毛家营","调整配时",{"$nulls":25},1]
[283,"2021-10-28"," 顺平南线东方太阳城","换机动绿灯板400一块",{"$nulls":5},1]
[284,"2021-10-28","顺和路顺和花园一区","更换振隆信号机一台",{"$nulls":19},1]
[285,"2021-10-29","天北路与安宁大街","线断恢复",{"$nulls":48},1]
[286,"2021-10-29","火沙路中央美术学院","调整配时",{"$nulls":25},1]
[287,"2021-10-29","裕庆路与安祥大街","更换红色400灯板一块",{"$nulls":5},1]
[288,"2021-10-29","裕华路与安祥街","更换绿色400非机动车灯板两块",{"$nulls":5},2,{"$nulls":99},2]
[289,"2021-10-29","木燕路与规划三路","灯眉缺失已重新安装",{"$nulls":106},1]
[290,"2021-10-29","坤安路与顺兴街","统一升高50公分",{"$nulls":90},1]
[291,"2021-10-29","木燕路与道太路","更换400  24伏黄灯板一块，24伏稳压一个",{"$nulls":5},1,{"$nulls":7},1]
[292,"2021-10-29","龙塘路与木燕辅线","更换300 绿色灯板一块",{"$nulls":6},1,{"$nulls":98},1]
[293,"2021-10-29","龙塘路与龙尹路","更换400 12伏绿灯板一块",{"$nulls":5},1]
[295,"2021-10-29","顺平南线与通顺路","标志牌拆除",{"$nulls":33},1]
[296,"2021-10-30","新顺南大街建新西街","标志牌安装3块",{"$nulls":36},3]
[297,"2021-10-30","裕华路安庆大街","上电口跳闸",{"$nulls":59},1]
[298,"2021-10-30","白马路与坤安路","换5×1.5线46米",{"$nulls":8},46]
[300,"2021-10-30","顺畅大道与顺平路口","换5×1.5线230米",{"$nulls":8},230]
[301,"2021-10-30","裕华路与安宁大街","人行灯，基础，接地，人行灯杆，人行灯两组已安装完成",null,null,2]
[304,"2021-10-31","京沈路与顺于路","换门锁2把",{"$nulls":21},2]
[305,"2021-10-31","李魏路与和新街","换1.5，5线电缆232米",{"$nulls":8},232]
[306,"2021-10-31","龙塘辅线与龙尹路","换绿灯板一块300满盘机动",{"$nulls":6},1,{"$nulls":98},1]
[307,"2021-10-31","京沈路与白马路","更换黄灯板一块，400的24伏",{"$nulls":5},1]
[308,"2021-10-31","龙塘路与木北路","更换400全红灯板一块通用型",{"$nulls":5},1]
[309,"2021-10-31","京沈路与北孙各庄","更换400的三块，其中12伏两块，15伏一块",{"$nulls":5},3]
[310,"2021-10-31","白马路与龙尹路","更换电池一块",{"$nulls":9},1]
[311,"2021-10-31","京沈路铁回路","热熔停止线",{"$nulls":80},1,{"$nulls":15},235]
[null,"2021-10-31","京沈路铁回路","热熔人行横道线",{"$nulls":96},840]
[null,"2021-10-31","京沈路铁回路","热熔车道线",{"$nulls":96},225]
[null,"2021-10-31","京沈路铁回路","热熔边缘线、路口导向标",{"$nulls":96},236]
[null,"2021-10-31","京沈路铁回路","热熔路口导向标",{"$nulls":96},1]
[{"$nulls":60},1]
["合计",null,null,null,{"$f":"SUM(E4:E270)","v":16},0,10,0,0,76,16,744,3321,23,1,0,4,4,0,0,0,5,2,7,2,2,0,6,15,11,0,{"$f":"SUM(AF4:AF270)","v":5},1,2,8,8,0,14,1,0,14,1,1,0,0,0,1,0,0,0,0,0,3,5,0,0,0,2,6,11,2,6,0,14,0,4,0,0,1,0,{"$f":"SUM(BS4:BS270)","v":0},1,2,2,0,0,0,1,0,4,0,0,4,4,1,1,0,0,0,1,0,2,0,4,4,4,0,1,0,270,1537,759,3,3,1,1,2,10,0,24,3,0,0,0,1,1]

{"sheet":"11月","index":10,"n_rows":238,"n_cols":120,"rows_kept":238,"cut":false,"hidden":false,"merged":[[0,0,0,63],[237,0,237,3]]}
["交通设施日常维护-设备设施维修纪录明细"]
[{"$nulls":4},1,2,3,4,5,6,7,8,9,10,11,12,13,14,15,16,17,18,19,20,21,22,23,24,25,26,27,28,29,30,31,32,33,34,35,36,37,38,39,40,41,42,43,44,45,46,47,48,49,50,51,52,53,54,55,56,57,58,59,60,61,62,63,64,65,66,67,68,69,70,71,72,73,74,75,76,77,78,79,80,81,82,83,84,85,86,87,88,89,90,91,92,93,94,95,96,97,98,99,100,101,102,103,104,105,106,107,108,109,110,111,112,113,114,115,116]
["序号","日期","维修位置","维修内容","更换信号灯（组）","信号灯型号（备注）","更换步道灯（组）","更换信号灯杆（根）","更换步道灯杆（根）","更换灯板（400*400块）","更换灯板（300块）","更换电源线3*4（m)","更换控制线缆5*1.5（m)","更换蓄电池（块）","更换灯围（个）","更换灯罩（个）","更换保险（个/组）","更换变压器（24v15w）（个）","更换变压器（24v11w）（个）","更换变压器（15v12w）（个）","更换太阳能模块（个）","更换天线（根）","更换过充过放（个）","更换信号机（台）","更换太阳能信号灯从机（台）","更换锁具（套）","安装手孔盖（个）","调整行车灯（套）","基本路口信号优化（处）","信号实时优化（处）","主干道绿波优化（处）","关闭信号机机箱门（个）","更换太阳能信号机主机（台）","更换信号机机箱（套）","调整标志牌（套）","拆除灯具（组）","更换太阳能晒板（块）","拆除标志牌（套）","关闭灯头（个）","更换漏电（个）","安装标志牌（套）","确认灯杆被撞（次）","安（拆）倒计时（块）","安装电表箱（个）","拆除探头线（处）","调整步道灯（处）","修剪树枝（处）","擦拭灯具（组）","更换太阳能信号机主板（块）","安装灯条（组）","安装太阳能晒板（块）","安装护栏（组）","调整灯线电源线接地线（次）","更换井盖（个）","更换相位板（块）","更换被撞灯杆（根）","放发电机应急保障(ex2500cx)（台）","发电机台班","放置临时信号灯应急保障（台）","临时信号灯台班","临时停电应急保障（次）","临时停电台班","维修太阳能信号接收器（套）","合闸","恢复信号灯检查井（次）","拆除灯杆（根）","基础施工（次）","加固机箱（台）","修复灯部件（个）","机箱部件更换修复（个）","清除小广告（个）","喷涂（次）","安装更换检查孔（个）","井盖调整修复（次）","系统校时(次）","两米接地签字（根）","扁铁（一根4米）","螺丝（套）","关闭电表箱窗户（次）","维修手孔井（套）","更换220转24电源（块）","灯杆漆面反光膜翻新（根）","安装黄闪灯（套）","更换黄闪灯（套）","热熔标线画线（组）","更换转换器（24v）（个）","抱箍（套）","调整太阳能板（次）","关闭喇叭（次）","更换空开（个）","更换线缆（2*6）m","更换太阳能接触器（个）","更换临时信号机（台）","小电瓶（12V个）","调整灯杆（根）","拆除黄闪（个）","拆除黄闪灯杆（根）","机箱被撞（次）","其他","拆除线缆（米）","热熔标线（平米）","电缆直埋保护管PE管（米）","更换变压器（12v）（个）","手动控制板恢复（个）","拆除机箱（个）","拆除信号机（个）","新立灯杆（个）","拆除标志杆（根）","安装标志杆（根）","更换非机动车灯板（个）","更换灯眉（个）","热熔标线网格线（平米）","更换左转箭头灯（个）","更换机箱门（个）","高端联网智能交通信号机（台）","高端联网智能交通信号机箱（台）","拆除太阳能板（块）","拆除太阳能主机（台）","拆除太阳能从机（台）","拆除太阳能蓄电池（块）"]
[1,"2021-11-01","裕庆路与安庆路","换井盖一个，维护井身",{"$nulls":49},1,{"$nulls":25},1]
[2,"2021-11-01","通顺路与顺恒大街","更换机动绿灯板一块400通用",{"$nulls":5},1]
[3,"2021-11-01","昌金路北府村口","维护手孔井",{"$nulls":75},1]
[4,"2021-11-01","通顺路与顺兴街","换机动绿灯板两块通用型",{"$nulls":5},2]
[5,"2021-11-01","昌金路牛栏山酒厂","更换400通用黄灯板一块",{"$nulls":5},1]
[6,"2021-11-01","昌金路与水色时光花园","调整配时",{"$nulls":25},1]
[7,"2021-11-01","顺密路与北彩南路","调整配时",{"$nulls":25},1]
[8,"2021-11-01","机场东路与杜杨北街","更换两块机动车绿灯，一块非机动绿灯灯板400",{"$nulls":5},3,{"$nulls":99},1]
[9,"2021-11-02","石园大街与顺和路","灯眉恢复",{"$nulls":106},1]
[10,"2021-11-02","石园南大街与顺和路","缺灯眉已恢复",{"$nulls":106},1]
[11,"2021-11-02","龙塘路与木北路","灯被刮歪已扶正",{"$nulls":23},1]
[12,"2021-11-02","安华街与裕丰路","更换电池一个",{"$nulls":9},1]
[13,"2021-11-02","山丁支线龙林路","调整配时",{"$nulls":24},1]
[14,"2021-11-02","京沈路与安宁大街","调整配时",{"$nulls":25},1]
[15,"2021-11-02","京沈路与火沙辅路","调整配时",{"$nulls":24},1]
[16,"2021-11-02","裕华路与吉祥花园","换400非机动车绿灯灯板一块",{"$nulls":5},1,{"$nulls":99},1]
[17,"2021-11-02","京沈路与火沙路","调整配时",{"$nulls":24},1]
[18,"2021-11-02","京沈路与安详大街","调整配时",{"$nulls":24},1]
[19,"2021-11-02","十中路与安平北街","更换400绿灯灯板一块，400红灯灯板两块，24v稳压三块",{"$nulls":5},3,{"$nulls":6},3]
[20,"2021-11-03","石园大街与顺康路","换线5×1.5线235米",{"$nulls":8},235]
[21,"2021-11-03","昌金路与中干渠路","换红色300灯板一块满盘 ",{"$nulls":6},1]
[22,"2021-11-03","昌金路与京沈路","安装禁停牌两块",{"$nulls":36},2]
[23,"2021-11-03","白马路与右堤路","调整配时",{"$nulls":24},1]
[24,"2021-11-03","天北路东侧方氏渠东桥","标志牌调整",{"$nulls":30},1]
[25,"2021-11-03","通顺路与顺丰大街","补灯眉一个",{"$nulls":106},1]
[26,"2021-11-03","东大桥环岛","时间校正",{"$nulls":70},1]
[27,"2021-11-03","北台路与寺李路","更换绿灯板400一块通用的，12V变压一个",{"$nulls":5},1,{"$nulls":92},1]
[28,"2021-11-04","港馨西区","调整配时",{"$nulls":24},1]
[29,"2021-11-04","东方太阳城","灯歪扶正",{"$nulls":23},1]
[30,"2021-11-04","顺平南线与中干渠路","更换300黄灯灯板一块，更换300黄灯非机动车灯板一块",{"$nulls":6},2,{"$nulls":98},1]
[31,"2021-11-04","顺平路杨镇大集","倒计时拆除",{"$nulls":38},1]
[32,"2021-11-04","顺平路与龙尹辅线","更换400全盘绿色通用灯板2块",{"$nulls":5},2]
[33,"2021-11-04","龙塘路苏庄村口","安装3块禁止停车牌",{"$nulls":36},3]
[34,"2021-11-05","顺恒大街与站前北街","更换两块电瓶",{"$nulls":9},2]
[35,"2021-11-05","五中","标志牌调整",{"$nulls":30},1]
[36,"2021-11-05","陈马路与赵陈路","更换400红灯灯板两块，24v稳压两个",{"$nulls":5},2,{"$nulls":7},2]
[37,"2021-11-05","青年路与民泰路","更换机动车绿灯灯板一块非机动车绿灯灯板一块，通用的",{"$nulls":5},2,{"$nulls":99},1]
[38,"2021-11-05","顺密路与中干渠路","更换机动车300绿灯灯板一块24v",{"$nulls":6},1,{"$nulls":6},1]
[39,"2021-11-05","火沙路与裕丰路","调整配时",{"$nulls":25},1]
[40,"2021-11-05","中干渠路与木叉路","更换300绿灯灯板一块24v通用",{"$nulls":6},1,{"$nulls":6},1]
[41,"2021-11-05","京沈路与火沙路","灯围修复",{"$nulls":10},1]
[42,"2021-11-05","顺沙路张喜庄路口","调整配时",{"$nulls":24},1]
[43,"2021-11-06","石园大街与顺福路","上口电跳闸",{"$nulls":53},1,null,1,1,1,null,1]
[44,"2021-11-06","火沙路与裕安路","换100Ah新电瓶两块",{"$nulls":9},2]
[45,"2021-11-06","顺平南线与中干渠路","换西侧黄灯（灯眉灯罩灯板）南侧换红灯（灯眉灯罩灯板）全是300满盘的",{"$nulls":6},2,null,null,null,2,2,{"$nulls":94},2]
[46,"2021-11-06","木林二三产业基地","换灯板400一块儿，4A保险一个",{"$nulls":5},1,{"$nulls":6},1]
[47,"2021-11-06","龙塘路与顺平南线","更换红灯灯头一个",{"$nulls":5},1]
[48,"2021-11-06","顺平路与金航西路","红绿灯拆除，拆除杆体3根，太阳能板3块，信号机一套(1主3从)，蓄电池16块，机动车灯5套，非机动车灯2套",{"$nulls":31},7,{"$nulls":29},3,{"$nulls":50},3,1,3,16]
[49,"2021-11-06","石园大街与顺福路","上口电跳闸",{"$nulls":53},1,null,1,1,1,null,1]
[50,"2021-11-06","顺平路与良张路","已恢复换4a保险一个",{"$nulls":12},1]
[51,"2021-11-06","天北路与馨园一街","摆放临时灯",{"$nulls":54},1,1,1,1]
[52,"2021-11-07","顺平南线与顺泰路","更换控制器一个，大电瓶一块",{"$nulls":9},1,{"$nulls":8},1]
[53,"2021-11-07","李堡路与平沿路","更换电瓶两块",{"$nulls":9},2]
[54,"2021-11-07","通顺路与双兴北街","摆放临时灯",{"$nulls":54},1,1,1,1]
[55,"2021-11-07","安华街与裕丰路","更换100ah劲博电瓶两块",{"$nulls":9},2]
[56,"2021-11-07","石园大街与顺福路","上口电跳闸",{"$nulls":53},1,null,1,1,1,null,1]
[57,"2021-11-07","裕安路与安泰大街","上电口跳闸",{"$nulls":53},1,null,1,1,1,null,1]
[58,"2021-11-07","石园东路与拥军路","换振隆信号机一台",{"$nulls":19},1]
[59,"2021-11-07","顺白路与外环路","更换12V劲博电瓶两块",{"$nulls":9},2]
[60,"2021-11-07","顺平辅线南彩汽车站","跳闸",{"$nulls":53},1,null,1,1,1,null,1]
[61,"2021-11-07","通顺路与双兴北街","换线169米",{"$nulls":8},169]
[62,"2021-11-07","顺平辅线俸伯地铁站","更换太阳能电瓶2块",{"$nulls":9},2]
[63,"2021-11-07","顺平路枯柳树环岛东","换临时灯",{"$nulls":54},1,1,1,1]
[64,"2021-11-08","顺平路与木北路","更换振隆信号机一台，换线325米",{"$nulls":8},325,{"$nulls":10},1]
[65,"2021-11-08","顺沙路与天北路","上电口跳闸",{"$nulls":53},1,null,1,1,1,null,1]
[66,"2021-11-08","马庄检查站东口","停电恢复",{"$nulls":53},1,null,1,1,1]
[67,"2021-11-08","天北路与怀昌路","灯罩被风刮开已恢复",{"$nulls":64},1]
[68,"2021-11-08","石门地铁口","灯罩被风刮开已恢复",{"$nulls":64},1]
[69,"2021-11-08","石园大街与顺泰路","调整配时",{"$nulls":24},1]
[70,"2021-11-08","石园大街与顺泰路","倒计时歪斜扶正",{"$nulls":94},1]
[71,"2021-11-08","南外环路与六环出口","红绿灯拆除，拆除红绿灯杆5根，红绿灯10组，信号机一台，机箱一个，拆除信号线670米左右",{"$nulls":31},10,{"$nulls":29},5,{"$nulls":33},670,{"$nulls":4},1,1]
[72,"2021-11-08","顺沙路与右堤路","换3×2.5电源线386米",{"$nulls":7},386]
[73,"2021-11-09","通顺路与幸福西街","跳闸",{"$nulls":53},1,null,1,1,1,null,1]
[74,"2021-11-09","机场北街与南岗路","摆放临时灯",{"$nulls":54},1,1,1,1]
[75,"2021-11-09","天北路与榆阳","恢复用线386米（3x4电源线）",{"$nulls":7},386]
[76,"2021-11-09","木燕路与道太路","机箱门关闭",{"$nulls":27},1]
[77,"2021-11-09","京沈路与泥河路","村里维修电已恢复",{"$nulls":53},1,null,1,1,1]
[78,"2021-11-09","通顺路与西丰路","更换绿灯板一块400通用全盘",{"$nulls":5},1]
[79,"2021-11-09","外环路与六环出口","临时信号灯已撤回",{"$nulls":55},1,1,1]
[80,"2021-11-09","机场北街与南岗路","维特瑞五型主机一台，从机三台",{"$nulls":20},3,{"$nulls":7},1]
[81,"2021-11-10","机场北街与南岗路","更换控制器一个",{"$nulls":18},1]
[82,"2021-11-10","马庄东检查站","供电恢复",{"$nulls":53},1,null,1,1,1]
[83,"2021-11-10","北小营大街与顺密路","步道灯杆拆除",{"$nulls":61},1]
[84,"2021-11-10","汇海南路与四纬路","调整配时",{"$nulls":24},1]
[85,"2021-11-10","正元南街与汇海南路","调整配时",{"$nulls":24},1]
[86,"2021-11-10","正元大街与汇海南路","调整配时",{"$nulls":24},1]
[87,"2021-11-10","顺密路与陈马路","00整组老灯换400整组新灯",1]
[88,"2021-11-10","汇海南路与富元大街","调整配时",{"$nulls":26},1]
[89,"2021-11-10","正元大街与汇海南路","调整配时",{"$nulls":26},1]
[90,"2021-11-10","正元南街与汇海南路","调整配时",{"$nulls":26},1]
[91,"2021-11-10","汇海南路与四纬路","调整配时",{"$nulls":26},1]
[92,"2021-11-10","南环六环出口","原机箱底座已处理",{"$nulls":94},1]
[93,"2021-11-10","石园大街与顺康路","更换一组人行步道灯",null,null,1]
[94,"2021-11-10","顺和路顺和花园","手控恢复自动",{"$nulls":94},1]
[95,"2021-11-10","顺白路与望泉北街","更换电瓶两块",{"$nulls":9},2]
[96,"2021-11-10","顺沙路与天北路","上电跳闸",{"$nulls":53},1,null,1,1,1,null,1]
[97,"2021-11-11","胡各庄小学","调整配时",{"$nulls":25},1]
[98,"2021-11-11","通顺路与双兴北街","监控单位合闸",{"$nulls":53},1,null,1,1,1,null,1]
[99,"2021-11-11","龙塘路苏庄桥","放置发电机",{"$nulls":52},1,1,null,null,1,1]
[100,"2021-11-11","燕京街与顺富路","机箱门关闭",{"$nulls":27},1]
[101,"2021-11-11","燕京街与顺富路","井盖恢复",{"$nulls":69},1]
[102,"2021-11-11","石园南大街与顺和路","换300法马人行灯一组，换5×1.5信号线30米",null,null,1,{"$nulls":5},30]
[103,"2021-11-11","苏庄闸桥","恢复市电供电",{"$nulls":56},1,1]
[104,"2021-11-12","顺平路莲花山滑雪场","换4型机从机一个",{"$nulls":20},1]
[105,"2021-11-12","杨镇小学","调整配时",{"$nulls":25},1]
[106,"2021-11-12","昌金路与中干渠路","更换2根8米伸臂杆的，用线165米。信号机一台。机箱一个。灯具4组",4,null,null,2,null,null,null,233,165,{"$nulls":10},1,{"$nulls":9},1,{"$nulls":31},2,{"$nulls":35},60]
[107,"2021-11-12","右堤路任港路","更换300通用灯板一块.太阳能控制盒一个",{"$nulls":6},1,{"$nulls":11},1]
[108,"2021-11-13","顺平辅线与俸伯地铁路口","更换电池两块",{"$nulls":9},2]
[109,"2021-11-13","机场东路与李天路","换线5*1.5控制线232米",{"$nulls":8},232]
[110,"2021-11-13","同心路与百盈路","恢复灯盖",{"$nulls":11},1]
[111,"2021-11-14","站前东街与通顺路","换24v稳压一个，400通用绿灯板一块",{"$nulls":5},1,{"$nulls":7},1]
[112,"2021-11-14","白良路高丽营七村","标志牌调整",{"$nulls":30},1]
[113,"2021-11-14","中关村顺义园科技创新产业基地","标志牌调整",{"$nulls":30},1]
[114,"2021-11-14","昌金路九州同泰医药","标志牌调整",{"$nulls":30},1]
[115,"2021-11-14","裕隆三区右堤路","换线285米",{"$nulls":8},285]
[116,"2021-11-15","右堤路与顺丰大街","更换振隆信号机一台",{"$nulls":19},1]
[117,"2021-11-15","顺平路与木北路","调整配时",{"$nulls":24},1]
[118,"2021-11-15","高白路与规划二路","标志牌调整",{"$nulls":30},1]
[119,"2021-11-15","顺平路与木北路","换振隆信号机一台，换线38米",{"$nulls":8},38,{"$nulls":10},1]
[120,"2021-11-15","白马路与陈马路","更换机动绿灯灯板通用400一块",{"$nulls":5},1]
[121,"2021-11-15","幸福东街幸福东区13号楼外","标志牌调整",{"$nulls":30},1]
[122,"2021-11-15","木卲路与龙尹路","灯歪扶正",{"$nulls":23},1]
[123,"2021-11-15","三家店村口","调整配时",{"$nulls":24},1]
[124,"2021-11-15","机场北街与南焦路","信号灯关闭",{"$nulls":34},1]
[125,"2021-11-16","李天路楼台村口","摆放临时灯",{"$nulls":53},1,1,1,1,1]
[126,"2021-11-16","昌金路与火寺路","机箱门修复",{"$nulls":65},1]
[127,"2021-11-16","京沈路与金马工业区","机箱门修复",{"$nulls":65},1]
[128,"2021-11-16","白马路与火寺路","调整配时",{"$nulls":24},1]
[129,"2021-11-16","通顺路与滨河北路","换人行灯",null,null,1]
[130,"2021-11-17","通顺路与顺祥街","更换电瓶两块",{"$nulls":9},2]
[131,"2021-11-17","木北路木燕辅路","安装禁止停车标志牌14块",{"$nulls":36},14]
[132,"2021-11-17","梅香街与规划路","停电恢复",{"$nulls":53},1,null,1,1,1]
[133,"2021-11-17","梅香街与规划路","摆放临时灯",{"$nulls":53},1,1,1,1,1]
[134,"2021-11-17","白马路马坡桥下","更换5×1.5线238米",{"$nulls":8},238]
[135,"2021-11-17","机场北街与金航中路","更换2块300红灯板，更换4块电瓶",{"$nulls":6},2,null,null,4]
[136,"2021-11-17","梅香街与规划路","临时灯撤离",{"$nulls":55},1,1,1]
[137,"2021-11-18","顺沙路与天北路","上电跳闸合闸",{"$nulls":53},1,null,1,1,1,null,1]
[138,"2021-11-18","南二环与平沿路","地面漏线已填平",{"$nulls":48},1]
[139,"2021-11-18","后沙峪地铁站","井盖恢复，维修手孔井",{"$nulls":69},1,{"$nulls":5},1]
[140,"2021-11-18","南二环与平沿路","井盖恢复，维修手孔井",{"$nulls":69},1,{"$nulls":5},1]
[141,"2021-11-18","安华街与裕丰路","更换两块电池",{"$nulls":9},2]
[142,"2021-11-18","顺兴街与杜杨北街","跳闸",{"$nulls":53},1,null,1,1,1,null,1]
[143,"2021-11-18","火沙路与裕园路口","换井盖一个，维护手孔井",{"$nulls":49},1,{"$nulls":25},1]
[144,"2021-11-18","裕安路与安泰大街","上口电跳闸",{"$nulls":53},1,null,1,1,1,null,1]
[145,"2021-11-18","顺兴街与杜杨北街","跳闸",{"$nulls":53},1,null,1,1,1,null,1]
[146,"2021-11-19","李桥镇政府门口","换线325米",{"$nulls":8},325]
[147,"2021-11-19","李天路楼台村口","临时灯撤离，红绿灯管线不通挖沟80m预埋240管81m做井子一个,换线",{"$nulls":7},401,{"$nulls":47},1,1,1,{"$nulls":17},1,{"$nulls":21},240]
[148,"2021-11-19","牛富路与史家口","更换天线一根",{"$nulls":17},1]
[149,"2021-11-19","昌金路与北府村","灯歪扶正",{"$nulls":23},1]
[150,"2021-11-19","白马路与后郝家疃","调整配时",{"$nulls":24},1]
[151,"2021-11-20","昌金路与京沈路","换红灯板一块400满盘机动15v15w",{"$nulls":5},1,{"$nulls":9},1]
[152,"2021-11-20","顺和鑫顺西北角","电线裸露恢复",{"$nulls":48},1]
[153,"2021-11-20","顺和鑫顺西北角","换5*1.5米线20米",{"$nulls":8},20]
[154,"2021-11-20","木北路木燕辅路","加固禁停牌安装禁停辅助牌14块",{"$nulls":36},14]
[155,"2021-11-20","昌金路北府村口","更换非机动车绿灯板通用两块，灯眉，灯裙已修复",{"$nulls":5},2,{"$nulls":4},1,{"$nulls":94},2,1]
[156,"2021-11-20","昌金路与西乌鸡","更换东西非机动400绿灯板两块通用型",{"$nulls":5},2,{"$nulls":99},2]
[157,"2021-11-20","昌金路与右堤路","更换机动红灯板300一块",{"$nulls":6},1]
[158,"2021-11-20","木燕路汉石桥湿地","灯歪扶正，修复灯围",{"$nulls":10},1,{"$nulls":12},1]
[159,"2021-11-20","顺平南线与中干渠路","灯围已修复",{"$nulls":10},1]
[160,"2021-11-20","昌金路与天北路","更换机动红灯板400通用型一块歪斜已扶正东侧更换400红灯板通用型一块  400非机动黄灯通用型一块   灯歪斜已扶正 正南侧灯眉脱落已修复",{"$nulls":5},3,{"$nulls":17},2,{"$nulls":82},1]
[161,"2021-11-20","木孙路后岭上村","人行灯杆被撞已拆除",{"$nulls":37},1,{"$nulls":23},1]
[162,"2021-11-20","通顺路与顺沙路","人行灯歪扶正",{"$nulls":41},1]
[163,"2021-11-20","龙塘路与木燕辅线","换绿灯灯板400通用一块，12v变压器一个",{"$nulls":5},1,{"$nulls":92},1]
[164,"2021-11-21","火沙路与高白路","调整配时",{"$nulls":24},1]
[165,"2021-11-21","顺沙路与高白路","灯歪扶正",{"$nulls":23},1]
[166,"2021-11-21","木孙路后岭上村","人行灯杆恢复，换线48米",{"$nulls":4},1,null,null,null,48]
[167,"2021-11-21","昌金路与李木路","上电口跳闸",{"$nulls":53},1,null,1,1,1,null,1]
[168,"2021-11-22","通顺路与顺沙路","更换保险一个",{"$nulls":12},1]
[169,"2021-11-22","高丽营镇西马拥军路","标志标牌更换"]
[170,"2021-11-22","龙塘路与木燕辅路","更换24v11w稳压器一个",{"$nulls":14},1,{"$nulls":18},1,null,null,1]
[171,"2021-11-22","木林二三产业园","换控制器一个，绿灯板一块",{"$nulls":5},1,{"$nulls":12},1]
[172,"2021-11-22","木燕路与东疃村口","摆放临时信号灯",{"$nulls":54},1,1,1,1]
[173,"2021-11-22","顺沙路与天北路","上口电跳闸",{"$nulls":53},1,null,1,1,1,null,1]
[174,"2021-11-22","李堡路首钢路口","安装新机箱一个，太阳能五型信号机从机一台，12V100AH蓄电池两块",{"$nulls":9},2,{"$nulls":10},1,{"$nulls":8},1]
[175,"2021-11-23","裕安路与安宁大街","上口电跳闸",{"$nulls":53},1,null,1,1,1,null,1]
[176,"2021-11-23","乾安路","黄闪灯扶正",{"$nulls":23},1]
[177,"2021-11-23","白马路水上公园","调整配时",{"$nulls":25},1]
[178,"2021-11-23","平岩李堡路口","更换机箱",{"$nulls":29},1]
[179,"2021-11-23","龙塘路庄子营","调整配时",{"$nulls":24},1]
[180,"2021-11-24","通顺路与大营四街","换信号机一台换 换信号线50m ",{"$nulls":8},50,{"$nulls":10},1]
[181,"2021-11-24","昌金路与南陈路","更换东侧绿灯板两块  一块非机 一块机动400通用型",{"$nulls":5},2,{"$nulls":99},1]
[182,"2021-11-24","昌金路赵全营政府","换灯眉一个",{"$nulls":106},1]
[183,"2021-11-24","昌金路与火寺路","非机动车灯已拆除",{"$nulls":31},1]
[184,"2021-11-24","火沙路与定泗路","换线170m",{"$nulls":8},170]
[185,"2021-11-24","陈马路与木北路","新做基础一个接地两根，新砌井子一个，新坐机箱一台，新立6.5m×8m八楞杆一组，新安装法马机动车灯一组非机动车灯一组灯架两套，换线70米",2,null,null,1,null,null,null,120,70,{"$nulls":20},1,{"$nulls":32},1,{"$nulls":8},2,null,null,null,1,{"$nulls":21},105]
[186,"2021-11-24","林荫路美林香槟小镇","装禁止鸣笛牌子一块",{"$nulls":36},1]
[187,"2021-11-24","高白路与于庄南街","四型从机一个",{"$nulls":20},1]
[188,"2021-11-24","通顺路与顺祥街","换天线一根",{"$nulls":17},1]
[189,"2021-11-24","陈马路与木北路","调整配时",{"$nulls":24},1]
[190,"2021-11-24","通顺路与双兴北街","上电跳闸",{"$nulls":53},1,null,1,1,1,null,1]
[191,"2021-11-25","顺沙路与天北路","上电口跳闸",{"$nulls":53},1,null,1,1,1,null,1]
[192,"2021-11-25","昌金路与火寺路","换400机动灯一组，横装，拆300机动灯两组",{"$nulls":5},1,{"$nulls":25},2]
[193,"2021-11-25","顺康路学校对面","黄闪灯扶正",{"$nulls":23},1]
[194,"2021-11-25","京沈路与良白路","调整配时",{"$nulls":24},1]
[195,"2021-11-25","昌金路与白良路","更换大电瓶两块",{"$nulls":9},2]
[196,"2021-11-25","通顺路与双兴北街","上端电源跳闸，换空开一个",{"$nulls":53},1,null,1,1,1,null,1,{"$nulls":25},1]
[197,"2021-11-25","白马路与右堤路","时间校正",{"$nulls":70},1]
[198,"2021-11-26","白马路与南陈路","调整配时",{"$nulls":25},1]
[199,"2021-11-26","滨河北口","机箱门关闭",{"$nulls":27},1]
[200,"2021-11-26","石园小学","更换东向西黄闪灯电池一块",{"$nulls":89},1]
[201,"2021-11-26","北小营大街与上宏中路","更换井盖1个",{"$nulls":49},1]
[202,"2021-11-26","木燕路与赵陈路","换线286米",{"$nulls":8},286]
[203,"2021-11-26","牛山一中门口","标志牌安装",{"$nulls":36},1]
[204,"2021-11-27","顺平路与顺畅大道","更换400机动车绿灯通用一块12v变压一个",{"$nulls":5},1,{"$nulls":92},1]
[205,"2021-11-27","木燕路东疃村口","临时红绿灯被撞，以摆放新临时红绿灯",{"$nulls":54},1,1,1,1]
[206,"2021-11-27","顺白路与望泉北街","灯歪扶正",{"$nulls":23},1]
[207,"2021-11-27","白马路与木北路","新做基础一座，从新立杆，新换线90米",null,null,null,1,null,null,null,105,90,{"$nulls":53},1,{"$nulls":34},90]
[208,"2021-11-27","安华街与裕丰路","换电瓶两块",{"$nulls":9},2]
[209,"2021-11-27","木燕路东疃村口","新做基础一个，新立灯杆一个换线40米红绿灯正常",null,null,null,1,null,null,null,65,40,{"$nulls":53},1]
[210,"2021-11-28","通顺路与石园南大街","更换机动绿灯板通用400一块",{"$nulls":5},1]
[211,"2021-11-28","天北路与天柱东路","更换灯眉三块",{"$nulls":106},3]
[212,"2021-11-28","昌金路与中干渠路","换灯眉一个",{"$nulls":106},1]
[213,"2021-11-28","顺平路与裕安路","换东侧红灯板两块400通用型换黄灯板一块400通用型",{"$nulls":5},3]
[214,"2021-11-28","龙塘路与机场东路","更换合页一副，锁一把，耳朵一个",{"$nulls":21},1]
[215,"2021-11-28","龙塘路与机场东路","更换红灯灯板通用400一块，24v变压器一个",{"$nulls":5},1,{"$nulls":7},1]
[216,"2021-11-29","牛山一中门口","安装限速30标志牌两块  解除限速30标志牌两块  拆除两块限速30标志牌",{"$nulls":36},2]
[217,"2021-11-29","石园大街与顺康路","更换保险",{"$nulls":12},1]
[218,"2021-11-29","木燕路湿地公园","上电口没电，临时摆放回转灯",{"$nulls":56},1,1]
[219,"2021-11-29","石园大街与顺康路","倒计时拆除4个",{"$nulls":38},4]
[220,"2021-11-29","顺平路与顺畅大道","调整配时",{"$nulls":25},1]
[221,"2021-11-29","安华街与裕丰路","人行灯缺灯眉已修复",{"$nulls":64},1,{"$nulls":41},1]
[222,"2021-11-30","怡馨家园","更换电瓶一块",{"$nulls":9},1]
[223,"2021-11-30","机场北街与顺畅大道","调整配时",{"$nulls":24},1]
[224,"2021-11-30","文良街与恒兴路","人行灯被撞更换",{"$nulls":37},1]
[225,"2021-11-30","顺平路莲花山滑雪场","更换4型机从机一台",{"$nulls":20},1]
[226,"2021-11-30","顺平南线与中干渠路","机箱抱箍松动恢复",{"$nulls":65},1]
[227,"2021-11-30","天北路董各庄村口","喷涂灯杆8根，灯具16组",{"$nulls":67},24]
[228,"2021-11-30","天北路董各庄桥南","喷涂灯杆7根",{"$nulls":67},7]
[229,"2021-11-30","天北路顺平路交叉口","喷涂灯杆3根",{"$nulls":67},3]
[230,"2021-11-30","天北路与安富街交叉口","喷涂灯杆3根",{"$nulls":67},3]
[231,"2021-11-30","机场中国海关门口","喷涂灯杆2根，灯具2组",{"$nulls":67},4]
[]
[]
[]
["合计",null,null,null,{"$f":"SUM(E4:E237)","v":7},0,3,5,1,42,11,1696,2816,33,6,3,7,6,1,1,0,2,4,6,7,1,0,11,20,9,4,{"$f":"SUM(AF4:AF237)","v":3},1,4,7,20,0,1,1,0,38,2,5,0,0,1,0,0,0,0,0,0,2,3,0,0,1,26,8,34,37,37,0,19,0,12,3,0,3,3,0,41,0,3,2,2,0,0,0,7,0,0,0,0,0,0,0,0,0,1,0,0,0,1,0,{"$f":"SUM(CR4:CR237)","v":0},0,0,3,670,0,495,3,0,1,1,0,0,0,9,13,0,0,0,0,0,3,1,3,16]

{"sheet":"12月","index":11,"n_rows":330,"n_cols":120,"rows_kept":330,"cut":false,"hidden":false,"merged":[[0,0,0,63],[329,0,329,3]]}
["交通设施日常维护-设备设施维修纪录明细"]
[{"$nulls":4},1,2,3,4,5,6,7,8,9,10,11,12,13,14,15,16,17,18,19,20,21,22,23,24,25,26,27,28,29,30,31,32,33,34,35,36,37,38,39,40,41,42,43,44,45,46,47,48,49,50,51,52,53,54,55,56,57,58,59,60,61,62,63,64,65,66,67,68,69,70,71,72,73,74,75,76,77,78,79,80,81,82,83,84,85,86,87,88,89,90,91,92,93,94,95,96,97,98,99,100,101,102,103,104,105,106,107,108,109,110,111,112,113,114,115,116]
["序号","日期","维修位置","维修内容","更换信号灯（组）","信号灯型号（备注）","更换步道灯（组）","更换信号灯杆（根）","更换步道灯杆（根）","更换灯板（400*400块）","更换灯板（300块）","更换电源线3*4（m)","更换控制线缆5*1.5（m)","更换蓄电池（块）","更换灯围（个）","更换灯罩（个）","更换保险（个/组）","更换变压器（24v15w）（个）","更换变压器（24v11w）（个）","更换变压器（15v12w）（个）","更换太阳能模块（个）","更换天线（根）","更换过充过放（个）","更换信号机（台）","更换太阳能信号灯从机（台）","更换锁具（套）","安装手孔盖（个）","调整行车灯（套）","基本路口信号优化（处）","信号实时优化（处）","主干道绿波优化（处）","关闭信号机机箱门（个）","更换太阳能信号机主机（台）","更换信号机机箱（套）","调整标志牌（套）","拆除灯具（组）","更换太阳能晒板（块）","拆除标志牌（套）","关闭灯头（个）","更换漏电（个）","安装标志牌（套）","确认灯杆被撞（次）","安（拆）倒计时（块）","安装电表箱（个）","拆除探头线（处）","调整步道灯（处）","修剪树枝（处）","擦拭灯具（组）","更换太阳能信号机主板（块）","安装灯条（组）","安装太阳能晒板（块）","安装护栏（组）","调整灯线电源线接地线（次）","更换井盖（个）","更换相位板（块）","更换被撞灯杆（根）","放发电机应急保障(ex2500cx)（台）","发电机台班","放置临时信号灯应急保障（台）","临时信号灯台班","临时停电应急保障（次）","临时停电台班","维修太阳能信号接收器（套）","合闸","恢复信号灯检查井（次）","拆除灯杆（根）","基础施工（次）","加固机箱（台）","修复灯部件（个）","机箱部件更换修复（个）","清除小广告（个）","喷涂（次）","安装更换检查孔（个）","井盖调整修复（次）","系统校时(次）","两米接地签字（根）","扁铁（一根4米）","螺丝（套）","关闭电表箱窗户（次）","维修手孔井（套）","更换220转24电源（块）","灯杆漆面反光膜翻新（根）","安装黄闪灯（套）","更换黄闪灯（套）","热熔标线画线（组）","更换转换器（24v）（个）","抱箍（套）","调整太阳能板（次）","关闭喇叭（次）","更换空开（个）","更换线缆（2*6）m","更换太阳能接触器（个）","更换临时信号机（台）","小电瓶（12V个）","调整灯杆（根）","拆除黄闪（个）","拆除黄闪灯杆（根）","机箱被撞（次）","其他","拆除线缆（米）","热熔标线（平米）","电缆直埋保护管PE管（米）","更换变压器（12v）（个）","手动控制板恢复（个）","拆除机箱（个）","拆除信号机（个）","新立灯杆（个）","拆除标志杆（根）","安装标志杆（根）","更换非机动车灯板（个）","更换灯眉（个）","热熔标线网格线（平米）","更换左转箭头灯（个）","更换机箱门（个）","高端联网智能交通信号机（台）","高端联网智能交通信号机箱（台）","拆除太阳能板（块）","拆除太阳能主机（台）","拆除太阳能从机（台）","拆除太阳能蓄电池（块）"]
[1,"2021-12-01","木邵路与龙林路","更换一台振隆信号机",{"$nulls":19},1]
[2,"2021-12-01","白马路与左堤路","调整配时",{"$nulls":25},1]
[3,"2021-12-01","顺平辅线与顺密路","调整配时",{"$nulls":25},1]
[4,"2021-12-01","木邵路与龙林路","灯罩修复",{"$nulls":64},1]
[5,"2021-12-01","中干渠路木茶路","灯围修复",{"$nulls":64},1]
[6,"2021-12-01","顺平南线与中干渠路","更换非机动车灯一组",1]
[7,"2021-12-01","天北路顺沙路","黄闪灯倾斜扶正",{"$nulls":23},1]
[8,"2021-12-01","天北路顺于路","灯歪扶正",{"$nulls":23},1]
[9,"2021-12-01","裕龙一区路裕龙二街","更换人行灯一套",null,null,1]
[11,"2021-12-01","机场北街金航西路","更换电池两块，机箱门已加固",{"$nulls":9},2,{"$nulls":53},1]
[12,"2021-12-02","昌金路高下路","更换井盖",{"$nulls":49},1]
[13,"2021-12-02","顺沙路98号靠近北京顺义银座村镇银行","机箱门修复",{"$nulls":65},1]
[14,"2021-12-02","胜利街道北城根街","换电池一块",{"$nulls":9},1]
[15,"2021-12-02","北城根街双星北区南门","换黄闪灯一个",{"$nulls":78},1,1,{"$nulls":11},1]
[16,"2021-12-02","顺于路南陈路","上电口供电单位掐电",{"$nulls":53},1,null,1,1,1]
[17,"2021-12-02","天北路顺平路","更换非机动车灯组一组",1]
[18,"2021-12-02","火沙路裕华路","更换机动车红灯灯头两个，绿灯灯头一个",{"$nulls":5},3]
[19,"2021-12-02","木燕路与东疃村口","废井处理",{"$nulls":94},1]
[20,"2021-12-02","七大路顺平南线","灯歪扶正",{"$nulls":23},1]
[21,"2021-12-02","顺平路与顺密路","换5×1.5线29米",{"$nulls":8},29]
[22,"2021-12-03","窑坡滑雪场","机箱被撞",{"$nulls":53},1,null,1,1,1,{"$nulls":35},1]
[23,"2021-12-03","顺平路与天北路","换非机动灯一套",1]
[24,"2021-12-03","顺平路与顺密路路口","更换400非机动车红灯板一块",{"$nulls":5},1]
[25,"2021-12-03","天北路与安富街","换非机动灯一套",1]
[26,"2021-12-03","天北路与安富街","换非机动灯一套",1]
[27,"2021-12-03","机场东路苏活路口","更换2A保险一个",{"$nulls":12},1]
[28,"2021-12-03","平沿路与李堡路路口","机箱门开已恢复",{"$nulls":27},1]
[29,"2021-12-03","机场北街保税区","更换机箱门一个，安装门锁四个",{"$nulls":21},4,{"$nulls":87},1]
[30,"2021-12-04","白马路与兴吉路","换电瓶两块，从机一台。IV机",{"$nulls":9},2,{"$nulls":10},1]
[31,"2021-12-04","苏庄桥西","线路已更改，隐患排除"]
[32,"2021-12-04","昌金高下路","更换井盖，修复井身",{"$nulls":48},1]
[33,"2021-12-05","减河北路与左堤辅路","更换人行步道灯两组",null,null,2]
[34,"2021-12-05","减河北路与通顺路","更换灯眉一个",{"$nulls":106},1]
[35,"2021-12-05","通顺路与石园南大街","更换整组红绿灯机动",1]
[36,"2021-12-05","顺沙路与高白路","灯歪扶正",{"$nulls":23},1]
[37,"2021-12-05","裕龙二街东风小学北门路口","更换黄闪灯电瓶两块",{"$nulls":89},2]
[38,"2021-12-05","仁和何派出所","划黄色网格线216平米",{"$nulls":107},216]
[39,"2021-12-05","裕隆三街顺康路","更换黄闪灯一个",{"$nulls":78},1,1,{"$nulls":11},1]
[40,"2021-12-06","高白路府前街","更换400红灯通用灯头一个",{"$nulls":5},1]
[41,"2021-12-06","北城很街双兴北区","更换电瓶一块",{"$nulls":9},1]
[42,"2021-12-06","李木路与太平辛庄","上电口跳闸",{"$nulls":53},1,null,1,1,1,null,1]
[43,"2021-12-06","天柱路天纬三街","换300红灯灯板一块",{"$nulls":6},1]
[44,"2021-12-06","顺平路与顺畅大道","更换400通用绿灯灯头一个",{"$nulls":5},1]
[45,"2021-12-06","龙塘路李桥政府","换线468米 ",{"$nulls":8},468]
[46,"2021-12-06","顺平路南辅线首都机场海关","5吨的牌子拆除13块",{"$nulls":33},13]
[47,"2021-12-06","天柱路天纬四街","更换非机动车道红灯300灯板一块15w11v稳压一个",{"$nulls":6},1,{"$nulls":8},1]
[48,"2021-12-07","京沈路与火沙路","上电口没有电，摆放临时绿灯   南北50东西25",{"$nulls":54},1,1,1,1]
[49,"2021-12-07","京密路安祥大街","摆放临时绿灯   南北50东西25",{"$nulls":54},1,1,1,1]
[50,"2021-12-07","木燕路","更换400绿灯板一块，其他红绿灯4清灰擦拭。",{"$nulls":5},1,{"$nulls":37},4]
[51,"2021-12-07","怡馨家园东门","行人过街按钮已更换",{"$nulls":64},1]
[52,"2021-12-07","火寺路与机场北线","配时调整",{"$nulls":24},1]
[53,"2021-12-07","顺康路与石园大街","更换非机动绿灯灯板一块400，24v稳压一块",{"$nulls":5},1,{"$nulls":7},1,{"$nulls":91},1]
[54,"2021-12-07","金航西路与顺平路","配时调整",{"$nulls":24},1]
[55,"2021-12-07","京沈路与安祥大街","供电恢复，临时灯撤出",{"$nulls":55},1,1,1]
[56,"2021-12-07","京沈路与铁匠营路口","供电恢复，临时灯撤出",{"$nulls":55},1,1,1]
[57,"2021-12-08","龙塘路与中干渠","修复井身",{"$nulls":75},1]
[58,"2021-12-08","京沈路与安详大街","上电口跳闸",{"$nulls":53},1,null,1,1,1,null,1]
[59,"2021-12-08","火沙路裕庆路","自行车标12个，箭头标12个分道线40平米",{"$nulls":96},40]
[60,"2021-12-08","木林客运站","灯歪扶正",{"$nulls":23},1]
[61,"2021-12-08","木林客运站","更换井盖",{"$nulls":49},1]
[62,"2021-12-08","新顺南大街","更换400红灯板一块，稳压一个",{"$nulls":5},1,{"$nulls":7},1]
[63,"2021-12-08","木燕路","信号灯擦拭",{"$nulls":43},1]
[64,"2021-12-09","顺福路与石园大街","上电口跳闸",{"$nulls":53},1,null,1,1,1,null,1]
[65,"2021-12-09","物流八街","更换前方二百米一块",{"$nulls":33},1,null,null,1]
[66,"2021-12-09","物流园六街与顺畅大道","更换前方二百米一块",{"$nulls":33},1,null,null,1]
[67,"2021-12-09","顺沙路与南焦路","更换前方一百米",{"$nulls":33},1,null,null,1]
[68,"2021-12-09","开发街","标志牌调整",{"$nulls":30},1]
[69,"2021-12-09","兴务路与龙塘路","禁停牌倾斜修复",{"$nulls":30},1]
[70,"2021-12-09","顺平南线啤酒厂东西门","更换2块非机动400灯板",{"$nulls":5},2,{"$nulls":99},2]
[71,"2021-12-09","顺平南线与啤酒厂东西门三个路口","绿波",{"$nulls":26},3]
[72,"2021-12-09","顺于路与大江洼","换控制盒一个",{"$nulls":18},1]
[73,"2021-12-09","顺平南线左堤路","灯歪扶正",{"$nulls":23},1]
[74,"2021-12-09","顺平南线与啤酒厂","喷涂机箱",{"$nulls":67},1]
[75,"2021-12-09","x013龙尹路","更换井盖1个",{"$nulls":49},1]
[76,"2021-12-10","白马路火寺路","配时加10秒",{"$nulls":25},1]
[77,"2021-12-10","晨光路与南陈路","黄闪灯拆除",{"$nulls":91},1]
[78,"2021-12-10","建道桥大厦","标志牌调整",{"$nulls":30},1]
[79,"2021-12-10","建道桥大厦","换小电瓶一块",{"$nulls":89},1]
[80,"2021-12-10","顺平辅线与俸伯地铁站","更换电瓶两块，大功率天线一个",{"$nulls":9},2,{"$nulls":7},1]
[81,"2021-12-10","拥军路顺平辅线","自行车引导标线   车标14个 箭头标14个 白色虚线 40平米 ",{"$nulls":96},40]
[82,"2021-12-10","通顺路北外环","自行车引导标线     箭头16个    自行车标16个   分道线虚线43平米 ",{"$nulls":96},43]
[83,"2021-12-10","顺义三中","自行车引导线，剪头12个，自行车标12个，分道线虚线41平米",{"$nulls":96},41]
[84,"2021-12-10","通顺路与石园大街","自行车引导线，剪头16个，自行车标16个，分道线虚线45平米",{"$nulls":96},45]
[85,"2021-12-10","新顺南大街与燕京桥","自行车引导线，剪头14个，自行车标14个，分道线虚线48平米",{"$nulls":96},48]
[86,"2021-12-10","梅沟营燕京桥","自行车引导线，剪头16个，自行车标16个，分道线虚线46平米",{"$nulls":96},46]
[87,"2021-12-10","顺平路与南焦路","自行车引导线，剪头16个，自行车标16个，分道线虚线51平米",{"$nulls":96},51]
[88,"2021-12-11","顺平路与中干渠","更换绿灯灯板一块，24v稳压一个",{"$nulls":5},1,{"$nulls":7},1]
[89,"2021-12-11","新顺南大街与府前街","自行车引导线，箭头16个，自行车标16个，分道线虚线55平米",{"$nulls":96},55]
[90,"2021-12-11","府前街与顺白路","自行车引导线，箭头16个，自行车标16个，分道线虚线48平米",{"$nulls":96},48]
[91,"2021-12-11","通顺路与幸福东西街","换易华路信号机一台",{"$nulls":110},1,1]
[92,"2021-12-11","白马路与火寺路","配时调整",{"$nulls":24},1]
[93,"2021-12-11","火寺路与同心路","更换300绿灯板一块，更换灯眉两个",{"$nulls":6},1,{"$nulls":99},2]
[94,"2021-12-12","顺平南线与啤酒厂西口","上口电跳闸",{"$nulls":53},1,null,1,1,1,null,1]
[95,"2021-12-12","天裕馨园中路安宁大街","机动车道非机动车道更换位置",{"$nulls":23},1]
[96,"2021-12-13","通顺路与大营四街","更换12v100ah蓄电池2块",{"$nulls":9},2]
[97,"2021-12-13","顺平南线右堤路","更换非机动车道绿灯灯板400通用一块机动车车道绿灯灯板400通用一块",{"$nulls":5},2,{"$nulls":99},1]
[98,"2021-12-13","石门地铁站","两个非机动灯已调正",{"$nulls":23},2]
[99,"2021-12-13","南环路与机场东路","标志拆除",{"$nulls":33},1]
[100,"2021-12-13","通顺路与复兴东街","井盖更换",{"$nulls":49},1]
[101,"2021-12-13","裕安路与安祥大街","更换12v稳压器一个",{"$nulls":98},1]
[102,"2021-12-13","特殊学校","更换电瓶一块",{"$nulls":9},1]
[103,"2021-12-13","顺于路与高白路","更换绿灯板一块，24伏变压器一个",{"$nulls":5},1,{"$nulls":7},1]
[104,"2021-12-13","西太路与北环辅路","井盖更换",{"$nulls":49},1]
[105,"2021-12-14","机场东路与李天路","井盖更换",{"$nulls":49},1]
[106,"2021-12-14","顺平路南焦路","虚接线头已接好",{"$nulls":48},1]
[107,"2021-12-14","西下路与范良路","灯歪扶正",{"$nulls":23},1]
[108,"2021-12-14","顺平路与机场东路","更换左转红灯400灯头一个",{"$nulls":5},1,{"$nulls":102},1]
[109,"2021-12-14","顺平路与顺航路","更换400左转红灯灯头一个",{"$nulls":5},1,{"$nulls":102},1]
[110,"2021-12-14","顺平路与顺航路","更换左转红灯400灯头一个",{"$nulls":5},1,{"$nulls":102},1]
[111,"2021-12-14","顺平路与顺航路","更换绿灯400灯头一个",{"$nulls":5},1]
[112,"2021-12-14","顺平路与顺航路","更换黄灯400灯头一个",{"$nulls":5},1]
[113,"2021-12-14","顺平路与顺航路","更换红灯400灯头一个",{"$nulls":5},1]
[114,"2021-12-14","顺平路与顺航路","换红灯板2块儿，绿灯板2块儿，变压器4个24V",{"$nulls":5},4,{"$nulls":7},4]
[115,"2021-12-15","白马路与龙尹路","更换电瓶两块",{"$nulls":9},2]
[115,"2021-12-15","机场北街与南焦路","信号灯拆除",{"$nulls":31},1]
[116,"2021-12-15","京沈路与顺于路","配时调整",{"$nulls":24},1]
[117,"2021-12-15","S330北京国澳酒店","全线禁停标已拆除",{"$nulls":33},1]
[118,"2021-12-15","西下路与茶良路","信号灯调整",{"$nulls":23},1]
[119,"2021-12-15","龙塘路与李魏路","停电，放置发电机",{"$nulls":52},1,1,null,null,1,1]
[120,"2021-12-15","龙塘路与李魏路","供电已恢复，发电机收回",{"$nulls":53},1,null,null,1,1]
[121,"2021-12-15","通顺路与双平西街","更换人行步道灯",null,null,1]
[122,"2021-12-15","顺平南线顺义一中","标志牌拆除",{"$nulls":33},1]
[123,"2021-12-15","顺于路与东马各庄路口","标志牌拆除",{"$nulls":33},1]
[124,"2021-12-15","开发街北京传统工艺艺术品精制传承示范园区","标志牌拆除",{"$nulls":33},1]
[125,"2021-12-16","顺白路与军营街","更换非机一红一绿，机动一红",{"$nulls":5},3,{"$nulls":99},2]
[126,"2021-12-16","右堤路与顺丰大街","信号灯被撞，临时恢复",{"$nulls":56},1,1]
[127,"2021-12-16","壁富路半壁店站收费入口","清除小广告",{"$nulls":66},1]
[128,"2021-12-16","机场东路头二营","线垂落处理",{"$nulls":48},1]
[129,"2021-12-16","顺平南线与顺义新城滨河森林公园南门口","黄闪灯拆除2个",{"$nulls":91},2]
[130,"2021-12-16","顺于路东马各庄南门","标杆拆除",{"$nulls":103},1]
[131,"2021-12-16","顺沙路恒亮加油站门口","黄闪灯拆除2个",{"$nulls":91},2]
[132,"2021-12-16","龙塘路与木燕路","更换井盖，修复井身",{"$nulls":49},1,{"$nulls":25},1]
[133,"2021-12-17","顺沙路与高白路","配时调整",{"$nulls":24},1]
[134,"2021-12-17","中国移动对面","更换人行步道灯两组",null,null,2]
[135,"2021-12-17","益麒麟门口","黄闪灯拆除",{"$nulls":91},1]
[136,"2021-12-17","顺白路与石园西街","更换手控板一个",{"$nulls":94},1]
[137,"2021-12-17","顺平南线与顺义一中门口","更换200米禁停辅助牌3块",{"$nulls":33},3,null,null,3]
[138,"2021-12-17","龙塘路与木燕路","井盖恢复，废井盖已收拾完",{"$nulls":69},1]
[139,"2021-12-17","昌金路国奥酒店","更换安装禁止停车辅助牌三块",{"$nulls":33},3,null,null,3]
[140,"2021-12-18","顺平南线与中干渠路","换机箱门",{"$nulls":109},1]
[141,"2021-12-18","昌金路与北韩路","井盖移动恢复",{"$nulls":69},1]
[142,"2021-12-18","昌金路与北韩路","修复井圈",{"$nulls":75},1]
[143,"2021-12-18","安华街与馨园六路","黄闪灯拆除2个",{"$nulls":91},2]
[144,"2021-12-18","安华街与天裕昕园中路","黄闪灯拆除1个",{"$nulls":91},1]
[145,"2021-12-18","木林小学","黄闪灯拆除1个",{"$nulls":91},1]
[146,"2021-12-18","昌金路与北府村路口","灯线裸露修复",{"$nulls":48},1]
[147,"2021-12-18","开发街花园三街","红绿灯掉落恢复",{"$nulls":48},1]
[148,"2021-12-18","机场东路与李天路","更换加重铸铁井盖一套",{"$nulls":49},1]
[149,"2021-12-18","顺密路与木林幼儿园","黄闪灯拆除1个",{"$nulls":91},1]
[150,"2021-12-18","昌金路与中干渠路","换大功率天线两根",{"$nulls":17},2]
[151,"2021-12-18","白马路水上公园","标志牌调整",{"$nulls":30},1]
[152,"2021-12-18","右堤路（白马路至昌金路）","标志牌调整23",{"$nulls":30},23]
[153,"2021-12-18","顺白路与顺平辅线","标志牌拆除",{"$nulls":33},1]
[154,"2021-12-18","顺白路","标志牌调整",{"$nulls":30},1]
[155,"2021-12-18","五中门口","更换新禁停牌子",{"$nulls":33},1,null,null,1]
[156,"2021-12-18","建新西街","更换黄闪灯一个",{"$nulls":78},1,1,{"$nulls":11},1]
[157,"2021-12-18","铁东路法医院","更换新禁停牌子",{"$nulls":33},1,null,null,1]
[158,"2021-12-18","仓上街","标志牌拆除",{"$nulls":33},1]
[159,"2021-12-18","中山北大街","更换黄闪灯一套",{"$nulls":78},1,1,{"$nulls":11},1]
[160,"2021-12-18","北城根街与中山北大街","更换黄闪灯一个",{"$nulls":78},1,1,{"$nulls":11},1]
[161,"2021-12-18","五里仓小区门口","标志牌调整",{"$nulls":30},1]
[162,"2021-12-18","铁东路火车站路口","黄闪灯拆除2个",{"$nulls":91},2]
[163,"2021-12-18","北城根街双兴南区","黄闪灯拆除",{"$nulls":91},1]
[164,"2021-12-18","顺白路与石园西路","更换黄闪灯两个",{"$nulls":78},2,2,{"$nulls":11},2]
[165,"2021-12-18","八中门口","更换黄闪灯一套",{"$nulls":78},1,1,{"$nulls":11},1]
[166,"2021-12-18","顺义火车站门口","标志牌调整",{"$nulls":30},1]
[167,"2021-12-18","顺白路与北外环","更换黄闪灯一个",{"$nulls":78},1,1,{"$nulls":11},1]
[168,"2021-12-18","八中路口","更换黄闪灯2套",{"$nulls":78},2,2,{"$nulls":11},2]
[169,"2021-12-18","顺白路与庄头村口","黄闪灯拆除2个",{"$nulls":91},2]
[170,"2021-12-18","八中门口","更换黄闪灯一套",{"$nulls":78},1,1,{"$nulls":11},1]
[171,"2021-12-19","通顺路与拥军路","标志牌调整",{"$nulls":30},1]
[172,"2021-12-19","外环路与石景街","标志牌拆除",{"$nulls":33},1]
[173,"2021-12-19","怡馨家园北门","更换黄闪灯一套",{"$nulls":78},1,1,{"$nulls":11},1]
[174,"2021-12-18","怡馨家园西门与铁东路","黄闪灯拆除",{"$nulls":91},1]
[175,"2021-12-19","北城根街与中山北大街","标志牌拆除",{"$nulls":33},1]
[176,"2021-12-19","怡馨家园南门","换黄山灯，一套",{"$nulls":78},1,1,{"$nulls":11},1]
[177,"2021-12-19","铁东路","换标志牌两块",{"$nulls":33},2,null,null,2]
[178,"2021-12-19","顺白路与外环路","更换黄闪灯一个",{"$nulls":78},1,1,{"$nulls":11},1]
[179,"2021-12-18","石园大街与仁和花园二区","黄闪灯拆除",{"$nulls":91},1]
[180,"2021-12-19","建新东街建新小区","标志牌拆除",{"$nulls":33},1]
[181,"2021-12-18","石园大街与仁和花园一区","黄闪灯拆除",{"$nulls":91},1]
[182,"2021-12-19","拥军路东风小学北门","标志牌拆除",{"$nulls":33},1]
[183,"2021-12-18","顺义公园东门","黄闪灯拆除",{"$nulls":91},1]
[184,"2021-12-19","顺平辅线与裕龙二街","更换黄闪灯一套",{"$nulls":78},1,1,{"$nulls":11},1]
[185,"2021-12-19","西环北环交叉口","标志牌拆除",{"$nulls":33},1]
[186,"2021-12-18","顺义北外环","拆除黄闪灯6个，更换黄闪灯2个",{"$nulls":78},2,2,{"$nulls":11},6]
[187,"2021-12-19","石景街与外环路","更换禁停标志",{"$nulls":33},1,null,null,1]
[188,"2021-12-19","西二环与新二中","更换禁停标志",{"$nulls":33},1,null,null,1]
[189,"2021-12-19","白马路与木燕路","换线168米",{"$nulls":8},168]
[190,"2021-12-19","府前街杭州银行门口","换黄闪灯一套",{"$nulls":78},1,1,{"$nulls":11},1]
[191,"2021-12-19","顺义三中东门","换黄闪灯一套",{"$nulls":78},1,1,{"$nulls":11},1]
[192,"2021-12-19","府前街与法院门口","换黄闪灯一套",{"$nulls":78},1,1,{"$nulls":11},1]
[193,"2021-12-19","机场东路与李天路","机场东路与李天路机箱门丢失已修复",{"$nulls":109},1]
[194,"2021-12-19","顺康路与石园大街西口","换禁止鸣笛标牌一块",{"$nulls":33},1,null,null,1]
[195,"2021-12-19","石园大街与石园北区","禁止鸣笛标志拆除一块",{"$nulls":33},1]
[196,"2021-12-20","南陈路石家营","标志拆除（杆和牌）",{"$nulls":33},1]
[197,"2021-12-20","通顺路与顺丰大街","更换绿灯灯板一块",{"$nulls":5},1]
[198,"2021-12-20","拥军路与东风小学门口","更换禁停牌一块",{"$nulls":33},1,null,null,1]
[199,"2021-12-20","拥军路与顺平辅线","更换禁停牌一块",{"$nulls":33},1,null,null,1]
[200,"2021-12-20","外环路铁道桥西","更换黄闪两套"]
[201,"2021-12-20","石园南大街石园市场门口","更换电瓶两块",{"$nulls":9},2]
[202,"2021-12-20","通顺路与白马路","新立标杆一根，专右牌子，停车让行牌子各一块",{"$nulls":36},2]
[203,"2021-12-21","机场北街与保税区路口","换箭头灯两套",{"$nulls":5},2,{"$nulls":102},2]
[204,"2021-12-21","机场北街与金航中路","更换非机动红绿灯2组整灯，机动车红绿灯2组整灯",4,{"$nulls":104},2]
[205,"2021-12-21","昌金路与陈家坨","拆除黄闪灯一个",{"$nulls":91},1]
[206,"2021-12-21","木邵路与龙湾屯路口","更换禁停牌一个",{"$nulls":33},1,null,null,1]
[207,"2021-12-21","火沙路与裕园路","拆除黄闪灯一个",{"$nulls":91},1]
[208,"2021-12-21","火沙路与边河路","让行牌已拆除",{"$nulls":33},1]
[209,"2021-12-21","火沙路与边河路","让行牌右转专用牌已拆除",{"$nulls":33},1]
[210,"2021-12-21","高丽营中学路口","灯线裸露处理",{"$nulls":48},1]
[211,"2021-12-21","安庆北街与十中路","倒计时屏拆除",{"$nulls":38},1]
[212,"2021-12-21","顺密路东沿头村口","更换黄闪灯一个",{"$nulls":78},1,1,{"$nulls":11},1]
[213,"2021-12-21","新园三街","拆除黄闪灯一个",{"$nulls":91},1]
[214,"2021-12-21","西马坡街中晟馨苑","安装禁止停车牌2块",{"$nulls":36},2]
[215,"2021-12-22","天柱路天纬四街","更换6安保险一个",{"$nulls":12},1]
[217,"2021-12-22","西马坡街中晟馨苑","安装禁止停车牌200米辅助牌各9块",{"$nulls":36},9]
[218,"2021-12-22","顺白路与顺于路","放发电机电表信号灯临时供电",{"$nulls":52},1,1,null,null,1,1]
[219,"2021-12-22","顺白路与顺于路","发电机撤离",{"$nulls":53},1,null,null,1,1]
[220,"2021-12-22","西外环与石景街路口","放发电机",{"$nulls":52},1,1,null,null,1,1]
[221,"2021-12-22","顺平路与环镇东路（杨镇市场，杨镇中心小学）","灯罩关闭",{"$nulls":34},1]
[222,"2021-12-22","高白路与首开国际路口","机箱歪斜扶正",{"$nulls":65},1]
[223,"2021-12-22","高白路与首开国际路口","绕灯杆钢丝绳拆除",{"$nulls":94},1]
[224,"2021-12-22","木孙路与龙塘辅线","灯倾斜纠正",{"$nulls":23},1]
[225,"2021-12-22","火沙路与边河路","标杆拆除",{"$nulls":103},1]
[226,"2021-12-22","李木路与太平路南","机箱修复",{"$nulls":65},1]
[227,"2021-12-22","顺于路与前景路","配时调整",{"$nulls":24},1]
[228,"2021-12-22","通顺路与顺丰大街","更换电瓶两块",{"$nulls":9},2]
[229,"2021-12-22","正元大街与鑫桥中路","配时调整",{"$nulls":24},1]
[230,"2021-12-22","通顺路与幸福西区","系统校时",{"$nulls":70},1]
[231,"2021-12-22","通顺路与便民街东口","系统校时",{"$nulls":70},1]
[232,"2021-12-22","京沈路与天北路","机箱门关闭",{"$nulls":27},1]
[233,"2021-12-23","顺于路与前景路","配时调整",{"$nulls":24},1]
[234,"2021-12-23","龙塘路与机场东路","换线167米",{"$nulls":8},167]
[235,"2021-12-23","北斗路与正元南街","上电口跳闸",{"$nulls":56},1,1,null,1]
[236,"2021-12-23","顺沙路与高白路","更换两组400机动灯 拆四组",2,{"$nulls":30},4]
[237,"2021-12-23","顺沙路与天北路","更换两个400绿灯灯板24v稳压两个",{"$nulls":5},2,{"$nulls":7},2]
[238,"2021-12-23","顺白路与军营街","更换电瓶4块，机动红400灯板一块",{"$nulls":5},1,null,null,null,4]
[239,"2021-12-23","南陈路毛家营北","标志牌调整",{"$nulls":30},1]
[240,"2021-12-23","右堤路与顺丰大街","安装信号灯杆一根    砝码灯具两组   新做基础一个",2,null,null,1,{"$nulls":98},1]
[241,"2021-12-23","天北路与高张路","拆除让停牌一个含标杆",{"$nulls":33},1]
[242,"2021-12-23","昌金路与腾仁路","拆黄闪灯一套",{"$nulls":91},1]
[243,"2021-12-24","木燕路与南辛庄户村西口","拆黄闪灯一套",{"$nulls":91},1]
[244,"2021-12-24","木燕路于地村村口","两个黄闪灯已拆除",{"$nulls":91},2]
[245,"2021-12-24","七大路与大龙路交叉口，（龙庭侯路口）","拆除让停牌一个含标杆",{"$nulls":103},1]
[246,"2021-12-24","南法信中学","两个黄闪灯已拆除",{"$nulls":91},2]
[247,"2021-12-24","北务西路（王各庄南路）与青年路","南北各一个让停牌，已拆出",{"$nulls":33},2]
[248,"2021-12-24","南辛庄户西路","让停牌已拆除含杆",{"$nulls":33},1,{"$nulls":69},1]
[249,"2021-12-24","通顺路大营四街","更换太阳能控制盒一个",{"$nulls":18},1]
[250,"2021-12-24","李魏路与李遂小学路","让停牌已拆除含杆",{"$nulls":33},1,{"$nulls":69},1]
[251,"2021-12-24","李魏路与东营西营村村口","两根让停牌含杆",{"$nulls":33},2,{"$nulls":69},2]
[252,"2021-12-24","李魏路与东营西营村村口","拆除两个黄闪灯",{"$nulls":91},2]
[253,"2021-12-24","龙塘路庄子营","黄闪灯拆除",{"$nulls":91},1]
[254,"2021-12-24","右堤路与顺丰大街","换了100米线",{"$nulls":8},100]
[255,"2021-12-25","顺平南辅线与金岸路（南岗路）","更换电瓶2块",{"$nulls":5},2]
[256,"2021-12-25","北木路与赵李路","让停牌已拆除",{"$nulls":33},1]
[257,"2021-12-25","京承高速宽沟路","东南西北方向黄闪灯已拆除，4套黄闪灯拆除",{"$nulls":91},4]
[258,"2021-12-25","怀昌路与北石槽镇政府","东侧一个黄闪灯已拆除",{"$nulls":91},1]
[259,"2021-12-25","怀昌路与高下路","东西双向黄闪灯已拆除",{"$nulls":91},2]
[260,"2021-12-25","板西路与天承大街","临时灯",{"$nulls":54},1,1,1,1]
[261,"2021-12-26","板西路与天承大街","临时灯已撤除",{"$nulls":55},1,1,1]
[262,"2021-12-26","昌金路与天北路","更换法码400圆盘机动车灯一组",1]
[263,"2021-12-26","乾安路与顺祥街","灯围脱落恢复",{"$nulls":64},1]
[264,"2021-12-26","昌金路与天北路","更换法码400圆盘机动车灯一组",1]
[265,"2021-12-26","通顺路与顺丰大街","机箱门关闭",{"$nulls":27},1]
[266,"2021-12-26","通顺路与外环路","更换法码400箭头机动车灯一组",1]
[267,"2021-12-26","通顺路与北环路","南北更换黄闪灯2",{"$nulls":78},2,2,{"$nulls":11},2]
[268,"2021-12-26","昌金路与天北路","换红灯板，绿灯板各一块儿，稳压器2个，24V15V",{"$nulls":5},2,{"$nulls":7},2]
[269,"2021-12-26","顺平南线与吴雄寺路口","更换黄闪灯一套",{"$nulls":78},1,1,{"$nulls":11},1]
[270,"2021-12-27","顺平南线与左堤路","上电口跳闸",{"$nulls":56},1,1,null,1]
[271,"2021-12-27","顺密路与左堤路","禁止货车直行牌被刮歪扶正",{"$nulls":30},1]
[272,"2021-12-27","昌金路与天北路","换通用红灯板一块400  24V变压器一个",{"$nulls":5},1,{"$nulls":7},1]
[273,"2021-12-27","国展地铁站C口","换黄灯一个 ",{"$nulls":5},1]
[274,"2021-12-27","东安路与东兴路","让行牌已拆除，含杆",{"$nulls":33},1,{"$nulls":69},1]
[275,"2021-12-27","白马路水上公园","禁停牌褪色已拆除",{"$nulls":33},1]
[276,"2021-12-27","白马路水上公园","禁停牌褪色已拆除",{"$nulls":33},1]
[277,"2021-12-27","环镇东路","让行牌已拆除，含杆",{"$nulls":33},1,{"$nulls":69},1]
[278,"2021-12-27","火沙路与高白路","配时调整",{"$nulls":25},1]
[279,"2021-12-27","环镇路","标志牌已矫正",{"$nulls":30},1]
[280,"2021-12-27","机场东路与四纬路","配时调整",{"$nulls":25},1]
[281,"2021-12-27","机场北街与顺畅大道","更换电瓶三块",{"$nulls":9},3]
[282,"2021-12-28","顺平路与龙尹路","更换电瓶一块",{"$nulls":9},1]
[283,"2021-12-28","国展地铁站","更换整灯一组",1]
[284,"2021-12-28","天北路顺平路","新建人行灯六组      灯杆 四根      基础4座      地下管线100m    信号线1520m ",null,null,6,null,4,null,null,128,1520]
[285,"2021-12-28","天北路董各庄路口","新建人行灯两组   灯杆两根   基础两座    管线25m    信号线230m ",null,null,2,null,2,null,null,30,230]
[286,"2021-12-28","南法信南路，南白路，炫丽方门","禁停牌刮歪已扶正共六组",{"$nulls":30},6]
[287,"2021-12-28","燕京啤酒厂","换电缆停电到四点，临时灯",{"$nulls":53},1,1,1,1,1]
[288,"2021-12-28","昌金路与左堤路","上口电跳闸",{"$nulls":56},1,1,null,1]
[289,"2021-12-28","昌金路与后王村北口","更换信号机一台，换线308米",{"$nulls":8},308]
[290,"2021-12-28","杨镇中心小学 ","黄闪灯拆除",{"$nulls":91},1]
[291,"2021-12-29","前景路与望泉北街 ","机箱门关闭",{"$nulls":27},1]
[292,"2021-12-29","小天竺一街 ","让行牌拆除含杆",{"$nulls":33},1,{"$nulls":69},1]
[293,"2021-12-29","乾安路与首师大附小","更换黄闪灯一套",{"$nulls":78},1,1,{"$nulls":11},1]
[294,"2021-12-29","杨镇中心小学 ","拆除黄闪灯三套",{"$nulls":91},3]
[295,"2021-12-29","火寺路与北木路","换新井盖一套",{"$nulls":49},1]
[296,"2021-12-29","天北路与中航信路口 ","拆除2个黄闪灯",{"$nulls":91},2]
[297,"2021-12-29","物流园六街路口与顺驰路口 ","拆除4个黄闪灯",{"$nulls":91},4]
[298,"2021-12-29","顺泰与平沿路 ","禁鸣牌褪色已拆除",{"$nulls":33},1]
[299,"2021-12-29","顺于路与火寺路","禁停牌矫正",{"$nulls":30},1]
[300,"2021-12-29","顺沙路与火寺路","主牌安装完成",{"$nulls":36},1]
[301,"2021-12-29","站前北街","黄闪灯拆除",{"$nulls":91},1]
[302,"2021-12-29","啤酒厂","停电",{"$nulls":53},1,1,1,1,1]
[303,"2021-12-30","中干渠双阳小区路口，把慢拆了","慢标志拆除，含杆",{"$nulls":33},1,{"$nulls":69},1]
[304,"2021-12-30","顺密路中干渠","换电瓶两块",{"$nulls":9},2]
[305,"2021-12-30","昌金路下坡屯","换两块电池 组",{"$nulls":9},2]
[306,"2021-12-30","木燕路与城市学院南门路口","拆除黄闪灯一个",{"$nulls":91},1]
[307,"2021-12-30","平沿路龙塘路","废线拆除",{"$nulls":94},1]
[308,"2021-12-30","西大坨桥北侧","让停牌已拆除含杆",{"$nulls":33},1,{"$nulls":69},1]
[309,"2021-12-30","顺平南线一中路口","更换400通用非机动车绿灯灯板一块",{"$nulls":5},1]
[310,"2021-12-30","右堤路与李堡路","机箱松动修复",{"$nulls":65},1]
[311,"2021-12-30","通顺路与李桥村","让停牌已拆除含杆",{"$nulls":33},1,{"$nulls":69},1]
[312,"2021-12-30","顺密路与中干渠","机箱门丢失恢复",{"$nulls":109},1]
[313,"2021-12-30","北外环路西向东路南侧","禁止掉头标牌已拆除",{"$nulls":33},1,{"$nulls":69},1]
[314,"2021-12-30","中干渠路与木茶路","黄闪灯拆除",{"$nulls":91},1]
[315,"2021-12-31","赵马庄路北务马庄村","换黄闪灯一套",{"$nulls":78},1,1,{"$nulls":11},1]
[316,"2021-12-31","高下路与昌金路","换井盖一套",{"$nulls":49},1]
[317,"2021-12-31","顺航路","拆除录像采集附标13块，图像采集附标一块",{"$nulls":33},14]
[318,"2021-12-31","顺平路与南焦路","禁停杆喷漆",{"$nulls":67},1]
[319,"2021-12-31","富元大街与鑫桥中路","换线286米",{"$nulls":8},286]
[320,"2021-12-31","耿丹学院东门","拆除两个黄闪灯",{"$nulls":91},2]
[321,"2021-12-31","昌金路与赵全营镇政府","拆除黄闪灯两个",{"$nulls":91},2]
[322,"2021-12-31","火寺路与同心路","更换300红灯灯板一块",{"$nulls":6},1]
[323,"2021-12-31","富元大街与鑫桥中路","更换人行灯一套",null,null,1]
[324,"2021-12-31","新顺南大街仓上小区西门","更换人行步道灯四组",null,null,4]
[]
[]
[]
["合计",null,null,null,{"$f":"SUM(E4:E329)","v":18},0,19,1,6,41,4,158,3276,29,0,0,2,13,0,1,0,3,2,1,1,4,0,12,8,5,3,4,0,0,41,5,0,80,1,0,33,0,1,0,0,0,0,5,0,0,0,0,6,10,0,0,3,13,5,14,23,23,0,7,0,0,0,1,{"$f":"SUM(BQ4:BQ329)","v":4},4,1,2,0,2,2,0,0,0,0,3,0,0,27,27,0,0,0,0,0,0,0,0,0,3,0,87,0,1,4,0,457,0,1,0,0,0,1,14,0,8,3,216,5,4,1,1,0,0,0,0]